BEGIN:VCALENDAR
VERSION:2.0
PRODID:-//Herzkind e.V. - ECPv6.15.20//NONSGML v1.0//EN
CALSCALE:GREGORIAN
METHOD:PUBLISH
X-ORIGINAL-URL:https://www.herzkind.de
X-WR-CALDESC:Veranstaltungen für Herzkind e.V.
REFRESH-INTERVAL;VALUE=DURATION:PT1H
X-Robots-Tag:noindex
X-PUBLISHED-TTL:PT1H
BEGIN:VTIMEZONE
TZID:Europe/Berlin
BEGIN:DAYLIGHT
TZOFFSETFROM:+0100
TZOFFSETTO:+0200
TZNAME:CEST
DTSTART:20230326T010000
END:DAYLIGHT
BEGIN:STANDARD
TZOFFSETFROM:+0200
TZOFFSETTO:+0100
TZNAME:CET
DTSTART:20231029T010000
END:STANDARD
BEGIN:DAYLIGHT
TZOFFSETFROM:+0100
TZOFFSETTO:+0200
TZNAME:CEST
DTSTART:20240331T010000
END:DAYLIGHT
BEGIN:STANDARD
TZOFFSETFROM:+0200
TZOFFSETTO:+0100
TZNAME:CET
DTSTART:20241027T010000
END:STANDARD
BEGIN:DAYLIGHT
TZOFFSETFROM:+0100
TZOFFSETTO:+0200
TZNAME:CEST
DTSTART:20250330T010000
END:DAYLIGHT
BEGIN:STANDARD
TZOFFSETFROM:+0200
TZOFFSETTO:+0100
TZNAME:CET
DTSTART:20251026T010000
END:STANDARD
END:VTIMEZONE
BEGIN:VEVENT
DTSTART;TZID=Europe/Berlin:20240403T190000
DTEND;TZID=Europe/Berlin:20240403T190000
DTSTAMP:20260422T122712
CREATED:20240228T101006Z
LAST-MODIFIED:20240228T101006Z
UID:4532-1712170800-1712170800@www.herzkind.de
SUMMARY:Kontaktgruppe Dresden: Regelmäßiger Stammtisch
DESCRIPTION:Die Kontaktgruppe Dresden trifft sich regelmäßig jeden ersten Mittwoch im Monat zum Stammtisch. In harmonischer Atmosphäre kann gemeinsam gelacht und manchmal auch geweint  und sich ausgetauscht werden. \nKommt vorbei und lernt die Kontaktgruppe Dresden kennen. \n  \n03. April 2024 um 19 Uhr \nAlex am Schloß\nSchloßstraße 7-9\n01067 Dresden \nVoranmeldung über: \nHeike Wessel\nTel.: 0351 88891730\nkinderherzen@t-online.de \noder Katharina Krieg\nTel.: 0170 2820812\nkrieg-katharina@gmx.de
URL:https://www.herzkind.de/termin/kontaktgruppe-dresden-regelmaessiger-stammtisch-2/
LOCATION:Alex am Schloß\, Schloßstraße 7-9\, Dresden\, 01067
ATTACH;FMTTYPE=image/png:https://www.herzkind.de/medien/2024/02/stammtisch-kontaktgruppe-dresden.png
END:VEVENT
BEGIN:VEVENT
DTSTART;TZID=Europe/Berlin:20240404T200000
DTEND;TZID=Europe/Berlin:20240404T200000
DTSTAMP:20260422T122712
CREATED:20240318T103611Z
LAST-MODIFIED:20240318T103611Z
UID:4600-1712260800-1712260800@www.herzkind.de
SUMMARY:Herzkind e. V. zu Gast bei Radio Okerwelle
DESCRIPTION:Herzkind geht live auf Sendung – am 04.04.2024 von 20-21 Uhr \nWir freuen uns sehr über die Einladung von Radio Okerwelle zur Vorstellung unseres Vereins. \nNeben interessanten Details über die Gründungsgeschichte und die Arbeit von Herzkind erfahrt ihr auch mehr über unsere Kontaktgruppen. Ganz besonders froh sind wir darüber\, dass wir auch eine Herzkindmama und eine Erwachsene mit angeborenem Herzfehler gewinnen konnten\, die über ihre Erfahrungen berichten werden. \n  \nIhr denkt über eine Mitgliedschaft bei uns nach\, möchtet mehr über den Verein erfahren oder euch in Kontaktgruppen austauschen? \n Dann seid gespannt und schaltet ein auf Radio Okerwelle 104\,6 \nIhr seid nicht aus der Region Braunschweig? Kein Problem – Zuhören könnt ihr auch über die APP „Okerwelle 104\,6“ oder über die Website https://okerwelle.de/. Dort findet ihr unten einen Button zum „live hören“.
URL:https://www.herzkind.de/termin/herzkind-e-v-zu-gast-bei-radio-okerwelle/
LOCATION:Radio Okerwelle 104\,6
ATTACH;FMTTYPE=image/png:https://www.herzkind.de/medien/2024/03/herzkind-e.-v.-auf-sendung.png
END:VEVENT
BEGIN:VEVENT
DTSTART;TZID=Europe/Berlin:20240405T190000
DTEND;TZID=Europe/Berlin:20240405T190000
DTSTAMP:20260422T122712
CREATED:20240320T114625Z
LAST-MODIFIED:20240320T114625Z
UID:4623-1712343600-1712343600@www.herzkind.de
SUMMARY:Kontaktgruppe Hannover: Stärke dich herzgerecht – Mama & Papa müssen auch essen
DESCRIPTION:Der Aprilstammtisch der Kontaktgruppe Hannover findet hybrid statt – vor Ort in der MHH Kinderklinik und online. \nDieses Mal steht im Vortrag von Denise Hellmann die Ernährung der Eltern im Mittelpunkt.\n„Jeder kennt es\, man ist so mit dem Kind und dem Alltag beschäftigt\, dass man sich und seine Bedürfnisse vernachlässigt.\nAber an diesem Tag nicht!“\, meint Kontaktgruppenleiterin Anja Eichentopf: „Sie sind der Motor und Ihnen muss es auch gut gehen!“ \nDie Kontaktgruppe freut sich auf einen anregenden Austausch mit Ihnen! \n\n05. April 2024 \n19 Uhr \nUm Anmeldung wird gebeten: A.eichentopf@web.de oder 015127025794 \nDen genauen Veranstaltungsort oder die Daten für den Onlinezugang erhalten Sie bei der Anmeldung.
URL:https://www.herzkind.de/termin/kontaktgruppe-hannover-staerke-dich-herzgerecht-mama-papa-muessen-auch-essen/
LOCATION:MHH Kinderklinik Hannover\, Carl-Neuberg-Straße 1\, Hannover\, 30625
ATTACH;FMTTYPE=image/jpeg:https://www.herzkind.de/medien/2024/03/kg-hannover-ernaehrung-752x630-1.jpg
END:VEVENT
BEGIN:VEVENT
DTSTART;TZID=Europe/Berlin:20240427T160000
DTEND;TZID=Europe/Berlin:20240427T160000
DTSTAMP:20260422T122712
CREATED:20240320T113047Z
LAST-MODIFIED:20240320T115127Z
UID:4619-1714233600-1714233600@www.herzkind.de
SUMMARY:Kontaktgruppe Hannover: Bouldern für Herz- und Geschwisterkinder mit anschließendem Grillen
DESCRIPTION:Die Kontaktgruppe Hannover freut sich sehr\, denn nach 5 Jahren ist es jetzt soweit und die Gruppe kann endlich wieder ein Boulder-Event für alle Herzkinder und Geschwisterkinder ab 8 Jahren anbieten. \nHabt Mut!\nTraut Euch!\nWachst über euch hinaus!\nIhr könnt alles schaffen! \n27. April 2024 \n16 – 17:45 Uhr mit anschließendem Grillen \nNur mit Voranmeldung unter a.eichentopd@web.de oder 0179 758 15 14 \nBitte im Vorfeld beim Kardiologen nachfragen\, welche Besonderheiten es zu beachten gibt und bei der Anmeldung gerne gleich mitteilen.
URL:https://www.herzkind.de/termin/kontaktgruppe-hannover-bouldern-fuer-herz-und-geschwisterkinder-mit-anschliessendem-grillen/
LOCATION:escaladrome Hannover\, Am Mittelfelde 39\, Hannover\, 30519
ATTACH;FMTTYPE=image/jpeg:https://www.herzkind.de/medien/2024/03/kg-hannover-752x630-1.jpg
END:VEVENT
END:VCALENDAR