BEGIN:VCALENDAR
VERSION:2.0
PRODID:-//Herzkind e.V. - ECPv6.15.20//NONSGML v1.0//EN
CALSCALE:GREGORIAN
METHOD:PUBLISH
X-WR-CALNAME:Herzkind e.V.
X-ORIGINAL-URL:https://www.herzkind.de
X-WR-CALDESC:Veranstaltungen für Herzkind e.V.
REFRESH-INTERVAL;VALUE=DURATION:PT1H
X-Robots-Tag:noindex
X-PUBLISHED-TTL:PT1H
BEGIN:VTIMEZONE
TZID:Europe/Berlin
BEGIN:DAYLIGHT
TZOFFSETFROM:+0100
TZOFFSETTO:+0200
TZNAME:CEST
DTSTART:20230326T010000
END:DAYLIGHT
BEGIN:STANDARD
TZOFFSETFROM:+0200
TZOFFSETTO:+0100
TZNAME:CET
DTSTART:20231029T010000
END:STANDARD
BEGIN:DAYLIGHT
TZOFFSETFROM:+0100
TZOFFSETTO:+0200
TZNAME:CEST
DTSTART:20240331T010000
END:DAYLIGHT
BEGIN:STANDARD
TZOFFSETFROM:+0200
TZOFFSETTO:+0100
TZNAME:CET
DTSTART:20241027T010000
END:STANDARD
BEGIN:DAYLIGHT
TZOFFSETFROM:+0100
TZOFFSETTO:+0200
TZNAME:CEST
DTSTART:20250330T010000
END:DAYLIGHT
BEGIN:STANDARD
TZOFFSETFROM:+0200
TZOFFSETTO:+0100
TZNAME:CET
DTSTART:20251026T010000
END:STANDARD
END:VTIMEZONE
BEGIN:VEVENT
DTSTART;TZID=Europe/Berlin:20240301T190000
DTEND;TZID=Europe/Berlin:20240301T190000
DTSTAMP:20260422T135431
CREATED:20240227T133446Z
LAST-MODIFIED:20240227T133446Z
UID:4520-1709319600-1709319600@www.herzkind.de
SUMMARY:Hybrid Event: Stammtisch mit Vortrag zum Thema "Ernährung herzgesund und mundgerecht"
DESCRIPTION:Die Kontaktgruppe Hannover freut sich am Freitag\, dem 01. März 2024\, um 19 Uhr auf einen Vortrag von Denise Hellmann zum Thema „Ernährung herzgesund und mundgerecht“. Hellmann beschäftigt sich bei Ihrem Vortrag mit den drei Schwerpunkten „Eiweißbedarf Herzgerecht“\, „Gemüse Kindergerecht“ und „Antibiotika Auswirkungen“. \nAm Vortrag kann sowohl direkt vor Ort als auch online teilgenommen werden. \nTeilnahme in Präsenz: \nAnmeldung über\nA.eichentopf@web.de oder 01797581514 anmelden\n \nMHH-Kinderklinik\nCarl-Neunberg- Str. 1\n30625 Hannover\n \nTeilnahme online: Hier klicken \nFoto: http://stock.adobe.com
URL:https://www.herzkind.de/termin/hybrid-event-stammtisch-mit-vortrag-zum-thema-ernaehrung-herzgesund-und-mundgerecht/
LOCATION:MHH-Kinderklinik\, Carl-Neunberg- Str. 1\, Hannover\, 30625
ATTACH;FMTTYPE=image/jpeg:https://www.herzkind.de/medien/2024/02/adobestock_649897159-scaled.jpeg
END:VEVENT
BEGIN:VEVENT
DTSTART;TZID=Europe/Berlin:20240302T180000
DTEND;TZID=Europe/Berlin:20240302T180000
DTSTAMP:20260422T135431
CREATED:20240227T131115Z
LAST-MODIFIED:20240227T131226Z
UID:4512-1709402400-1709402400@www.herzkind.de
SUMMARY:Große Klänge für kleine Herzen:  Bigband Presto spielt Benefizkonzert für UMG-Herzkinder
DESCRIPTION:Benefizkonzert des Elternvereins GEKKO (Herzkind e. V.) mit Bigband Presto am Samstag\, 2. März 2024\, um 18:00 Uhr im Deutschen Theater Göttingen. Unterstützung für die herzkranken Kinder der Universitätsmedizin Göttingen.  \nCopacabana\, Tunesien und Java: Mit Titeln aus der ganzen Welt und dem Motto „Fiesta Latina“ steht die Bigband „Presto“ des Musikvereins Wolbrechtshausen e. V. zum siebten Mal für die Patient:innen der Kinderherzklinik der Universitätsmedizin Göttingen (UMG) im Deutschen Theater auf der Bühne. Das Konzert bietet einen Musik-Mix von Santana bis Dizzy Gillespie. Mit tropischen Rhythmen\, spritzigen Bläsersätzen und starken Percussions ist für jeden Geschmack etwas dabei. \nDie Bigband spielt für den guten Zweck und verzichtet auf ihr Honorar. Der Eintritt beträgt 20 Euro\, Spenden zugunsten des Elternvereins GEKKO (Göttinger Eltern kardiologischer Kinder Kontaktgruppe des Herzkind e. V.) sind sehr willkommen. Die Einnahmen und der Spendenerlös kommen dem Elternverein GEKKO für die ehrenamtliche Arbeit in der Kinderherzklinik der UMG zugute. \n  \n„Wir danken der Bigband Presto von ganzem Herzen für dieses Engagement\, das uns einen Abend mit phantastischer Musik und gleichzeitig eine große Unterstützung für unsere Herzkinder in der Universitätsmedizin ermöglicht“\,\nsagt Heike Bauer\, zweite Vorsitzende des Herzkind e. V. \n  \nBig Band „Presto“ – Benefizkonzert für GEKKO\nSamstag\, 2. März 2024\, 18:00 Uhr\nDeutsches Theater Göttingen\, DT1\nEintritt: 20 Euro \nKarten sind in der Tourist-Information Göttingen\, in der Geschäftsstelle des Göttinger Tageblatts\, im Deutschen Theater sowie an der Abendkasse erhältlich. \n  \nBild: Das Ensemble der Bigband Presto. Foto: presto
URL:https://www.herzkind.de/termin/grosse-klaenge-fuer-kleine-herzen-bigband-presto-spielt-benefizkonzert-fuer-umg-herzkinder/
LOCATION:Theater Göttingen\, Theaterplatz 11\, Göttingen\, 37073
ATTACH;FMTTYPE=image/jpeg:https://www.herzkind.de/medien/2024/02/pic-032_bigband_presto_300dpi.jpg
END:VEVENT
BEGIN:VEVENT
DTSTART;TZID=Europe/Berlin:20240306T190000
DTEND;TZID=Europe/Berlin:20240306T190000
DTSTAMP:20260422T135431
CREATED:20240227T135232Z
LAST-MODIFIED:20240227T135232Z
UID:4528-1709751600-1709751600@www.herzkind.de
SUMMARY:Kontaktgruppe Dresden: Regelmäßiger Stammtisch
DESCRIPTION:Die Kontaktgruppe Dresden trifft sich regelmäßig jeden ersten Mittwoch im Monat zum Stammtisch. In harmonischer Atmosphäre kann gemeinsam gelacht und manchmal auch geweint  und sich ausgetauscht werden. \nKommt vorbei und lernt die Kontaktgruppe Dresden kennen. \n  \n06. März 2024 um 19 Uhr \nAlex am Schloß\nSchloßstraße 7-9\n01067 Dresden \nVoranmeldung über: \nHeike Wessel\nTel.: 0351 88891730\nkinderherzen@t-online.de \noder Katharina Krieg\nTel.: 0170 2820812\nkrieg-katharina@gmx.de
URL:https://www.herzkind.de/termin/kontaktgruppe-dresden-regelmaessiger-stammtisch/
LOCATION:Alex am Schloß\, Schloßstraße 7-9\, Dresden\, 01067
ATTACH;FMTTYPE=image/png:https://www.herzkind.de/medien/2024/02/stammtisch-kontaktgruppe-dresden.png
END:VEVENT
BEGIN:VEVENT
DTSTART;TZID=Europe/Berlin:20240311T170000
DTEND;TZID=Europe/Berlin:20240311T170000
DTSTAMP:20260422T135431
CREATED:20240227T134052Z
LAST-MODIFIED:20240227T134052Z
UID:4524-1710176400-1710176400@www.herzkind.de
SUMMARY:Berliner Powerherzen: Regelmäßiger Stammtisch
DESCRIPTION:Jeden zweiten Montag im Monat treffen sich die Berliner Powerherzen von 17.00 bis 19.00 Uhr zum Austausch\, Netzwerken\, Quatschen\, Kaffee oder Tee trinken\, Zuhören. \nIn unregelmäßigen Abständen wird aus dem Stammtisch ein Themenstammtisch zu dem die Powerherzen Expert:innen zu den verschiedensten Themen einladen. \nEine Anmeldung ist nicht erforderlich und ihr müsst nicht pünktlich sein. \n11.03.2024 von 17.00-19.00 Uhr \nBremer Höhle\nBuchholzer Straße 16\n10437 Berlin \nHabt Ihr Fragen? \ninfo@berliner-powerherzen.de
URL:https://www.herzkind.de/termin/berliner-powerherzen-regelmaessiger-stammtisch/
LOCATION:Bremer Höhle\, Buchholzer Straße 16\, Berlin\, 10437\, Germany
ATTACH;FMTTYPE=image/png:https://www.herzkind.de/medien/2024/02/ankuendigung-berliner-powerherzen.png
END:VEVENT
BEGIN:VEVENT
DTSTART;TZID=Europe/Berlin:20240316T200000
DTEND;TZID=Europe/Berlin:20240316T200000
DTSTAMP:20260422T135431
CREATED:20240228T134524Z
LAST-MODIFIED:20240229T104919Z
UID:4564-1710619200-1710619200@www.herzkind.de
SUMMARY:"Mädels\, wir gehen tanzen!" mit der Kontaktgruppe Hannover
DESCRIPTION:Du findest einfach nicht mehr die Zeit\, dir mal etwas Gutes zu tun und mal richtig tanzen zu gehen?\nUnd wenn doch\, beginnen alle Veranstaltungen immer so spät. \nDann ist das hier jetzt deine Chance – denn die Herzkindmamas gehen aus! \nHolt die Tanzschuhe raus und geht mit der Kontaktgruppe Hannover zu der Veranstaltung „Mama geht tanzen“. \n  \n16. März 2024\, 20 – 23 Uhr \nRaschpl. 7L\n30161 Hannover \nTickets ab 12 € \nTreffpunkt ist 19.30 Uhr vor dem Cinemaxx am Raschplatz. Um 19:45 Uhr geht es dann rein.\n \nFür die Treffpunktabsprache bitte Anmeldung über: Bitte über A.eichentopf@web.de oder 01797581514 anmelden. \n  \nTickets für die Veranstaltung „Mama geht tanzen“ sind beim Veranstalter erhältlich. Hier geht es zum Veranstalter. \n\n  \n 
URL:https://www.herzkind.de/termin/mama-geht-tanzen-mit-der-kontaktgruppe-hannover/
LOCATION:Cinemax am Raschplatz\, Raschplatz 9L\, Hannover\, 30161
ATTACH;FMTTYPE=image/png:https://www.herzkind.de/medien/2024/02/kg_hannover-mama-geht-tanzen.png
END:VEVENT
BEGIN:VEVENT
DTSTART;TZID=Europe/Berlin:20240317T100000
DTEND;TZID=Europe/Berlin:20240317T100000
DTSTAMP:20260422T135431
CREATED:20240229T104339Z
LAST-MODIFIED:20240229T104419Z
UID:4568-1710669600-1710669600@www.herzkind.de
SUMMARY:Weißwurst-Frühstück mit der Kontaktgruppe Schwaben
DESCRIPTION:Die Kontaktgruppe Schwaben trifft sich zum traditionellen Weißwurst-Frühstück im Bunten Kreis. \nKommt vorbei und bringt Hunger mit – die Kontaktgruppe freut sich auf euch! \n  \nSonntag\, 17. März 2024\, 10 Uhr \nin den Räumen des Bunten Kreises in Augsburg \n  \nAnmeldung bitte bis 12.03.2024 bei Familie Wenger unter 08274-1462 oder per Mail unter wortelwenger@aol.com.
URL:https://www.herzkind.de/termin/weisswurst-fruehstueck-mit-der-kontaktgruppe-schwaben/
LOCATION:Stitung Bunter Kreis\, Stenglinstraße 2\, Augsburg\, 86156
ATTACH;FMTTYPE=image/png:https://www.herzkind.de/medien/2024/02/kg-schwaben-weisswurst-fruehstueck.png
END:VEVENT
BEGIN:VEVENT
DTSTART;TZID=Europe/Berlin:20240323T110000
DTEND;TZID=Europe/Berlin:20240323T110000
DTSTAMP:20260422T135431
CREATED:20240229T112417Z
LAST-MODIFIED:20240229T112417Z
UID:4574-1711191600-1711191600@www.herzkind.de
SUMMARY:Berliner Kontaktgruppe: Regelmäßiger Stammtisch im Kiez
DESCRIPTION:Ihr habt Fragen an Menschen mit ähnlichen Erfahrungen und möchtet euch austauschen? \nDann seid ihr hier genau richtig: Die Berliner Kontaktgruppe lädt euch ein zu ihrem Kiez-Stammtisch. \nDer Stammtisch findet regelmäßig einmal im Monat statt: Hier erfahren Sie mehr zu Themen rund um angeborene Herzfehler und können sich austauschen! \n  \n23. März 2024\, 11 Uhr \nAnmeldung über doerthe.schwenk@googlemail.com.
URL:https://www.herzkind.de/termin/berliner-kontaktgruppe-regelmaessiger-stammtisch-im-kiez/
ATTACH;FMTTYPE=image/png:https://www.herzkind.de/medien/2024/02/kg-berlin-stammtisch.png
END:VEVENT
END:VCALENDAR