BEGIN:VCALENDAR
VERSION:2.0
PRODID:-//Herzkind e.V. - ECPv6.15.20//NONSGML v1.0//EN
CALSCALE:GREGORIAN
METHOD:PUBLISH
X-ORIGINAL-URL:https://www.herzkind.de
X-WR-CALDESC:Veranstaltungen für Herzkind e.V.
REFRESH-INTERVAL;VALUE=DURATION:PT1H
X-Robots-Tag:noindex
X-PUBLISHED-TTL:PT1H
BEGIN:VTIMEZONE
TZID:Europe/Berlin
BEGIN:DAYLIGHT
TZOFFSETFROM:+0100
TZOFFSETTO:+0200
TZNAME:CEST
DTSTART:20220327T010000
END:DAYLIGHT
BEGIN:STANDARD
TZOFFSETFROM:+0200
TZOFFSETTO:+0100
TZNAME:CET
DTSTART:20221030T010000
END:STANDARD
BEGIN:DAYLIGHT
TZOFFSETFROM:+0100
TZOFFSETTO:+0200
TZNAME:CEST
DTSTART:20230326T010000
END:DAYLIGHT
BEGIN:STANDARD
TZOFFSETFROM:+0200
TZOFFSETTO:+0100
TZNAME:CET
DTSTART:20231029T010000
END:STANDARD
BEGIN:DAYLIGHT
TZOFFSETFROM:+0100
TZOFFSETTO:+0200
TZNAME:CEST
DTSTART:20240331T010000
END:DAYLIGHT
BEGIN:STANDARD
TZOFFSETFROM:+0200
TZOFFSETTO:+0100
TZNAME:CET
DTSTART:20241027T010000
END:STANDARD
END:VTIMEZONE
BEGIN:VEVENT
DTSTART;TZID=Europe/Berlin:20231104T140000
DTEND;TZID=Europe/Berlin:20231104T140000
DTSTAMP:20260423T072940
CREATED:20231020T085006Z
LAST-MODIFIED:20231020T085006Z
UID:4262-1699106400-1699106400@www.herzkind.de
SUMMARY:Gruppentreffen der Berliner Powerherzen zum Schwarzlichminigolfen
DESCRIPTION:Die Berliner Powerherzen laden herzlich zum Gruppentreffen ein. \nAuf dem Plan steht gemeinsames Minigolfen. Das Besondere ist\, dass auf einer 3D-Anlage mit Schwarzlicht gegolft wird – eine kleine Herausforderung für Körper und Geist. Im Vordergrund steht aber natürlich der Spaß!\n \nIm Anschluss sollte die Dachterrasse noch geöffnet sein\, können dort Getränke zu sich genommen werden. Ansonsten gibt es die Möglichkeit\, den Nachmittag in einem nahegelegenen Restaurant gemeinsam ausklingen zu lassen. \nWann: 04.11.2023 um 14 Uhr  \nPreis: 6\,50 pro Person + 1 Euro die 3D-Brille (Preis sonst 10\,90 pro Erwachsener und 9\,90 pro Kind zzgl. 1 Euro 3D-Brille) \nWo: DockX\, Ordensmeisterstr 1- 3\, 12099 Berlin-Tempelhof (Direkt am Tempelhofer Hafen) \nAnmeldungen bis zum 29.10.2023 an info@berliner-powerherzen.de und gebt bitte auch Bescheid\, ob Ihr mit ins Restaurant möchtet.  \nDie Powerherzen freuen sich auf Eure Anmeldung und hoffen auf einen schönen gemeinsamen Tag.
URL:https://www.herzkind.de/termin/gruppentreffen-der-berliner-powerherzen-zum-schwarzlichminigolfen/
ATTACH;FMTTYPE=image/png:https://www.herzkind.de/medien/2023/10/231020_minigolf_berliner-powerherzen.png
END:VEVENT
BEGIN:VEVENT
DTSTART;TZID=Europe/Berlin:20231113T170000
DTEND;TZID=Europe/Berlin:20231113T190000
DTSTAMP:20260423T072940
CREATED:20230620T111153Z
LAST-MODIFIED:20230620T111153Z
UID:4039-1699894800-1699902000@www.herzkind.de
SUMMARY:Berliner Powerherzen: Themenstammtisch
DESCRIPTION:Elektrische Patienten-Akte \n… mit einer Mitarbeiterin von der Gematik GmbH. Die Teilnahme kann auch online erfolgen. Hierfür ist in jedem Fall eine Anmeldung erforderlich unter info@berliner-powerherzen.de \nDie Stammtische finden von 17.00 bis 19.00 Uhr in der Bremer Höhle Buchholzerstr.16 /Ecke Greifenhagenerstr in 10437 Berlin statt.
URL:https://www.herzkind.de/termin/berliner-powerherzen-themenstammtisch-3/
ATTACH;FMTTYPE=image/jpeg:https://www.herzkind.de/medien/2023/06/student-g666946d1c_640.jpg
END:VEVENT
BEGIN:VEVENT
DTSTART;TZID=Europe/Berlin:20231114T190000
DTEND;TZID=Europe/Berlin:20231114T190000
DTSTAMP:20260423T072940
CREATED:20231113T131929Z
LAST-MODIFIED:20231113T131929Z
UID:4333-1699988400-1699988400@www.herzkind.de
SUMMARY:Lesung mit Ines Freiboth
DESCRIPTION:Macht euch den November gemütlich und kommt zur am 14. November 2023 um 19 Uhr zur Lesung mit Ines Freiboth. \nDie Unternehmerin und Autorin liest aus ihrem Buch „Rudi\, wo bist du?“. Ein kraftgebendes Kinderbuch\, das erzählt von Leben\, Tod und Zuversicht. \nDie Benefizveranstaltung wird organisiert von der Herzkind Kontaktgruppe GEKKO und dem Lionsclub LCG7 und geeignet für Kinder ab 4 Jahren und Erwachsene. Der Eintritt ist frei. \n  \nAnmeldung über: \nTel. 0172 – 954 174 7\nE-Mail christianelex@hotmail.com \nVeranstaltungort: \nFriedrichstr. 3-4\n37073 Göttingen
URL:https://www.herzkind.de/termin/lesung-mit-ines-freiboth/
LOCATION:Stadtraum Göttingen\, Friedrichstr. 3-4\, Göttingen\, 37073
ATTACH;FMTTYPE=image/jpeg:https://www.herzkind.de/medien/2023/11/ines-freiboth-rudi-wo-bist-du.jpg
END:VEVENT
BEGIN:VEVENT
DTSTART;TZID=Europe/Berlin:20231127T180000
DTEND;TZID=Europe/Berlin:20231127T180000
DTSTAMP:20260423T072940
CREATED:20231122T112424Z
LAST-MODIFIED:20231122T112424Z
UID:4345-1701108000-1701108000@www.herzkind.de
SUMMARY:Herzkind Kontaktgruppe Braunschweig: Elternstammtisch
DESCRIPTION:Die Braunschweiger Kontaktgruppe veranstaltet am 27. November 2023 um 18 Uhr einen Elternstammtisch für alle\, die Fragen haben und sich austauschen möchten! \nNeben dem allgemeinen Austausch soll auch die konkrete Planung für das nächste Jahr besprochen werden. \nAnmeldung bitte bis Sonntag\, 26.11. über Kontaktgruppenleiterin J. Zeranski. \n📲 0151 109 929 64 \n📨 j_zeranski@web.de
URL:https://www.herzkind.de/termin/herzkind-kontaktgruppe-braunschweig-elternstammtisch/
ATTACH;FMTTYPE=image/png:https://www.herzkind.de/medien/2023/11/eltern-stammtisch.png
END:VEVENT
BEGIN:VEVENT
DTSTART;TZID=Europe/Berlin:20231128T203000
DTEND;TZID=Europe/Berlin:20231128T203000
DTSTAMP:20260423T072940
CREATED:20231113T102955Z
LAST-MODIFIED:20231113T103232Z
UID:4330-1701203400-1701203400@www.herzkind.de
SUMMARY:Online-Seminar: Tragen im Krankenhaus
DESCRIPTION:Am Dienstag\, 28. November 2023\, laden Mamamotion und die Herzkind Kontaktgruppe Hannover um 20:30 Uhr zum Online-Seminar „Tragen im Krankenhaus“ ein. \nKlickt euch dazu!
URL:https://www.herzkind.de/termin/online-seminar-tragen-im-krankenhaus/
ATTACH;FMTTYPE=image/jpeg:https://www.herzkind.de/medien/2023/11/3.jpg
END:VEVENT
BEGIN:VEVENT
DTSTART;TZID=Europe/Berlin:20231129T000000
DTEND;TZID=Europe/Berlin:20231130T000000
DTSTAMP:20260423T072940
CREATED:20231107T112903Z
LAST-MODIFIED:20231113T133538Z
UID:4278-1701216000-1701302400@www.herzkind.de
SUMMARY:Herzkind Kontaktgruppe Gekko: Lesungen mit Nina Martin
DESCRIPTION:Die Klinikseelsorge lädt in Kooperation mit der Göttinger Herzkind Kontaktgruppe GEKKO und der Evangelischen Patientenbücherei zu zwei Lesungen in die Universitätsmedizin Göttingen (UMG) ein. \nAutorin Nina Martin liest am 29.11.2023\, um 19:30 Uhr aus ihrem Sachbuch „Plane nicht – lebe! – Wie du ohne Masterplan glücklich wirst“ (Rowohlt Verlag) im Andachtsraum (Bettenhaus 2\, Ebene 0) und am 30.11.2023\, um 11 Uhr aus ihrem neuen Jugendroman „Lucid Night – Was\, wenn wir nicht träumen?“ (Fischer KJB Verlag) in der Osthalle der UMG\, in der Nähe des Osteingangs. Die Jugendbuch-Lesung ist auch für Schulklassen geeignet. Es wird einen Basar von Herzkind e.V. mit einem Waffelstand geben. \n  \nFoto: Jeanine Rudat
URL:https://www.herzkind.de/termin/herzkind-kontaktgruppe-gekko-lesungen-mit-nina-martin/
LOCATION:Universitätsklinikum Göttingen\, Robert-Koch-Str. 40\, Göttingen\, 37075
ATTACH;FMTTYPE=image/jpeg:https://www.herzkind.de/medien/2023/11/kg_gekko_lesung_nina_martin_credits_jeanine-rudat-2-scaled.jpg
END:VEVENT
BEGIN:VEVENT
DTSTART;TZID=Europe/Berlin:20231130T110000
DTEND;TZID=Europe/Berlin:20231130T160000
DTSTAMP:20260423T072940
CREATED:20231107T114705Z
LAST-MODIFIED:20231107T114705Z
UID:4288-1701342000-1701360000@www.herzkind.de
SUMMARY:Herzkind Kontaktgruppe Gekko: Weihnachtsbasar in der UMG
DESCRIPTION:Die Herzkind Kontaktgruppe GEKKO aus Göttingen veranstaltet dieses Jahr wieder einen Weihnachtsbasar in Osthalle der UMG. \nVon 11:00 bis 16:00 Uhr kann am 30. November 2023 in weihnachtlicher Atmosphäre gestöbert\, gegessen und getrunken werden. \nKommt vorbei!
URL:https://www.herzkind.de/termin/herzkind-kontaktgruppe-gekko-weihnachtsbasar-in-der-umg/
LOCATION:Universitätsklinikum Göttingen\, Robert-Koch-Str. 40\, Göttingen\, 37075
ATTACH;FMTTYPE=image/jpeg:https://www.herzkind.de/medien/2023/11/green-watercolor-christmas-instagram-post.jpg
END:VEVENT
END:VCALENDAR