BEGIN:VCALENDAR
VERSION:2.0
PRODID:-//Herzkind e.V. - ECPv6.15.20//NONSGML v1.0//EN
CALSCALE:GREGORIAN
METHOD:PUBLISH
X-ORIGINAL-URL:https://www.herzkind.de
X-WR-CALDESC:Veranstaltungen für Herzkind e.V.
REFRESH-INTERVAL;VALUE=DURATION:PT1H
X-Robots-Tag:noindex
X-PUBLISHED-TTL:PT1H
BEGIN:VTIMEZONE
TZID:Europe/Berlin
BEGIN:DAYLIGHT
TZOFFSETFROM:+0100
TZOFFSETTO:+0200
TZNAME:CEST
DTSTART:20220327T010000
END:DAYLIGHT
BEGIN:STANDARD
TZOFFSETFROM:+0200
TZOFFSETTO:+0100
TZNAME:CET
DTSTART:20221030T010000
END:STANDARD
BEGIN:DAYLIGHT
TZOFFSETFROM:+0100
TZOFFSETTO:+0200
TZNAME:CEST
DTSTART:20230326T010000
END:DAYLIGHT
BEGIN:STANDARD
TZOFFSETFROM:+0200
TZOFFSETTO:+0100
TZNAME:CET
DTSTART:20231029T010000
END:STANDARD
BEGIN:DAYLIGHT
TZOFFSETFROM:+0100
TZOFFSETTO:+0200
TZNAME:CEST
DTSTART:20240331T010000
END:DAYLIGHT
BEGIN:STANDARD
TZOFFSETFROM:+0200
TZOFFSETTO:+0100
TZNAME:CET
DTSTART:20241027T010000
END:STANDARD
END:VTIMEZONE
BEGIN:VEVENT
DTSTART;TZID=Europe/Berlin:20231007T100000
DTEND;TZID=Europe/Berlin:20231007T144000
DTSTAMP:20260423T131322
CREATED:20230807T075117Z
LAST-MODIFIED:20230807T075117Z
UID:4107-1696672800-1696689600@www.herzkind.de
SUMMARY:UMG Göttingen: EMAH-Symposium
DESCRIPTION:EMAH-Symposium der Universitätsmedizin Göttingen für Erwachsene mit angeborenem Herzfehler.\nHauptthema: „Angeborene und erworbene Erkrankungen der Herzklappen“ \nWann: Samstag\, 7. Oktober 2023\, 10:00-14:40 Uhr \nWo: Niedersächsische Staats- und Universitätsbibliothek\, Alfred-Hessel-Saal\, Papendiek 14\, 37073 Göttingen \nBuntes Vortragsprogramm zum Thema „Angeborene und erworbene Erkrankungen der Herklappen“. \n„Für unsere Veranstaltung haben wir das Hauptthema „Angeborene und erworbene Erkrankungen der Herzklappen“ ausgewählt\, denn eine Herz-klappenproblematik begleitet viele Patienten mit angeborenen Herzfehlern von Geburt an\, kann sich aber auch erst im späteren Leben entwickeln. Bei der Behandlung von Herzklappenfehlern gab es in den letzten Jahrzehnten enorme Fortschritte\, insbesondere bei der kathetergesteuerten Therapie. Aber auch chirurgisch werden immer modernere Verfahren angewandt. Wir haben deshalb Experten eingeladen\, die uns die verschiedenen Aspekte der Behandlungsmöglichkeiten bis hin zu den Ergebnissen im Langzeitverlauf von Herzklappenerkrankungen vorstellen werden“ (Auszug aus der Einladung zum EMAH-Symposium) \nWeitere Informationen zur Veranstaltung und das Programm erhalten Sie hier: \nUniversitätsmedizin Göttingen\nGeorg-August-Universität Göttingen\nHerzzentrum\, Öffentlichkeitsarbeit\nwww.kinderherzklinik.de \nJulia Szikszay und Eva Meyer-Besting\nTel. 0551 39-653 48 oder -65349\nMail: herzzentrum@med.uni-goettingen.de
URL:https://www.herzkind.de/termin/umg-goettingen-emah-symposium/
ATTACH;FMTTYPE=image/jpeg:https://www.herzkind.de/medien/2023/08/unbenannt.jpg
END:VEVENT
BEGIN:VEVENT
DTSTART;TZID=Europe/Berlin:20231009T170000
DTEND;TZID=Europe/Berlin:20231009T190000
DTSTAMP:20260423T131322
CREATED:20230620T110655Z
LAST-MODIFIED:20230620T110655Z
UID:4036-1696870800-1696878000@www.herzkind.de
SUMMARY:Berliner Powerherzen: Themenstammtisch
DESCRIPTION:Thema Marihuana \nAls Referent konnten wir Dr. Jens Bahlmann aus der Kinderkardiologischen Praxis Braunschweig sowie 2. Vorsitzender der Arbeitsgemeinschaft der niedergelassenen Kinderkardiologen gewinnen. Er wird sich online dazu schalten. Die Teilnahme kann auch online erfolgen. Hierfür ist in jedem Fall eine Anmeldung erforderlich unter info@berliner-powerherzen.de \nDie Stammtische finden von 17.00 bis 19.00 Uhr in der Bremer Höhle Buchholzerstr.16 /Ecke Greifenhagenerstr in 10437 Berlin statt.
URL:https://www.herzkind.de/termin/berliner-powerherzen-themenstammtisch-2/
ATTACH;FMTTYPE=image/jpeg:https://www.herzkind.de/medien/2023/06/seedling-g3a0d21b71_640.jpg
END:VEVENT
BEGIN:VEVENT
DTSTART;TZID=Europe/Berlin:20231022T143000
DTEND;TZID=Europe/Berlin:20231022T143000
DTSTAMP:20260423T131322
CREATED:20230921T094420Z
LAST-MODIFIED:20231006T162351Z
UID:4180-1697985000-1697985000@www.herzkind.de
SUMMARY:Spargel & Kürbis Scheune
DESCRIPTION:Am 22.Oktober 2023 um 14.30 Uhr bietet die Herzkind-Kontaktgruppe Hannover alles für einen Familienausflug in die Kürbisscheune. \nNeben Kaffee und Kuchen kann auch ordentlich für Herbst und Halloween geschnitzt werden. Das Kürbisschnitzen bringt Spaß für groß und klein. \nHabt ihr Lust und Zeit dabei zu sein\, dann meldet euch schnell noch an. \n\n\n\n\nAnsprechpartnerin\nAnja Eichentopf\nTel.: 0179 7581514 (ab 15:00 Uhr)\na.eichentopf@web.de \n\nAdresse: \n\nSpargel und Kürbis Scheune\nAltenhäger Str. 93\n31558 Hagenburg \n\nWeitere Informationen zur Kontaktgruppe Hannover gibt es hier.
URL:https://www.herzkind.de/termin/spargel-kuerbis-scheune/
ATTACH;FMTTYPE=image/jpeg:https://www.herzkind.de/medien/2023/09/robert-linder-2lwoemh3r-m-unsplash-scaled.jpg
ORGANIZER;CN="Herzkind Kontaktgruppe Hannover":MAILTO:a.eichentopf@web.de
END:VEVENT
BEGIN:VEVENT
DTSTART;TZID=Europe/Berlin:20231028T130000
DTEND;TZID=Europe/Berlin:20231028T160000
DTSTAMP:20260423T131322
CREATED:20230926T105800Z
LAST-MODIFIED:20231006T163217Z
UID:4192-1698498000-1698508800@www.herzkind.de
SUMMARY:Erste-Hilfe-Kurs für Herzkinder und ihre Angehörigen
DESCRIPTION:Am 28. Oktober 2023 wird von der Herzkind Kontaktgruppe Hannover wieder ein Erste-Hilfe-Kurs für Herzkinder und ihre Angehörigen angeboten. \nDer Kurs beginnt um 13 Uhr und endet um 16 Uhr. Kinder können ab 5 Jahren am Kurs teilnehmen. Der Kurs ist kostenfrei. \n  \nWo: MMH Hannover \n  \nDie Anmeldung erfolgt über die Kontaktgruppenleiterin: \nAnja Eichentopf \nTel.: 0179 7581514 (ab 15:00 Uhr)\na.eichentopf@web.de \n  \nDer 28. Oktober 2023 ist ein Nachholtermin für den 16. September 2023.
URL:https://www.herzkind.de/termin/erste-hilfe-kurs-fuer-herzkinder-und-ihre-angehoerigen/
ATTACH;FMTTYPE=image/jpeg:https://www.herzkind.de/medien/2023/09/martin-splitt-77-l2nugwme-unsplash-1-scaled.jpg
END:VEVENT
BEGIN:VEVENT
DTSTART;TZID=Europe/Berlin:20231029T140000
DTEND;TZID=Europe/Berlin:20231029T140000
DTSTAMP:20260423T131322
CREATED:20230929T073258Z
LAST-MODIFIED:20230929T075030Z
UID:4213-1698588000-1698588000@www.herzkind.de
SUMMARY:Braunschweig Kontaktgruppe: Herbstspaziergang in Riddagshausen
DESCRIPTION:Am Sonntag\, den 29. Oktober 2023\, lädt die Braunschweiger Kontaktgruppe des Herzkind e. V.  zu einem gemeinsamen Herbstspaziergang in Riddagshausen ein. Die Gruppe trifft sich um 14 Uhr vor dem Café Teetied. \nNach dem Spaziergang gibt es in einem Café noch die Möglichkeit\, über den Austausch und das Kennenlernen hinaus\,  gemeinsam die Aktivitäten und Termine für das kommende Jahr zu planen. \n  \nAnmeldungen bitte über die Kontaktgruppenleiterin der Braunschweiger Herzkindgruppe \nJulia Zeranski\nTel.: 0151-10992964\njulia_zeranski@web.de \n  \nZur Spazierroute: \nLeichte Wanderung für alle Fitnesslevel. Leicht begehbare Wege. Die Strecke beträgt 5\,23 km. \n  \nStartpunkt der Tour: \nVor dem Café Teetied \n\n\nNehrkornweg 1\n38104 Braunschweig\n\n\n\nDas Café ist auch mit den öffentlichen Verkehrsmitteln erreichbar.
URL:https://www.herzkind.de/termin/4213/
ATTACH;FMTTYPE=image/jpeg:https://www.herzkind.de/medien/2023/09/wild-ducks-2942285_1280.jpg
END:VEVENT
END:VCALENDAR