BEGIN:VCALENDAR
VERSION:2.0
PRODID:-//Herzkind e.V. - ECPv6.15.20//NONSGML v1.0//EN
CALSCALE:GREGORIAN
METHOD:PUBLISH
X-ORIGINAL-URL:https://www.herzkind.de
X-WR-CALDESC:Veranstaltungen für Herzkind e.V.
REFRESH-INTERVAL;VALUE=DURATION:PT1H
X-Robots-Tag:noindex
X-PUBLISHED-TTL:PT1H
BEGIN:VTIMEZONE
TZID:Europe/Berlin
BEGIN:DAYLIGHT
TZOFFSETFROM:+0100
TZOFFSETTO:+0200
TZNAME:CEST
DTSTART:20220327T010000
END:DAYLIGHT
BEGIN:STANDARD
TZOFFSETFROM:+0200
TZOFFSETTO:+0100
TZNAME:CET
DTSTART:20221030T010000
END:STANDARD
BEGIN:DAYLIGHT
TZOFFSETFROM:+0100
TZOFFSETTO:+0200
TZNAME:CEST
DTSTART:20230326T010000
END:DAYLIGHT
BEGIN:STANDARD
TZOFFSETFROM:+0200
TZOFFSETTO:+0100
TZNAME:CET
DTSTART:20231029T010000
END:STANDARD
BEGIN:DAYLIGHT
TZOFFSETFROM:+0100
TZOFFSETTO:+0200
TZNAME:CEST
DTSTART:20240331T010000
END:DAYLIGHT
BEGIN:STANDARD
TZOFFSETFROM:+0200
TZOFFSETTO:+0100
TZNAME:CET
DTSTART:20241027T010000
END:STANDARD
END:VTIMEZONE
BEGIN:VEVENT
DTSTART;VALUE=DATE:20230906
DTEND;VALUE=DATE:20230907
DTSTAMP:20260423T164916
CREATED:20230602T121924Z
LAST-MODIFIED:20230602T121924Z
UID:4018-1693958400-1694044799@www.herzkind.de
SUMMARY:KG Dresden: Elternstammtisch
DESCRIPTION:Die Kontaktgruppe Dresden lädt alle Interessierten herzlich zum Elternstammtisch ein! \nDer Stammtisch beginnt um 19:00 Uhr. \nWeitere Informationen bekommt ihr bei den Kontaktgruppenleiterinnen: \nHeike Wessel: kinderherzen@t-online.de \nKatharina Krieg: krieg-katharina@gmx.de \nUm eine kurze Anmeldung wird gebeten.
URL:https://www.herzkind.de/termin/kg-dresden-elternstammtisch-12/
ATTACH;FMTTYPE=image/jpeg:https://www.herzkind.de/medien/2022/06/playmobil-g24c53e0cd_1920.jpg
END:VEVENT
BEGIN:VEVENT
DTSTART;TZID=Europe/Berlin:20230909T100000
DTEND;TZID=Europe/Berlin:20230909T150000
DTSTAMP:20260423T164916
CREATED:20230829T083700Z
LAST-MODIFIED:20230829T083700Z
UID:4141-1694253600-1694271600@www.herzkind.de
SUMMARY:Herzretter und Defihelden
DESCRIPTION:Lieber Leser:innen\, \nwir freuen uns sehr\, euch diese tolle Aktion der Defihelden aus Wolfsburg vorzustellen. \nEs gibt Infos\, Spiel und Spaß rund um das Thema Herzgesundheit\, implantierter Defi\, Herzrhythmusstörungen\, Herzsport und Ernährung. Außerdem kann man Reanimieren üben\, auch mit einem AED\, sich über die Anschaffung eines AEDs informieren und einen Rettungswagen anschauen. \nSchon einmal einen implantierten Defibrillator oder Herzschrittmacher in der Hand gehalten? NEIN…Dann habt ihr bald die Gelegenheit dazu! \nDie KISS haben ein Glücksrad\, bei dem man tolle Preise gewinnen kann. Für die Kinder steht der XXL Defibär zum verarzten bereit und auch Spiele und ein Maltisch\, werden für die Kleinen und Großen zur Verfügung gestellt. \n 
URL:https://www.herzkind.de/termin/herzretter-und-defihelden/
ATTACH;FMTTYPE=image/jpeg:https://www.herzkind.de/medien/2023/08/defihelden.jpg
END:VEVENT
BEGIN:VEVENT
DTSTART;TZID=Europe/Berlin:20230911T170000
DTEND;TZID=Europe/Berlin:20230911T190000
DTSTAMP:20260423T164916
CREATED:20230620T110049Z
LAST-MODIFIED:20230620T111254Z
UID:4034-1694451600-1694458800@www.herzkind.de
SUMMARY:Berliner Powerherzen: Themenstammtisch
DESCRIPTION:Kinderwunsch mit angeborenem Herzfehler – Teil 3: Adoption \nZu Gast werden wir ein*e Mitarbeiter*in der Zentralen Adoptionsstelle Berlin-Brandenburg haben und Erfahrungsberichte von Betroffenen der Berliner Powerherzen\, eine Selbsthilfegruppe der Deutschen Herzstiftung e.V. Die Teilnahme kann auch online erfolgen. Hierfür ist in jedem Fall eine Anmeldung erforderlich unter info@berliner-powerherzen.de \nUnsere Stammtische finden von 17.00 bis 19.00 Uhr in der Bremer Höhle Buchholzerstr.16 /Ecke Greifenhagenerstr in 10437 Berlin statt.
URL:https://www.herzkind.de/termin/berliner-powerherzen-themenstammtisch/
ATTACH;FMTTYPE=image/jpeg:https://www.herzkind.de/medien/2023/03/family-g2e2bb0bef_1920.jpg
END:VEVENT
BEGIN:VEVENT
DTSTART;TZID=Europe/Berlin:20230916T130000
DTEND;TZID=Europe/Berlin:20230916T160000
DTSTAMP:20260423T164916
CREATED:20230803T102756Z
LAST-MODIFIED:20230803T102756Z
UID:4090-1694869200-1694880000@www.herzkind.de
SUMMARY:Kontaktgruppe Hannover: Erste-Hilfe-Kurs für Herzkinder
DESCRIPTION:… und ihre Angehörigen in der MHH Hannover. \nWann: 16. September 2023\, 13:00-16:00 Uhr \nWo: MHH Hannover \nFür die Anmeldung und weitere Informationen melden Sie sich bei Kontaktgruppenleiterin Anja Eichentopf unter a.eichentopf@web.de
URL:https://www.herzkind.de/termin/kontaktgruppe-hannover-erste-hilfe-kurs-fuer-herzkinder/
ATTACH;FMTTYPE=image/jpeg:https://www.herzkind.de/medien/2023/04/stethoscope-gc7da47af4_1920.jpg
END:VEVENT
BEGIN:VEVENT
DTSTART;TZID=Europe/Berlin:20230917T100000
DTEND;TZID=Europe/Berlin:20230917T150000
DTSTAMP:20260423T164916
CREATED:20230803T103041Z
LAST-MODIFIED:20230803T103053Z
UID:4092-1694944800-1694962800@www.herzkind.de
SUMMARY:Kontaktgruppe Hannover: Kinderflohmarkt
DESCRIPTION:Die Kontaktgruppe Hannover wird mit einem Stand beim Kinderflohmarkt auf dem Wakitu-Spielplatz in Hannover vertreten sein. Einnahmen zugunsten der Kontaktgruppe Hannover. \nWann: 17. September 2023\, 10:00-15:00 Uhr \nWo: Wakitu Spielplatz Hannover
URL:https://www.herzkind.de/termin/kontaktgruppe-hannover-kinderflohmarkt/
ATTACH;FMTTYPE=image/jpeg:https://www.herzkind.de/medien/2023/03/books-ged1312be4_1920.jpg
END:VEVENT
BEGIN:VEVENT
DTSTART;VALUE=DATE:20230922
DTEND;VALUE=DATE:20230925
DTSTAMP:20260423T164916
CREATED:20230418T093627Z
LAST-MODIFIED:20230418T093627Z
UID:3888-1695340800-1695599999@www.herzkind.de
SUMMARY:Kinderherzstiftung: Väterseminar
DESCRIPTION:Starke Kinder brauchen starke Väter – das Väterseminar\nAls Vater eines herzkranken Kindes bist du ständig mit einer Mehrfachbelastung konfrontiert: Herzkranke Kinder brauchen spezielle Zuwendung und zugleich dürfen die Bedürfnisse der anderen Familienmitglieder nicht zu kurz kommen. Väter herzkranker Kinder leisten viel und fragen sich oft zu Recht: Wo bleibe eigentlich ich? Was ist mit meinen Bedürfnissen und Wünschen? Wie kann ich meinen schwierigen Alltag so gestalten\, dass alle bekommen\, was sie brauchen und auch ich selbst nicht leer ausgehe? An diesem Wochenende schauen wir gemeinsam auf die besonderen Herausforderungen\, die das Leben mit einem Herzfehler für Väter mit sich bringt. Unser Seminar richtet sich an Väter herzkranker Kinder aller Altersgruppen. Auch Väter\, die selbst mit einem angeborenen Herzfehler leben\, sind herzlich willkommen. \nWann: 22.-24. September 2023 \nWo: Kloster Schweinheim\, 53881 Euskirchen \nKosten: 99\,- Euro Eigenanteil (Das Seminar für maximal 14 Väter wird von der Kinderherzstiftung bezuschusst.) \nReferent: Klaus Althof\, Führungskräftetrainer\, Teamentwickler\, Väter-Coach \nWeitere Informationen zum Väter-Seminar gibt es bei der Kinderherzstiftung unter https://herzstiftung.de/leben-mit-angeborenem-herzfehler/angebote-und-service/termine-veranstaltungen \nAnmeldung & Kontakt: \nKai Rüenbrink \nTelefon: 069 955128-145\nMail: kinderherzstiftung@herzstiftung.de \nKinderherzstiftung der Deutschen Herzstiftung e.V.\nBockenheimer Landstraße 94-96\n60323 Frankfurt am Main
URL:https://www.herzkind.de/termin/kinderherzstiftung-vaeterseminar/
ATTACH;FMTTYPE=image/jpeg:https://www.herzkind.de/medien/2023/04/vaeterseminar.jpg
END:VEVENT
END:VCALENDAR