BEGIN:VCALENDAR
VERSION:2.0
PRODID:-//Herzkind e.V. - ECPv6.15.20//NONSGML v1.0//EN
CALSCALE:GREGORIAN
METHOD:PUBLISH
X-ORIGINAL-URL:https://www.herzkind.de
X-WR-CALDESC:Veranstaltungen für Herzkind e.V.
REFRESH-INTERVAL;VALUE=DURATION:PT1H
X-Robots-Tag:noindex
X-PUBLISHED-TTL:PT1H
BEGIN:VTIMEZONE
TZID:Europe/Berlin
BEGIN:DAYLIGHT
TZOFFSETFROM:+0100
TZOFFSETTO:+0200
TZNAME:CEST
DTSTART:20220327T010000
END:DAYLIGHT
BEGIN:STANDARD
TZOFFSETFROM:+0200
TZOFFSETTO:+0100
TZNAME:CET
DTSTART:20221030T010000
END:STANDARD
BEGIN:DAYLIGHT
TZOFFSETFROM:+0100
TZOFFSETTO:+0200
TZNAME:CEST
DTSTART:20230326T010000
END:DAYLIGHT
BEGIN:STANDARD
TZOFFSETFROM:+0200
TZOFFSETTO:+0100
TZNAME:CET
DTSTART:20231029T010000
END:STANDARD
BEGIN:DAYLIGHT
TZOFFSETFROM:+0100
TZOFFSETTO:+0200
TZNAME:CEST
DTSTART:20240331T010000
END:DAYLIGHT
BEGIN:STANDARD
TZOFFSETFROM:+0200
TZOFFSETTO:+0100
TZNAME:CET
DTSTART:20241027T010000
END:STANDARD
END:VTIMEZONE
BEGIN:VEVENT
DTSTART;VALUE=DATE:20230201
DTEND;VALUE=DATE:20230202
DTSTAMP:20260423T214404
CREATED:20221103T100153Z
LAST-MODIFIED:20221103T100153Z
UID:3050-1675209600-1675295999@www.herzkind.de
SUMMARY:KG Dresden: Elternstammtisch
DESCRIPTION:Die Kontaktgruppe Dresden lädt alle Interessierten herzlich zum Elternstammtisch ein. \nDie Veranstaltung beginnt um 19:00 Uhr. Treffpunkt und weitere Informationen sowie Anmeldung bitte bei der Kontaktgruppenleiterin Heike Wessel unter kinderherzen@t-online.de oder bei Katharina Krieg unter krieg-katharina@gmx.de.
URL:https://www.herzkind.de/termin/kg-dresden-elternstammtisch-5/
ATTACH;FMTTYPE=image/jpeg:https://www.herzkind.de/medien/2022/06/playmobil-g24c53e0cd_1920.jpg
END:VEVENT
BEGIN:VEVENT
DTSTART;VALUE=DATE:20230204
DTEND;VALUE=DATE:20230205
DTSTAMP:20260423T214404
CREATED:20230110T092746Z
LAST-MODIFIED:20230110T131243Z
UID:3605-1675468800-1675555199@www.herzkind.de
SUMMARY:KG Hannover: Jahresanfangsbrunch
DESCRIPTION:Die Kontaktgruppe Hannover veranstaltet am 4. Februar 2023 einen Jahresanfangsbrunch in der „Finca Barcelona“. \nWeitere Informationen erhalten Sie bei Kontaktgruppenleiterin Anja Eichentopf unter a.eichentopf@web.de \nEine Voranmeldung bei Frau Eichentopf ist erforderlich.
URL:https://www.herzkind.de/termin/jahresanfangsbrunch-kg-hannover/
ATTACH;FMTTYPE=image/jpeg:https://www.herzkind.de/medien/2023/01/breakfast-g880dc1133_1920.jpg
END:VEVENT
BEGIN:VEVENT
DTSTART;VALUE=DATE:20230204
DTEND;VALUE=DATE:20230205
DTSTAMP:20260423T214404
CREATED:20230111T131025Z
LAST-MODIFIED:20230111T131025Z
UID:3639-1675468800-1675555199@www.herzkind.de
SUMMARY:UMG Göttingen: Benefizkonzert für Kinderherzen
DESCRIPTION:Benefizkonzert mit der Bigband Presto – Unterstützung für die herzkranken Kinder der Universitätsmedizin Göttingen \nWann: Samstag\, 4. Februar 2023 um 19:45 \nWo: Deutsches Theater Göttingen\, Theaterplatz 11\, 37073 Göttingen \nEintritt: 20 Euro \nKarten sind in der Tourist-Information Göttingen\, in der Geschäftsstelle des Göttinger Tageblatts\, im Deutschen Theater sowie an der Abendkasse erhältlich. \nSwingender Rhythmus\, gefühlvoller Blues und charmanter Gesang: Die Bigband „Presto“ des Musikvereins Wolbrechtshausen e.V. steht zum sechsten Mal für die Patient*innen der Kinderherzklinik der Universitätsmedizin Göttingen (UMG) im Deutschen Theater auf der Bühne. Das Konzert beginnt am Samstag\, dem 4. Februar 2023\, um 19:45 Uhr und bietet ein breitgefächertes Swing-Programm für jeden Geschmack.\nDie Bigband spielt für den guten Zweck und verzichtet auf ihr Honorar. Der Eintritt beträgt 20 Euro\, Spenden zugunsten des Elternvereins GEKKO (Göttinger Eltern kardiologischer Kinder Kontaktgruppe) des Herzkind e.V. sind sehr willkommen. Die Einnahmen und der Spendenerlös kommen dem Elternverein GEKKO für die ehrenamtliche Arbeit in der Kinderherzklinik der UMG zugute. „Wir danken der Bigband Presto von ganzem Herzen für dieses Engagement\, das uns einen Abend mit phantastischer Musik und gleichzeitig eine große Unterstützung für unsere Herzkinder in der Universitätsmedizin ermöglicht“\, sagt Heike Bauer\, zweite Vorsitzende des Herzkind e.V. (Auschnitt aus der Presseinformation der UMG Göttingen vom 11. Januar 2023) \nHeike Bauer vom Elternverein Gekko zum Benefizkonzert: \nDas Benefizkonzert findet inzwischen schon zum 6. Mal statt! Wir sind Presto so dankbar dafür\, dass sich jedes einzelne Bandmitglied die Zeit nimmt\, das Konzert jedes Jahr aufs Neue zu planen und vorzubereiten. Es gibt uns als Elternverein schon zu Beginn des Jahres viel Sicherheit\, weil wir die Spendensumme\, die durch das Konzert zusammenkommt\, für Aktionen und Veranstaltungen schon fest einplanen können. Wir danken Presto von ganzem Herzen für dieses tolle Engagement und freuen uns schon jetzt auf einen gelungenen Konzertabend zugunsten unserer Herzkinder! \n 
URL:https://www.herzkind.de/termin/umg-goettingen-benefizkonzert-fuer-kinderherzen/
ATTACH;FMTTYPE=image/jpeg:https://www.herzkind.de/medien/2023/01/2023_bigband_poster-dina3-scaled.jpg
END:VEVENT
BEGIN:VEVENT
DTSTART;VALUE=DATE:20230218
DTEND;VALUE=DATE:20230219
DTSTAMP:20260423T214404
CREATED:20221107T093012Z
LAST-MODIFIED:20221107T093012Z
UID:3087-1676678400-1676764799@www.herzkind.de
SUMMARY:KG Berlin: Elternstammtisch
DESCRIPTION:Die Kontaktgruppe Berlin lädt alle Interessierten zum Elternstammtisch ein. \nCoronabedingt wird um eine kurze Anmeldung  gebeten. Auch Themenvorschläge sind gerne gesehen. Weitere Informationen zur Kontaktgruppe und zum Termin erhalten Sie bei der Kontaktgruppenleiterin Dörthe Schwenk unter Mail: Doerthe.schwenk@googlemail.com
URL:https://www.herzkind.de/termin/kg-berlin-elternstammtisch-5/
ATTACH;FMTTYPE=image/jpeg:https://www.herzkind.de/medien/2022/04/gruppe-mit-herz.jpg
END:VEVENT
BEGIN:VEVENT
DTSTART;VALUE=DATE:20230226
DTEND;VALUE=DATE:20230306
DTSTAMP:20260423T214404
CREATED:20221103T112044Z
LAST-MODIFIED:20230117T091319Z
UID:3060-1677369600-1678060799@www.herzkind.de
SUMMARY:Skiwoche der Kinderherzstiftung
DESCRIPTION:Skifreizeit für Kinder und Jugendliche mit angeborenem Herzfehler ab 9 Jahren \nWann: 26. Februar – 5. März 2023 \nWo: Achenkirch/ Österreich \nKosten: 275 Euro pro Person \nAnmeldeschluss: 31. Oktober 2022 \nUnter ärztlicher Aufsicht bekommen Anfänger durch ausgebildete Skilehrer das Skifahren vermittelt. Fortgeschrittene verbessern ihre Fahrtechnik. Jeder Teilnehmer wird entsprechend seiner Vorkenntnisse und seiner individuellen Belastungsgrenze gefördert und gefordert. Die Anreise per Bus ab Frankfurt\, Unterkunft\, Vollpension und Skipass sind im Reisepreis enthalten. \nWeitere Informationen unter: https://www.herzstiftung.de/leben-mit-angeborenem-herzfehler/angebote-und-service/freizeiten-herzfehler \n  \nFür die Anmeldung melden Sie sich bitte bei: \nKai Rüenbrink\, Leiter der Kinderherzstiftung \nTel.: 069 955128-145 \nMail: kinderherzstiftung@herzstiftung.de
URL:https://www.herzkind.de/termin/skiwoche-der-kinderherzstiftung/
ATTACH;FMTTYPE=image/jpeg:https://www.herzkind.de/medien/2022/11/boy-g7e94bffe3_1920.jpg
END:VEVENT
BEGIN:VEVENT
DTSTART;VALUE=DATE:20230228
DTEND;VALUE=DATE:20230301
DTSTAMP:20260423T214404
CREATED:20230110T130102Z
LAST-MODIFIED:20230110T130102Z
UID:3628-1677542400-1677628799@www.herzkind.de
SUMMARY:KG Braunschweig: Elternstammtisch mit Dr. Bahlmann
DESCRIPTION:Die Kontaktgruppe Braunschweig trifft sich zum Austausch rund um angeborene Herzfehler mit dem Kinderkardiologen Dr. Jens Bahlmann im Restaurant Helena in Stöckheim. Hier ist Zeit\, um in Ruhe Fragen zu stellen. Alle Interessierten sind herzlich eingeladen. \nWann: Dienstag\, 28.02.2023 um 19 Uhr \nWo: Restaurant Helena in Braunschweig-Stöckheim \nUm eine vorherige Anmeldung bei Kontaktgruppenleiterin Tanja Gebert unter Tel. 0160-94440369 wird gebeten.
URL:https://www.herzkind.de/termin/kg-braunschweig-elternstammtisch-mit-dr-bahlmann/
ATTACH;FMTTYPE=image/png:https://www.herzkind.de/medien/2023/01/community-g26991ae2d_1280.png
END:VEVENT
END:VCALENDAR