BEGIN:VCALENDAR
VERSION:2.0
PRODID:-//Herzkind e.V. - ECPv6.15.20//NONSGML v1.0//EN
CALSCALE:GREGORIAN
METHOD:PUBLISH
X-ORIGINAL-URL:https://www.herzkind.de
X-WR-CALDESC:Veranstaltungen für Herzkind e.V.
REFRESH-INTERVAL;VALUE=DURATION:PT1H
X-Robots-Tag:noindex
X-PUBLISHED-TTL:PT1H
BEGIN:VTIMEZONE
TZID:Europe/Berlin
BEGIN:DAYLIGHT
TZOFFSETFROM:+0100
TZOFFSETTO:+0200
TZNAME:CEST
DTSTART:20220327T010000
END:DAYLIGHT
BEGIN:STANDARD
TZOFFSETFROM:+0200
TZOFFSETTO:+0100
TZNAME:CET
DTSTART:20221030T010000
END:STANDARD
BEGIN:DAYLIGHT
TZOFFSETFROM:+0100
TZOFFSETTO:+0200
TZNAME:CEST
DTSTART:20230326T010000
END:DAYLIGHT
BEGIN:STANDARD
TZOFFSETFROM:+0200
TZOFFSETTO:+0100
TZNAME:CET
DTSTART:20231029T010000
END:STANDARD
BEGIN:DAYLIGHT
TZOFFSETFROM:+0100
TZOFFSETTO:+0200
TZNAME:CEST
DTSTART:20240331T010000
END:DAYLIGHT
BEGIN:STANDARD
TZOFFSETFROM:+0200
TZOFFSETTO:+0100
TZNAME:CET
DTSTART:20241027T010000
END:STANDARD
END:VTIMEZONE
BEGIN:VEVENT
DTSTART;VALUE=DATE:20230104
DTEND;VALUE=DATE:20230105
DTSTAMP:20260423T162032
CREATED:20221103T100026Z
LAST-MODIFIED:20221103T100026Z
UID:3048-1672790400-1672876799@www.herzkind.de
SUMMARY:KG Dresden: Elternstammtisch
DESCRIPTION:Die Kontaktgruppe Dresden lädt alle Interessierten herzlich zum Elternstammtisch ein. \nDie Veranstaltung beginnt um 19:00 Uhr. Treffpunkt und weitere Informationen sowie Anmeldung bitte bei der Kontaktgruppenleiterin Heike Wessel unter kinderherzen@t-online.de oder bei Katharina Krieg unter krieg-katharina@gmx.de.
URL:https://www.herzkind.de/termin/kg-dresden-elternstammtisch-4/
ATTACH;FMTTYPE=image/jpeg:https://www.herzkind.de/medien/2022/06/playmobil-g24c53e0cd_1920.jpg
END:VEVENT
BEGIN:VEVENT
DTSTART;VALUE=DATE:20230121
DTEND;VALUE=DATE:20230122
DTSTAMP:20260423T162032
CREATED:20221107T092844Z
LAST-MODIFIED:20221107T092844Z
UID:3085-1674259200-1674345599@www.herzkind.de
SUMMARY:KG Berlin: Elternstammtisch
DESCRIPTION:Die Kontaktgruppe Berlin lädt alle Interessierten zum Elternstammtisch ein. \nCoronabedingt wird um eine kurze Anmeldung  gebeten. Auch Themenvorschläge sind gerne gesehen. Weitere Informationen zur Kontaktgruppe und zum Termin erhalten Sie bei der Kontaktgruppenleiterin Dörthe Schwenk unter Mail: Doerthe.schwenk@googlemail.com
URL:https://www.herzkind.de/termin/kg-berlin-elternstammtisch-4/
ATTACH;FMTTYPE=image/jpeg:https://www.herzkind.de/medien/2022/04/gruppe-mit-herz.jpg
END:VEVENT
END:VCALENDAR