BEGIN:VCALENDAR
VERSION:2.0
PRODID:-//Herzkind e.V. - ECPv6.15.20//NONSGML v1.0//EN
CALSCALE:GREGORIAN
METHOD:PUBLISH
X-WR-CALNAME:Herzkind e.V.
X-ORIGINAL-URL:https://www.herzkind.de
X-WR-CALDESC:Veranstaltungen für Herzkind e.V.
REFRESH-INTERVAL;VALUE=DURATION:PT1H
X-Robots-Tag:noindex
X-PUBLISHED-TTL:PT1H
BEGIN:VTIMEZONE
TZID:Europe/Berlin
BEGIN:DAYLIGHT
TZOFFSETFROM:+0100
TZOFFSETTO:+0200
TZNAME:CEST
DTSTART:20210328T010000
END:DAYLIGHT
BEGIN:STANDARD
TZOFFSETFROM:+0200
TZOFFSETTO:+0100
TZNAME:CET
DTSTART:20211031T010000
END:STANDARD
BEGIN:DAYLIGHT
TZOFFSETFROM:+0100
TZOFFSETTO:+0200
TZNAME:CEST
DTSTART:20220327T010000
END:DAYLIGHT
BEGIN:STANDARD
TZOFFSETFROM:+0200
TZOFFSETTO:+0100
TZNAME:CET
DTSTART:20221030T010000
END:STANDARD
BEGIN:DAYLIGHT
TZOFFSETFROM:+0100
TZOFFSETTO:+0200
TZNAME:CEST
DTSTART:20230326T010000
END:DAYLIGHT
BEGIN:STANDARD
TZOFFSETFROM:+0200
TZOFFSETTO:+0100
TZNAME:CET
DTSTART:20231029T010000
END:STANDARD
END:VTIMEZONE
BEGIN:VEVENT
DTSTART;TZID=Europe/Berlin:20220613T170000
DTEND;TZID=Europe/Berlin:20220613T190000
DTSTAMP:20260421T001754
CREATED:20220518T085122Z
LAST-MODIFIED:20220518T110609Z
UID:2485-1655139600-1655146800@www.herzkind.de
SUMMARY:Berliner Powerherzen-Themen-Stammtisch -  Thema: Endokarditis
DESCRIPTION:Wann: \nMontag den 13.06.2022\, von 17.00 bis 19.00 Uhr \nWo:     \nBremer Höhle\, Buchholzer Straße 16 Ecke Greifenhagener Straße\, 10437 Berlin-Prenzlauer Berg \n  \nDie Berliner Powerherzen eine Selbsthilfegruppe für Erwachsene mit angeborenem Herzfehler der Deutschen Herzstiftung e.V. lädt Euch zu unserem 2. Themen-Stammtisch ein. \nDas Thema: Angeborene Herzfehler und Endokarditis. \nDas Risiko für eine infektiöse Endokarditis ist für Menschen mit angeborenen Herzfehlern wesentlich höher als für die Normalbevölkerung. Entwickelt sich eine Endokarditis bei Menschen mit angeborenem Herzfehler\, ist die Sterblichkeit der Patienten hoch. \nWarum ist das so? \nHabe ich ein erhöhtes Risiko? \nKann man vorbeugen? \nTatoos und Piercings kein Problem? \nDiese und andere Fragen beantwortet unserer Experte PD Dr. Dr. med. Johannes Nordmeyer\, Oberarzt und Leiter des Herzkatheterlabors der DHZB Klinik für angeborene Herzfehler. \nHabt Ihr Fragen? Dann sendet die Fragen an uns: info@berliner-powerherzen.de . \nEs handelt sich um eine Präsenzveranstaltung. Aus organisatorischen Gründen bitten wir um eine Anmeldung unter: info@berliner-powerherzen.de . Vielen Dank für Euer Verständnis. \nWir freuen uns\, Euch bei unserem Stammtisch begrüßen zu können. \n  \nEure Berliner Powerherzen \n 
URL:https://www.herzkind.de/termin/berliner-powerherzen-themen-stammtisch-thema-endokarditis/
LOCATION:Bremer Höhle\, Buchholzer Straße 16\, Berlin\, 10437\, Germany
ATTACH;FMTTYPE=image/jpeg:https://www.herzkind.de/medien/2022/04/gruppe-mit-herz.jpg
END:VEVENT
BEGIN:VEVENT
DTSTART;TZID=Europe/Berlin:20220618T140000
DTEND;TZID=Europe/Berlin:20220618T180000
DTSTAMP:20260421T001754
CREATED:20220518T110005Z
LAST-MODIFIED:20220518T110409Z
UID:2494-1655560800-1655575200@www.herzkind.de
SUMMARY:Sommerfest MHH-Kinderklinik
DESCRIPTION:50 Jahre MHH-Kinderklinik\nWann:  \n18. Juni 2022 vom 14:000 Uhr bis 18:00 Uhr \nWo:    \nIm Innenhof der MHH-Kinderklinik \nDas erwartet euch:   \nBuntes Bühnenprogramm\, EDDI von Hannover 96\, Sharky vom Sea-Life\, Tombola\, Mitmachaktionen von den Abteilungen und Elternvereinen\, Clowns\, Fan Club Star Wars\, Young Indians Hannover mit Schussmaschine\, Kinderkarussel\, Hüpfburg\, Polizei und vieles mehr… \n  \nNatürlich ist auch wieder bestens für das leibliche Wohl gesorgt!!! Wir freuen uns auf Euch!!! \n 
URL:https://www.herzkind.de/termin/sommerfest-mhh-kinderklinik/
ATTACH;FMTTYPE=image/jpeg:https://www.herzkind.de/medien/2022/05/50-jahre-mhh.jpg
END:VEVENT
END:VCALENDAR