BEGIN:VCALENDAR
VERSION:2.0
PRODID:-//Herzkind e.V. - ECPv6.15.20//NONSGML v1.0//EN
CALSCALE:GREGORIAN
METHOD:PUBLISH
X-ORIGINAL-URL:https://www.herzkind.de
X-WR-CALDESC:Veranstaltungen für Herzkind e.V.
REFRESH-INTERVAL;VALUE=DURATION:PT1H
X-Robots-Tag:noindex
X-PUBLISHED-TTL:PT1H
BEGIN:VTIMEZONE
TZID:Europe/Berlin
BEGIN:DAYLIGHT
TZOFFSETFROM:+0100
TZOFFSETTO:+0200
TZNAME:CEST
DTSTART:20200329T010000
END:DAYLIGHT
BEGIN:STANDARD
TZOFFSETFROM:+0200
TZOFFSETTO:+0100
TZNAME:CET
DTSTART:20201025T010000
END:STANDARD
BEGIN:DAYLIGHT
TZOFFSETFROM:+0100
TZOFFSETTO:+0200
TZNAME:CEST
DTSTART:20210328T010000
END:DAYLIGHT
BEGIN:STANDARD
TZOFFSETFROM:+0200
TZOFFSETTO:+0100
TZNAME:CET
DTSTART:20211031T010000
END:STANDARD
BEGIN:DAYLIGHT
TZOFFSETFROM:+0100
TZOFFSETTO:+0200
TZNAME:CEST
DTSTART:20220327T010000
END:DAYLIGHT
BEGIN:STANDARD
TZOFFSETFROM:+0200
TZOFFSETTO:+0100
TZNAME:CET
DTSTART:20221030T010000
END:STANDARD
END:VTIMEZONE
BEGIN:VEVENT
DTSTART;TZID=Europe/Berlin:20211108T170000
DTEND;TZID=Europe/Berlin:20211108T190000
DTSTAMP:20260421T152446
CREATED:20210915T094728Z
LAST-MODIFIED:20210915T094728Z
UID:2200-1636390800-1636398000@www.herzkind.de
SUMMARY:Einladung zum Stammtisch der JEMAH Berlin/Brandenburg
DESCRIPTION:Liebe Teilnehmer\,\nbitte beachtet an diesem Tag die 3G-Regel: Geimpft\, genesen und getestet\n(48 Stunden) sowie das einhalten der Abstandsregel und das tragen eines Mundschutz!\nEure Anmeldungen nehmen wir gerne unter folgender \nE-Mailadresse: berlin-brandenburg@jemah.de entgegen!
URL:https://www.herzkind.de/termin/einladung-zum-stammtisch-der-jemah-berlinbrandenburg-11-2021/
LOCATION:Bremer Höhle\, Buchholzer Straße 16\, Berlin\, 10437\, Germany
ATTACH;FMTTYPE=image/png:https://www.herzkind.de/medien/2021/09/connections-2099068-1.png
ORGANIZER;CN="JEMAH e.V. Bundesverein Jugendliche und Erwachsene mit angeborenem Herzfehler e.V. Gesch%C3%A4ftsstelle":MAILTO:info@jemah.de
END:VEVENT
END:VCALENDAR