BEGIN:VCALENDAR
VERSION:2.0
PRODID:-//Herzkind e.V. - ECPv6.15.20//NONSGML v1.0//EN
CALSCALE:GREGORIAN
METHOD:PUBLISH
X-WR-CALNAME:Herzkind e.V.
X-ORIGINAL-URL:https://www.herzkind.de
X-WR-CALDESC:Veranstaltungen für Herzkind e.V.
REFRESH-INTERVAL;VALUE=DURATION:PT1H
X-Robots-Tag:noindex
X-PUBLISHED-TTL:PT1H
BEGIN:VTIMEZONE
TZID:Europe/Berlin
BEGIN:DAYLIGHT
TZOFFSETFROM:+0100
TZOFFSETTO:+0200
TZNAME:CEST
DTSTART:20200329T010000
END:DAYLIGHT
BEGIN:STANDARD
TZOFFSETFROM:+0200
TZOFFSETTO:+0100
TZNAME:CET
DTSTART:20201025T010000
END:STANDARD
BEGIN:DAYLIGHT
TZOFFSETFROM:+0100
TZOFFSETTO:+0200
TZNAME:CEST
DTSTART:20210328T010000
END:DAYLIGHT
BEGIN:STANDARD
TZOFFSETFROM:+0200
TZOFFSETTO:+0100
TZNAME:CET
DTSTART:20211031T010000
END:STANDARD
BEGIN:DAYLIGHT
TZOFFSETFROM:+0100
TZOFFSETTO:+0200
TZNAME:CEST
DTSTART:20220327T010000
END:DAYLIGHT
BEGIN:STANDARD
TZOFFSETFROM:+0200
TZOFFSETTO:+0100
TZNAME:CET
DTSTART:20221030T010000
END:STANDARD
END:VTIMEZONE
BEGIN:VEVENT
DTSTART;TZID=Europe/Berlin:20211009T100000
DTEND;TZID=Europe/Berlin:20211009T143000
DTSTAMP:20260421T203405
CREATED:20210910T075101Z
LAST-MODIFIED:20210928T105222Z
UID:2147-1633773600-1633789800@www.herzkind.de
SUMMARY:Einladung zum Symposium der EMAH und DGPK mit Schwerpunktthema "Angeborene Herzfehler mit Aortopathien”
DESCRIPTION:Für nähere Informationen zum Symposium\, klicken Sie bitte hier: 2021-10-09_EMAH-Symposium \n  \n  \n 
URL:https://www.herzkind.de/termin/einladung-zum-symposium-der-emah-und-dgpk-mit-schwerpunktthema-angeborene-herzfehler-mit-aortopathien/
CATEGORIES:Allgemein
ATTACH;FMTTYPE=image/jpeg:https://www.herzkind.de/medien/2021/09/herzschlag-313417.jpg
END:VEVENT
BEGIN:VEVENT
DTSTART;TZID=Europe/Berlin:20211011T170000
DTEND;TZID=Europe/Berlin:20211011T190000
DTSTAMP:20260421T203405
CREATED:20210915T090548Z
LAST-MODIFIED:20210915T093807Z
UID:2187-1633971600-1633978800@www.herzkind.de
SUMMARY:Einladung zum Stammtisch der JEMAH Berlin/Brandenburg
DESCRIPTION:Liebe Teilnehmer\,\nbitte beachtet an diesem Tag die 3G-Regel: Geimpft\, genesen und getestet\n(48 Stunden) sowie das einhalten der Abstandsregel und das tragen eines Mundschutz!\nEure Anmeldungen nehmen wir gerne unter folgender \nE-Mailadresse: berlin-brandenburg@jemah.de entgegen!\n 
URL:https://www.herzkind.de/termin/einladung-zum-stammtisch-der-jemah-berlinbrandenburg/
LOCATION:Bremer Höhle\, Buchholzer Straße 16\, Berlin\, 10437\, Germany
ATTACH;FMTTYPE=image/png:https://www.herzkind.de/medien/2021/09/connections-2099068-1.png
ORGANIZER;CN="JEMAH e.V. Bundesverein Jugendliche und Erwachsene mit angeborenem Herzfehler e.V. Gesch%C3%A4ftsstelle":MAILTO:info@jemah.de
END:VEVENT
BEGIN:VEVENT
DTSTART;TZID=Europe/Berlin:20211017T150000
DTEND;TZID=Europe/Berlin:20211017T170000
DTSTAMP:20260421T203405
CREATED:20210915T124432Z
LAST-MODIFIED:20210915T125205Z
UID:2227-1634482800-1634490000@www.herzkind.de
SUMMARY:Herbstwanderung der Kontaktgruppe Braunschweig/Wolfsburg
DESCRIPTION:Um Voranmeldung bis zum 15.10.2021 bei Frau Prinke unter der\nRufnummer: 0176/64853198 wird gebeten!
URL:https://www.herzkind.de/termin/herbstwanderung-der-kontaktgruppe-braunschweigwolfsburg/
LOCATION:Kreuzteich Brauschweig\, Am Kreuzteich\, 38104 Braunschweig
CATEGORIES:Kontaktgruppe Braunschweig-Wolfsburg
ATTACH;FMTTYPE=image/png:https://www.herzkind.de/medien/2021/09/herbst-482678.png
END:VEVENT
END:VCALENDAR