BEGIN:VCALENDAR
VERSION:2.0
PRODID:-//Herzkind e.V. - ECPv6.15.20//NONSGML v1.0//EN
CALSCALE:GREGORIAN
METHOD:PUBLISH
X-WR-CALNAME:Herzkind e.V.
X-ORIGINAL-URL:https://www.herzkind.de
X-WR-CALDESC:Veranstaltungen für Herzkind e.V.
REFRESH-INTERVAL;VALUE=DURATION:PT1H
X-Robots-Tag:noindex
X-PUBLISHED-TTL:PT1H
BEGIN:VTIMEZONE
TZID:Europe/Berlin
BEGIN:DAYLIGHT
TZOFFSETFROM:+0100
TZOFFSETTO:+0200
TZNAME:CEST
DTSTART:20190331T010000
END:DAYLIGHT
BEGIN:STANDARD
TZOFFSETFROM:+0200
TZOFFSETTO:+0100
TZNAME:CET
DTSTART:20191027T010000
END:STANDARD
BEGIN:DAYLIGHT
TZOFFSETFROM:+0100
TZOFFSETTO:+0200
TZNAME:CEST
DTSTART:20200329T010000
END:DAYLIGHT
BEGIN:STANDARD
TZOFFSETFROM:+0200
TZOFFSETTO:+0100
TZNAME:CET
DTSTART:20201025T010000
END:STANDARD
BEGIN:DAYLIGHT
TZOFFSETFROM:+0100
TZOFFSETTO:+0200
TZNAME:CEST
DTSTART:20210328T010000
END:DAYLIGHT
BEGIN:STANDARD
TZOFFSETFROM:+0200
TZOFFSETTO:+0100
TZNAME:CET
DTSTART:20211031T010000
END:STANDARD
END:VTIMEZONE
BEGIN:VEVENT
DTSTART;TZID=Europe/Berlin:20200913T110000
DTEND;TZID=Europe/Berlin:20200913T110000
DTSTAMP:20260424T190711
CREATED:20200819T115307Z
LAST-MODIFIED:20200819T115403Z
UID:1675-1599994800-1599994800@www.herzkind.de
SUMMARY:Kontaktgruppe Braunschweig/Wolfsburg Besuch im Zoo
DESCRIPTION:Die Kontaktgruppe Braunschweig/Wolfsburg lädt herzlich ein: \n\nam 13.09.2020\nin den Stöckheimer Zoo\nWir treffen uns dort um 11.00 Uhr\n\n\n Wir haben vor gemeinsam den Zoo zu erkunden und uns auszutauschen. \n Für alle Herzkinder ist der Besuch des Zoos kostenlos.  \n Wir erbitten eine verbindliche Anmeldung \n bis zum 07.09.2020  \nunter Mail: nadine.kucharski@web.de  \noder telefonisch unter 0176 – 64853198
URL:https://www.herzkind.de/termin/kontaktgruppe-braunschweigwolfsburg-besuch-im-zoo/
CATEGORIES:Allgemein
END:VEVENT
BEGIN:VEVENT
DTSTART;TZID=Europe/Berlin:20200914T163000
DTEND;TZID=Europe/Berlin:20200914T180000
DTSTAMP:20260424T190711
CREATED:20200303T101828Z
LAST-MODIFIED:20200310T134652Z
UID:206-1600101000-1600106400@www.herzkind.de
SUMMARY:Jemah e.V. Stammtisch Regionalgruppe Sachsen
DESCRIPTION:Herzzentrum Leipzig\, Strümpellstr. 39\, 04289 Leipzig \nWeitere Informationen sachsen@jemah.de oder https://www.jemah.de/termine/
URL:https://www.herzkind.de/termin/jemah-e-v-stammtisch-regionalgruppe-sachsen-4/
CATEGORIES:Allgemein
END:VEVENT
END:VCALENDAR