BEGIN:VCALENDAR
VERSION:2.0
PRODID:-//Herzkind e.V. - ECPv6.15.20//NONSGML v1.0//EN
CALSCALE:GREGORIAN
METHOD:PUBLISH
X-WR-CALNAME:Herzkind e.V.
X-ORIGINAL-URL:https://www.herzkind.de
X-WR-CALDESC:Veranstaltungen für Herzkind e.V.
REFRESH-INTERVAL;VALUE=DURATION:PT1H
X-Robots-Tag:noindex
X-PUBLISHED-TTL:PT1H
BEGIN:VTIMEZONE
TZID:Europe/Berlin
BEGIN:DAYLIGHT
TZOFFSETFROM:+0100
TZOFFSETTO:+0200
TZNAME:CEST
DTSTART:20250330T010000
END:DAYLIGHT
BEGIN:STANDARD
TZOFFSETFROM:+0200
TZOFFSETTO:+0100
TZNAME:CET
DTSTART:20251026T010000
END:STANDARD
BEGIN:DAYLIGHT
TZOFFSETFROM:+0100
TZOFFSETTO:+0200
TZNAME:CEST
DTSTART:20260329T010000
END:DAYLIGHT
BEGIN:STANDARD
TZOFFSETFROM:+0200
TZOFFSETTO:+0100
TZNAME:CET
DTSTART:20261025T010000
END:STANDARD
BEGIN:DAYLIGHT
TZOFFSETFROM:+0100
TZOFFSETTO:+0200
TZNAME:CEST
DTSTART:20270328T010000
END:DAYLIGHT
BEGIN:STANDARD
TZOFFSETFROM:+0200
TZOFFSETTO:+0100
TZNAME:CET
DTSTART:20271031T010000
END:STANDARD
END:VTIMEZONE
BEGIN:VEVENT
DTSTART;TZID=Europe/Berlin:20260309T170000
DTEND;TZID=Europe/Berlin:20260309T190000
DTSTAMP:20260421T164129
CREATED:20251210T131029Z
LAST-MODIFIED:20260217T131054Z
UID:6636-1773075600-1773082800@www.herzkind.de
SUMMARY:Berliner Powerherzen: Regelmäßiger Stammtisch
DESCRIPTION:Jeden zweiten Montag im Monat treffen sich die Berliner Powerherzen von 17.00 bis 19.00 Uhr zum Austausch\, Netzwerken\, Quatschen\, Kaffee oder Tee trinken und Zuhören. \nDieses Mal ist Franziska Bleis von Transplantiert e.V. zu Gast. Hier habt ihr die Möglichkeit Fragen zum Thema Transplantation\, Zweitmeinung und anderes zu stellen. \nEine Anmeldung in Präsenz ist nicht erforderlich und ihr müsst nicht pünktlich sein. Kommt einfach dazu\, wenn es für euch passt. \n  \nWann?\n09. März 2026 von 17.00-19.00 Uhr \nWo?\nBremer Höhle\nBuchholzer Straße 16\n10437 Berlin \n  \nHabt Ihr Fragen?\ninfo@berliner-powerherzen.de
URL:https://www.herzkind.de/termin/berliner-powerherzen-regelmaessiger-stammtisch-9/
LOCATION:Bremer Höhle\, Buchholzer Straße 16\, Berlin\, 10437\, Germany
ATTACH;FMTTYPE=image/png:https://www.herzkind.de/medien/2024/02/ankuendigung-berliner-powerherzen.png
END:VEVENT
END:VCALENDAR