BEGIN:VCALENDAR
VERSION:2.0
PRODID:-//Herzkind e.V. - ECPv6.15.20//NONSGML v1.0//EN
CALSCALE:GREGORIAN
METHOD:PUBLISH
X-ORIGINAL-URL:https://www.herzkind.de
X-WR-CALDESC:Veranstaltungen für Herzkind e.V.
REFRESH-INTERVAL;VALUE=DURATION:PT1H
X-Robots-Tag:noindex
X-PUBLISHED-TTL:PT1H
BEGIN:VTIMEZONE
TZID:Europe/Berlin
BEGIN:DAYLIGHT
TZOFFSETFROM:+0100
TZOFFSETTO:+0200
TZNAME:CEST
DTSTART:20250330T010000
END:DAYLIGHT
BEGIN:STANDARD
TZOFFSETFROM:+0200
TZOFFSETTO:+0100
TZNAME:CET
DTSTART:20251026T010000
END:STANDARD
BEGIN:DAYLIGHT
TZOFFSETFROM:+0100
TZOFFSETTO:+0200
TZNAME:CEST
DTSTART:20260329T010000
END:DAYLIGHT
BEGIN:STANDARD
TZOFFSETFROM:+0200
TZOFFSETTO:+0100
TZNAME:CET
DTSTART:20261025T010000
END:STANDARD
BEGIN:DAYLIGHT
TZOFFSETFROM:+0100
TZOFFSETTO:+0200
TZNAME:CEST
DTSTART:20270328T010000
END:DAYLIGHT
BEGIN:STANDARD
TZOFFSETFROM:+0200
TZOFFSETTO:+0100
TZNAME:CET
DTSTART:20271031T010000
END:STANDARD
END:VTIMEZONE
BEGIN:VEVENT
DTSTART;TZID=Europe/Berlin:20260209T170000
DTEND;TZID=Europe/Berlin:20260209T190000
DTSTAMP:20260421T191917
CREATED:20251211T103626Z
LAST-MODIFIED:20251211T103626Z
UID:6638-1770656400-1770663600@www.herzkind.de
SUMMARY:Berliner Powerherzen: Online-Stammtisch: Umfragen aus dem Register und Kompetenznetz für Angeborene Herzfehler
DESCRIPTION:Die Berliner Powerherzen laden Euch herzlich zum Online-Stammtisch mit dem Thema „Umfragen – Aufklärung und Hintergründe\, Sinn und Nutzen zu Umfragen aus dem Register und Kompetenznetz für Angeborene Herzfehler“ ein! \nViele von euch\, die im Register für Angeborene Herzfehler eingeschrieben sind\, erhalten regelmäßig Umfragen zu ganz unterschiedlichen Themen. Immer wieder kommt dabei die Frage auf: \n🔸 Warum soll ich in einer medizinischen Umfrage Dinge wie mein Einkommen oder meine Lebenssituation angeben? \n🔸 Was hat das mit meinem angeborenen Herzfehler zu tun? \n🔸 Wer steckt eigentlich hinter diesen Umfragen – und sind meine Daten dann wirklich sicher? \n🔸 Kann man mich über meine Kennnummer identifizieren? \nLasst euch all diese Fragen und noch viele mehr beantworten. Zu Gast sind Dr. Paul Helm (wissenschaftlicher Mitarbeiter) und Sabrina Pöpke (Verwalterin im Register und Kompetenznetz für Angeborene Herzfehler). Sie erklären unter anderem auch: \n✔️ Warum bestimmte persönliche Angaben für die Forschung wichtig sind \n✔️ Wie genau der Datenschutz eingehalten wird \n✔️ Wer Zugang zu euren Daten hat – und wer nicht \n✔️ Warum ihr trotz Kennnummer nicht persönlich identifizierbar seid \n  \nWann?\n09. Februar 2026 | 17 – 19 Uhr \n\nFragen und Anmeldung für die Onlineteilnahme: stammtisch@berliner-powerherzen.de \n 
URL:https://www.herzkind.de/termin/berliner-powerherzen-online-stammtisch-umfragen-aus-dem-register-und-kompetenznetz-fuer-angeborene-herzfehler/
LOCATION:Bremer Höhle\, Buchholzer Straße 16\, Berlin\, 10437\, Germany
ATTACH;FMTTYPE=image/png:https://www.herzkind.de/medien/2025/12/Berliner-Powerherzen-September2.png
END:VEVENT
END:VCALENDAR