BEGIN:VCALENDAR
VERSION:2.0
PRODID:-//Herzkind e.V. - ECPv6.15.20//NONSGML v1.0//EN
CALSCALE:GREGORIAN
METHOD:PUBLISH
X-WR-CALNAME:Herzkind e.V.
X-ORIGINAL-URL:https://www.herzkind.de
X-WR-CALDESC:Veranstaltungen für Herzkind e.V.
REFRESH-INTERVAL;VALUE=DURATION:PT1H
X-Robots-Tag:noindex
X-PUBLISHED-TTL:PT1H
BEGIN:VTIMEZONE
TZID:Europe/Berlin
BEGIN:DAYLIGHT
TZOFFSETFROM:+0100
TZOFFSETTO:+0200
TZNAME:CEST
DTSTART:20250330T010000
END:DAYLIGHT
BEGIN:STANDARD
TZOFFSETFROM:+0200
TZOFFSETTO:+0100
TZNAME:CET
DTSTART:20251026T010000
END:STANDARD
BEGIN:DAYLIGHT
TZOFFSETFROM:+0100
TZOFFSETTO:+0200
TZNAME:CEST
DTSTART:20260329T010000
END:DAYLIGHT
BEGIN:STANDARD
TZOFFSETFROM:+0200
TZOFFSETTO:+0100
TZNAME:CET
DTSTART:20261025T010000
END:STANDARD
BEGIN:DAYLIGHT
TZOFFSETFROM:+0100
TZOFFSETTO:+0200
TZNAME:CEST
DTSTART:20270328T010000
END:DAYLIGHT
BEGIN:STANDARD
TZOFFSETFROM:+0200
TZOFFSETTO:+0100
TZNAME:CET
DTSTART:20271031T010000
END:STANDARD
END:VTIMEZONE
BEGIN:VEVENT
DTSTART;TZID=Europe/Berlin:20260203T180000
DTEND;TZID=Europe/Berlin:20260203T200000
DTSTAMP:20260424T134101
CREATED:20260115T081837Z
LAST-MODIFIED:20260115T081837Z
UID:6747-1770141600-1770148800@www.herzkind.de
SUMMARY:Kontaktgruppe EMAH-Fontan: Zoom-Treffen
DESCRIPTION:Einmal im Monat veranstaltet die Kontaktgruppe EMAH-Fontan ein Zoom-Treffen. Dieses Treffen richtet sich an selbstbetroffene EMAH-Fontans ab 16 Jahren. \nDie Treffen bieten Raum für Austausch\, gegenseitige Unterstützung und das Teilen von Erfahrungen in einer geschützten und wertschätzenden Atmosphäre. Die Teilnahme ist freiwillig und kostenlos. \nDen Link hierzu erhaltet ihr in der EMAH-Fontan Facebook Gruppe oder über scholz.sophia@yahoo.de \n  \nWann?\n03. Februar 2026 ab 18 Uhr
URL:https://www.herzkind.de/termin/kontaktgruppe-emah-fontan-zoom-treffen/
CATEGORIES:Kontaktgruppe EMAH-Fontan
ATTACH;FMTTYPE=image/png:https://www.herzkind.de/medien/2026/01/Design-ohne-Titel6.png
END:VEVENT
END:VCALENDAR