BEGIN:VCALENDAR
VERSION:2.0
PRODID:-//Herzkind e.V. - ECPv6.15.20//NONSGML v1.0//EN
CALSCALE:GREGORIAN
METHOD:PUBLISH
X-ORIGINAL-URL:https://www.herzkind.de
X-WR-CALDESC:Veranstaltungen für Herzkind e.V.
REFRESH-INTERVAL;VALUE=DURATION:PT1H
X-Robots-Tag:noindex
X-PUBLISHED-TTL:PT1H
BEGIN:VTIMEZONE
TZID:Europe/Berlin
BEGIN:DAYLIGHT
TZOFFSETFROM:+0100
TZOFFSETTO:+0200
TZNAME:CEST
DTSTART:20230326T010000
END:DAYLIGHT
BEGIN:STANDARD
TZOFFSETFROM:+0200
TZOFFSETTO:+0100
TZNAME:CET
DTSTART:20231029T010000
END:STANDARD
BEGIN:DAYLIGHT
TZOFFSETFROM:+0100
TZOFFSETTO:+0200
TZNAME:CEST
DTSTART:20240331T010000
END:DAYLIGHT
BEGIN:STANDARD
TZOFFSETFROM:+0200
TZOFFSETTO:+0100
TZNAME:CET
DTSTART:20241027T010000
END:STANDARD
BEGIN:DAYLIGHT
TZOFFSETFROM:+0100
TZOFFSETTO:+0200
TZNAME:CEST
DTSTART:20250330T010000
END:DAYLIGHT
BEGIN:STANDARD
TZOFFSETFROM:+0200
TZOFFSETTO:+0100
TZNAME:CET
DTSTART:20251026T010000
END:STANDARD
END:VTIMEZONE
BEGIN:VEVENT
DTSTART;TZID=Europe/Berlin:20241207T133000
DTEND;TZID=Europe/Berlin:20241207T133000
DTSTAMP:20260420T150023
CREATED:20241105T090909Z
LAST-MODIFIED:20241120T115528Z
UID:5219-1733578200-1733578200@www.herzkind.de
SUMMARY:Kontaktgruppe Hannover: Schwimmschnuppertag für Herzkinder
DESCRIPTION:Wassergewöhnung für kleine Herzen\nAb ins Wasser \nUm den kleinen Herzen den ersten Schritt ins Wasser zu erleichtern\, bietet die Kontaktgruppe Hannover einen ärztlich begleiteten Kurs zur Wassergewöhung an. \nKontaktgruppenleiterin Anja Eichentopf berichtet: „Unsere Kids müssen sich erst an das Element Wasser gewöhnen\, sie müssen sich trauen\, den Kopf unter Wasser zu nehmen. Sie brauchen Zeit\, um die Temperatur zu regulieren. Sie brauchen Unterstützung und Zuspruch\, um über sich hinaus zu wachen und sich neue Dinge zuzutrauen und ihre Ausdauer zu trainieren – am besten geht das mit Kids\, die in einer ähnlichen Situation sind. Ich weiß\, dass Sport und körperliche Anstrengung für viele Herzkindmamas ein spezielles\, oft angstbesetztes Thema sind.\nTheoretisch wissen wir\, was unserem Kind guttut und was sie dürfen und was nicht\, aber unser Mamaherz/Papaherz spricht oft eine andere Sprache.“ \nEltern und Geschwisterkinder sind herzlich willkommen und können solange im Schwimmbad warten. \nNach dem Training lädt Waspo alle herzlich ein\, live das spannende Bundesligaspiel zwischen dem Deutschen Meister Waspo98 Hannover und dem SV Ludwigsburg 08 zu verfolgen. \nDie Kontaktgruppe Hannover möchte in Kooperation mit den Wassersportfreunden von Waspo 98 den Kids ein positives erstes Wassererlebnis bieten. Die Wassergewöhnung beschränkt sich erstmal nur auf einen einzelnen Termin\, kann aber verlängert werden. \nFür mehr Informationen schreibt gerne der Kontaktgruppe Niedersachsen  auf Instagram: https://www.instagram.com/kontaktgruppe_niedersachsen/ \nAnmeldung über Anja Eichentopf unter: \nTel.: 0179 7581514 (ab 15:00 Uhr)\na.eichentopf@web.de \nWann?\n07.12.2024\n13.30 – 17.00 Uhr \nWo?\nStadionbad\nRobert-Enke-Straße 5\, 30169 Hannover
URL:https://www.herzkind.de/termin/kontaktgruppe-hannover-wassergewoehnung-fuer-kleine-herzen/
LOCATION:Stadionbad\, Robert-Enke-Straße 5\, Hannover\, 30169
ATTACH;FMTTYPE=image/png:https://www.herzkind.de/medien/2024/11/Website-Dez-1.png
END:VEVENT
END:VCALENDAR