BEGIN:VCALENDAR
VERSION:2.0
PRODID:-//Herzkind e.V. - ECPv6.15.20//NONSGML v1.0//EN
CALSCALE:GREGORIAN
METHOD:PUBLISH
X-ORIGINAL-URL:https://www.herzkind.de
X-WR-CALDESC:Veranstaltungen für Herzkind e.V.
REFRESH-INTERVAL;VALUE=DURATION:PT1H
X-Robots-Tag:noindex
X-PUBLISHED-TTL:PT1H
BEGIN:VTIMEZONE
TZID:Europe/Berlin
BEGIN:DAYLIGHT
TZOFFSETFROM:+0100
TZOFFSETTO:+0200
TZNAME:CEST
DTSTART:20230326T010000
END:DAYLIGHT
BEGIN:STANDARD
TZOFFSETFROM:+0200
TZOFFSETTO:+0100
TZNAME:CET
DTSTART:20231029T010000
END:STANDARD
BEGIN:DAYLIGHT
TZOFFSETFROM:+0100
TZOFFSETTO:+0200
TZNAME:CEST
DTSTART:20240331T010000
END:DAYLIGHT
BEGIN:STANDARD
TZOFFSETFROM:+0200
TZOFFSETTO:+0100
TZNAME:CET
DTSTART:20241027T010000
END:STANDARD
BEGIN:DAYLIGHT
TZOFFSETFROM:+0100
TZOFFSETTO:+0200
TZNAME:CEST
DTSTART:20250330T010000
END:DAYLIGHT
BEGIN:STANDARD
TZOFFSETFROM:+0200
TZOFFSETTO:+0100
TZNAME:CET
DTSTART:20251026T010000
END:STANDARD
END:VTIMEZONE
BEGIN:VEVENT
DTSTART;TZID=Europe/Berlin:20240317T100000
DTEND;TZID=Europe/Berlin:20240317T100000
DTSTAMP:20260422T210532
CREATED:20240229T104339Z
LAST-MODIFIED:20240229T104419Z
UID:4568-1710669600-1710669600@www.herzkind.de
SUMMARY:Weißwurst-Frühstück mit der Kontaktgruppe Schwaben
DESCRIPTION:Die Kontaktgruppe Schwaben trifft sich zum traditionellen Weißwurst-Frühstück im Bunten Kreis. \nKommt vorbei und bringt Hunger mit – die Kontaktgruppe freut sich auf euch! \n  \nSonntag\, 17. März 2024\, 10 Uhr \nin den Räumen des Bunten Kreises in Augsburg \n  \nAnmeldung bitte bis 12.03.2024 bei Familie Wenger unter 08274-1462 oder per Mail unter wortelwenger@aol.com.
URL:https://www.herzkind.de/termin/weisswurst-fruehstueck-mit-der-kontaktgruppe-schwaben/
LOCATION:Stitung Bunter Kreis\, Stenglinstraße 2\, Augsburg\, 86156
ATTACH;FMTTYPE=image/png:https://www.herzkind.de/medien/2024/02/kg-schwaben-weisswurst-fruehstueck.png
END:VEVENT
END:VCALENDAR