BEGIN:VCALENDAR
VERSION:2.0
PRODID:-//Herzkind e.V. - ECPv6.15.20//NONSGML v1.0//EN
CALSCALE:GREGORIAN
METHOD:PUBLISH
X-WR-CALNAME:Herzkind e.V.
X-ORIGINAL-URL:https://www.herzkind.de
X-WR-CALDESC:Veranstaltungen für Herzkind e.V.
REFRESH-INTERVAL;VALUE=DURATION:PT1H
X-Robots-Tag:noindex
X-PUBLISHED-TTL:PT1H
BEGIN:VTIMEZONE
TZID:Europe/Berlin
BEGIN:DAYLIGHT
TZOFFSETFROM:+0100
TZOFFSETTO:+0200
TZNAME:CEST
DTSTART:20230326T010000
END:DAYLIGHT
BEGIN:STANDARD
TZOFFSETFROM:+0200
TZOFFSETTO:+0100
TZNAME:CET
DTSTART:20231029T010000
END:STANDARD
BEGIN:DAYLIGHT
TZOFFSETFROM:+0100
TZOFFSETTO:+0200
TZNAME:CEST
DTSTART:20240331T010000
END:DAYLIGHT
BEGIN:STANDARD
TZOFFSETFROM:+0200
TZOFFSETTO:+0100
TZNAME:CET
DTSTART:20241027T010000
END:STANDARD
BEGIN:DAYLIGHT
TZOFFSETFROM:+0100
TZOFFSETTO:+0200
TZNAME:CEST
DTSTART:20250330T010000
END:DAYLIGHT
BEGIN:STANDARD
TZOFFSETFROM:+0200
TZOFFSETTO:+0100
TZNAME:CET
DTSTART:20251026T010000
END:STANDARD
END:VTIMEZONE
BEGIN:VEVENT
DTSTART;TZID=Europe/Berlin:20240316T200000
DTEND;TZID=Europe/Berlin:20240316T200000
DTSTAMP:20260422T202453
CREATED:20240228T134524Z
LAST-MODIFIED:20240229T104919Z
UID:4564-1710619200-1710619200@www.herzkind.de
SUMMARY:"Mädels\, wir gehen tanzen!" mit der Kontaktgruppe Hannover
DESCRIPTION:Du findest einfach nicht mehr die Zeit\, dir mal etwas Gutes zu tun und mal richtig tanzen zu gehen?\nUnd wenn doch\, beginnen alle Veranstaltungen immer so spät. \nDann ist das hier jetzt deine Chance – denn die Herzkindmamas gehen aus! \nHolt die Tanzschuhe raus und geht mit der Kontaktgruppe Hannover zu der Veranstaltung „Mama geht tanzen“. \n  \n16. März 2024\, 20 – 23 Uhr \nRaschpl. 7L\n30161 Hannover \nTickets ab 12 € \nTreffpunkt ist 19.30 Uhr vor dem Cinemaxx am Raschplatz. Um 19:45 Uhr geht es dann rein.\n \nFür die Treffpunktabsprache bitte Anmeldung über: Bitte über A.eichentopf@web.de oder 01797581514 anmelden. \n  \nTickets für die Veranstaltung „Mama geht tanzen“ sind beim Veranstalter erhältlich. Hier geht es zum Veranstalter. \n\n  \n 
URL:https://www.herzkind.de/termin/mama-geht-tanzen-mit-der-kontaktgruppe-hannover/
LOCATION:Cinemax am Raschplatz\, Raschplatz 9L\, Hannover\, 30161
ATTACH;FMTTYPE=image/png:https://www.herzkind.de/medien/2024/02/kg_hannover-mama-geht-tanzen.png
END:VEVENT
END:VCALENDAR