BEGIN:VCALENDAR
VERSION:2.0
PRODID:-//Herzkind e.V. - ECPv6.15.20//NONSGML v1.0//EN
CALSCALE:GREGORIAN
METHOD:PUBLISH
X-ORIGINAL-URL:https://www.herzkind.de
X-WR-CALDESC:Veranstaltungen für Herzkind e.V.
REFRESH-INTERVAL;VALUE=DURATION:PT1H
X-Robots-Tag:noindex
X-PUBLISHED-TTL:PT1H
BEGIN:VTIMEZONE
TZID:Europe/Berlin
BEGIN:DAYLIGHT
TZOFFSETFROM:+0100
TZOFFSETTO:+0200
TZNAME:CEST
DTSTART:20230326T010000
END:DAYLIGHT
BEGIN:STANDARD
TZOFFSETFROM:+0200
TZOFFSETTO:+0100
TZNAME:CET
DTSTART:20231029T010000
END:STANDARD
BEGIN:DAYLIGHT
TZOFFSETFROM:+0100
TZOFFSETTO:+0200
TZNAME:CEST
DTSTART:20240331T010000
END:DAYLIGHT
BEGIN:STANDARD
TZOFFSETFROM:+0200
TZOFFSETTO:+0100
TZNAME:CET
DTSTART:20241027T010000
END:STANDARD
BEGIN:DAYLIGHT
TZOFFSETFROM:+0100
TZOFFSETTO:+0200
TZNAME:CEST
DTSTART:20250330T010000
END:DAYLIGHT
BEGIN:STANDARD
TZOFFSETFROM:+0200
TZOFFSETTO:+0100
TZNAME:CET
DTSTART:20251026T010000
END:STANDARD
END:VTIMEZONE
BEGIN:VEVENT
DTSTART;TZID=Europe/Berlin:20240225T153000
DTEND;TZID=Europe/Berlin:20240225T153000
DTSTAMP:20260422T163607
CREATED:20240201T101423Z
LAST-MODIFIED:20240201T101423Z
UID:4486-1708875000-1708875000@www.herzkind.de
SUMMARY:BattleKart fahren in Dankern mit der Kontaktgruppe Meppen/Emsland
DESCRIPTION:Auf die Plätze\, fertig\, los! \nBeamt euch in Computerspiele und fahrt in E-Karts um die Wette.\nNach dem Kart-Rennen kann der Tag bei einem Essen gemeinsamen beendet werden. \n  \nAnmeldungen bitte über Doris Rojer unter dorisrojer@web.de. \nTreffpunkt: Dankern\nAm Flugplatz 1\, 49733 Haren
URL:https://www.herzkind.de/termin/battlekart-fahren-in-dankern-mit-der-kontaktgruppe-meppenemsland/
LOCATION:BattleKart Dankern\, Am Flugplatz 1\, Haren\, 49733
ATTACH;FMTTYPE=image/jpeg:https://www.herzkind.de/medien/2024/02/kopiebattlerace_4-1-scaled.jpeg
END:VEVENT
END:VCALENDAR