BEGIN:VCALENDAR
VERSION:2.0
PRODID:-//Herzkind e.V. - ECPv6.15.20//NONSGML v1.0//EN
CALSCALE:GREGORIAN
METHOD:PUBLISH
X-WR-CALNAME:Herzkind e.V.
X-ORIGINAL-URL:https://www.herzkind.de
X-WR-CALDESC:Veranstaltungen für Herzkind e.V.
REFRESH-INTERVAL;VALUE=DURATION:PT1H
X-Robots-Tag:noindex
X-PUBLISHED-TTL:PT1H
BEGIN:VTIMEZONE
TZID:Europe/Berlin
BEGIN:DAYLIGHT
TZOFFSETFROM:+0100
TZOFFSETTO:+0200
TZNAME:CEST
DTSTART:20230326T010000
END:DAYLIGHT
BEGIN:STANDARD
TZOFFSETFROM:+0200
TZOFFSETTO:+0100
TZNAME:CET
DTSTART:20231029T010000
END:STANDARD
BEGIN:DAYLIGHT
TZOFFSETFROM:+0100
TZOFFSETTO:+0200
TZNAME:CEST
DTSTART:20240331T010000
END:DAYLIGHT
BEGIN:STANDARD
TZOFFSETFROM:+0200
TZOFFSETTO:+0100
TZNAME:CET
DTSTART:20241027T010000
END:STANDARD
BEGIN:DAYLIGHT
TZOFFSETFROM:+0100
TZOFFSETTO:+0200
TZNAME:CEST
DTSTART:20250330T010000
END:DAYLIGHT
BEGIN:STANDARD
TZOFFSETFROM:+0200
TZOFFSETTO:+0100
TZNAME:CET
DTSTART:20251026T010000
END:STANDARD
END:VTIMEZONE
BEGIN:VEVENT
DTSTART;TZID=Europe/Berlin:20240212T170000
DTEND;TZID=Europe/Berlin:20240212T170000
DTSTAMP:20260422T175230
CREATED:20240117T120735Z
LAST-MODIFIED:20240201T094540Z
UID:4461-1707757200-1707757200@www.herzkind.de
SUMMARY:Berliner Powerherzen Themenstammtisch "Patientenverfügung"
DESCRIPTION:Am 12. Feb. 2024 laden die Berliner Powerherzen euch von 17 bis 19 Uhr zu ihrem Themenstammtisch ein. \nZu Gast haben die Powerherzen  Mitarbeiter:innen von der Zentralstelle Patientenverfügung. Die Zentralstelle Patientenverfügung gehört zum Humanistischen Verband Deutschland und informiert seit 25 Jahren über Vorsorge und Patientenverfügung. \nZur Würde des Menschen gehört das Recht\, über sich selbst zu bestimmen. Dem Menschen kommt dieses Recht auch dann zu\, wenn er seinen entsprechenden Willen nicht mehr selbst ausdrücken oder durchsetzen kann. Selbstbestimmt\, also frei in allen Lebenslagen – diesem Ziel dient auch die Patientenverfügung. Wir werden erfahren\, was in einer Patientenverfügung stehen sollte und wie sie rechtlich abgesichert ist. \nNatürlich wird dieser Stammtisch auch wieder online sein. Daher bitten wir euch unter Info@berliner-powerherzen.de mit dem Zusatz ONLINE bis zum 09.02.2024 anzumelden. Wie immer erhaltet ihr dann am Sonntag\, dem 11.02.2024\, alle Zugangsdaten für den Stammtisch. \nAchtung diesmal gibt es auch eine Anmeldefrist für die\, die in Präsenz in der Bremer Höhle teilnehmen wollen. Grund ist\, dass die Zentralstelle Material mitbringt und sie gerne wissen wollen\, wie viele daran teilnehmen. Wir bitten um Verständnis\, auch hier ist die Anmeldefrist bis zum 09.02.2024 unter Info@berliner-powerherzen.de.
URL:https://www.herzkind.de/termin/berliner-powerherzen-themenstammtisch-patientenverfuegung/
LOCATION:Bremer Höhle\, Buchholzer Straße 16\, Berlin\, 10437\, Germany
ATTACH;FMTTYPE=image/png:https://www.herzkind.de/medien/2024/01/notary-service.png
END:VEVENT
END:VCALENDAR