BEGIN:VCALENDAR
VERSION:2.0
PRODID:-//Herzkind e.V. - ECPv6.15.20//NONSGML v1.0//EN
CALSCALE:GREGORIAN
METHOD:PUBLISH
X-WR-CALNAME:Herzkind e.V.
X-ORIGINAL-URL:https://www.herzkind.de
X-WR-CALDESC:Veranstaltungen für Herzkind e.V.
REFRESH-INTERVAL;VALUE=DURATION:PT1H
X-Robots-Tag:noindex
X-PUBLISHED-TTL:PT1H
BEGIN:VTIMEZONE
TZID:Europe/Berlin
BEGIN:DAYLIGHT
TZOFFSETFROM:+0100
TZOFFSETTO:+0200
TZNAME:CEST
DTSTART:20230326T010000
END:DAYLIGHT
BEGIN:STANDARD
TZOFFSETFROM:+0200
TZOFFSETTO:+0100
TZNAME:CET
DTSTART:20231029T010000
END:STANDARD
BEGIN:DAYLIGHT
TZOFFSETFROM:+0100
TZOFFSETTO:+0200
TZNAME:CEST
DTSTART:20240331T010000
END:DAYLIGHT
BEGIN:STANDARD
TZOFFSETFROM:+0200
TZOFFSETTO:+0100
TZNAME:CET
DTSTART:20241027T010000
END:STANDARD
BEGIN:DAYLIGHT
TZOFFSETFROM:+0100
TZOFFSETTO:+0200
TZNAME:CEST
DTSTART:20250330T010000
END:DAYLIGHT
BEGIN:STANDARD
TZOFFSETFROM:+0200
TZOFFSETTO:+0100
TZNAME:CET
DTSTART:20251026T010000
END:STANDARD
END:VTIMEZONE
BEGIN:VEVENT
DTSTART;TZID=Europe/Berlin:20240127T143000
DTEND;TZID=Europe/Berlin:20240127T143000
DTSTAMP:20260422T214208
CREATED:20240116T132212Z
LAST-MODIFIED:20240116T132307Z
UID:4446-1706365800-1706365800@www.herzkind.de
SUMMARY:Kegeln mit der Kontaktgruppe Hannover
DESCRIPTION:Wer schafft alle neune? \nDie Kontaktgruppe Hannover geht Kegeln! \nWann: 27. Januar 2024\, 14:30 Uhr \nWo: „Zur Eiche“ \nDamit die Gruppe planen kann\, meldet euch bitte bei Kontaktgruppenleiterin Anja an. Nach der Anmeldung erhaltet ihr die genaue Adresse. \nMobil: 0176 612 618 0 \nE-Mail: a.eichentopf@web.de
URL:https://www.herzkind.de/termin/kegeln-mit-der-kontaktgruppe-hannover/
ATTACH;FMTTYPE=image/jpeg:https://www.herzkind.de/medien/2024/01/bowling-tournament1.jpg
END:VEVENT
END:VCALENDAR