BEGIN:VCALENDAR
VERSION:2.0
PRODID:-//Herzkind e.V. - ECPv6.15.20//NONSGML v1.0//EN
CALSCALE:GREGORIAN
METHOD:PUBLISH
X-ORIGINAL-URL:https://www.herzkind.de
X-WR-CALDESC:Veranstaltungen für Herzkind e.V.
REFRESH-INTERVAL;VALUE=DURATION:PT1H
X-Robots-Tag:noindex
X-PUBLISHED-TTL:PT1H
BEGIN:VTIMEZONE
TZID:Europe/Berlin
BEGIN:DAYLIGHT
TZOFFSETFROM:+0100
TZOFFSETTO:+0200
TZNAME:CEST
DTSTART:20230326T010000
END:DAYLIGHT
BEGIN:STANDARD
TZOFFSETFROM:+0200
TZOFFSETTO:+0100
TZNAME:CET
DTSTART:20231029T010000
END:STANDARD
BEGIN:DAYLIGHT
TZOFFSETFROM:+0100
TZOFFSETTO:+0200
TZNAME:CEST
DTSTART:20240331T010000
END:DAYLIGHT
BEGIN:STANDARD
TZOFFSETFROM:+0200
TZOFFSETTO:+0100
TZNAME:CET
DTSTART:20241027T010000
END:STANDARD
BEGIN:DAYLIGHT
TZOFFSETFROM:+0100
TZOFFSETTO:+0200
TZNAME:CEST
DTSTART:20250330T010000
END:DAYLIGHT
BEGIN:STANDARD
TZOFFSETFROM:+0200
TZOFFSETTO:+0100
TZNAME:CET
DTSTART:20251026T010000
END:STANDARD
END:VTIMEZONE
BEGIN:VEVENT
DTSTART;TZID=Europe/Berlin:20240108T170000
DTEND;TZID=Europe/Berlin:20240108T170000
DTSTAMP:20260422T214725
CREATED:20231201T125946Z
LAST-MODIFIED:20231201T125946Z
UID:4380-1704733200-1704733200@www.herzkind.de
SUMMARY:Stammtisch Berliner Powerherzen
DESCRIPTION:Regelmäßiger Stammtisch \n\n\nJeden zweiten Montag im Monat treffen sich die Berliner Powerherzen von 17.00 bis 19.00 Uhr zum Austausch\, Netzwerken\, Quatschen\, Kaffee oder Tee trinken\, Zuhören. \nIn unregelmäßigen Abständen wird aus dem Stammtisch ein Themenstammtisch. Wir laden uns dazu Expert:innen zu den verschiedensten Themen ein. \nEine Anmeldung ist nicht erforderlich und Sie müssen nicht pünktlich sein. \n\nFoto: Pixabay
URL:https://www.herzkind.de/termin/stammtisch-berliner-powerherzen/
LOCATION:Bremer Höhle\, Buchholzer Straße 16\, Berlin\, 10437\, Germany
ATTACH;FMTTYPE=image/jpeg:https://www.herzkind.de/medien/2023/12/playmobil-451203_12801.jpg
END:VEVENT
END:VCALENDAR