BEGIN:VCALENDAR
VERSION:2.0
PRODID:-//Herzkind e.V. - ECPv6.15.20//NONSGML v1.0//EN
CALSCALE:GREGORIAN
METHOD:PUBLISH
X-WR-CALNAME:Herzkind e.V.
X-ORIGINAL-URL:https://www.herzkind.de
X-WR-CALDESC:Veranstaltungen für Herzkind e.V.
REFRESH-INTERVAL;VALUE=DURATION:PT1H
X-Robots-Tag:noindex
X-PUBLISHED-TTL:PT1H
BEGIN:VTIMEZONE
TZID:Europe/Berlin
BEGIN:DAYLIGHT
TZOFFSETFROM:+0100
TZOFFSETTO:+0200
TZNAME:CEST
DTSTART:20230326T010000
END:DAYLIGHT
BEGIN:STANDARD
TZOFFSETFROM:+0200
TZOFFSETTO:+0100
TZNAME:CET
DTSTART:20231029T010000
END:STANDARD
BEGIN:DAYLIGHT
TZOFFSETFROM:+0100
TZOFFSETTO:+0200
TZNAME:CEST
DTSTART:20240331T010000
END:DAYLIGHT
BEGIN:STANDARD
TZOFFSETFROM:+0200
TZOFFSETTO:+0100
TZNAME:CET
DTSTART:20241027T010000
END:STANDARD
BEGIN:DAYLIGHT
TZOFFSETFROM:+0100
TZOFFSETTO:+0200
TZNAME:CEST
DTSTART:20250330T010000
END:DAYLIGHT
BEGIN:STANDARD
TZOFFSETFROM:+0200
TZOFFSETTO:+0100
TZNAME:CET
DTSTART:20251026T010000
END:STANDARD
END:VTIMEZONE
BEGIN:VEVENT
DTSTART;TZID=Europe/Berlin:20240103T190000
DTEND;TZID=Europe/Berlin:20240103T190000
DTSTAMP:20260423T000842
CREATED:20231201T125335Z
LAST-MODIFIED:20231214T130659Z
UID:4378-1704308400-1704308400@www.herzkind.de
SUMMARY:Stammtisch der Kontaktgruppe Dresden
DESCRIPTION:Die Herzkind Kontaktgruppe Dresden lädt am 03. Januar 2024 um 19 Uhr zu ihrem monatlichen Stammtisch für Erwachsene ein. Wer möchte\, kann danach spontan noch zusammen auf den Weihnachtsmarkt gehen. \n➡️ Anmeldung bitte über Heike Wessel T. 0351-88891730 oder kinderherzen@t-online.de\n➡️ Oder bei: Katharina Krieg T. 0170-2820812 Krieg-katharina@gmx.de \n  \nOrt: Innenstadt Dresden \nGenauere Informationen erhalten Sie nach der Anmeldung. \n  \nFoto: Priscilla Du Preez
URL:https://www.herzkind.de/termin/stammtisch-der-kontaktgruppe-dresden-2/
ATTACH;FMTTYPE=image/jpeg:https://www.herzkind.de/medien/2023/12/priscilla-du-preez-w3seyzodn8u-unsplash-scaled.jpg
END:VEVENT
END:VCALENDAR