BEGIN:VCALENDAR
VERSION:2.0
PRODID:-//Herzkind e.V. - ECPv6.15.20//NONSGML v1.0//EN
CALSCALE:GREGORIAN
METHOD:PUBLISH
X-WR-CALNAME:Herzkind e.V.
X-ORIGINAL-URL:https://www.herzkind.de
X-WR-CALDESC:Veranstaltungen für Herzkind e.V.
REFRESH-INTERVAL;VALUE=DURATION:PT1H
X-Robots-Tag:noindex
X-PUBLISHED-TTL:PT1H
BEGIN:VTIMEZONE
TZID:Europe/Berlin
BEGIN:DAYLIGHT
TZOFFSETFROM:+0100
TZOFFSETTO:+0200
TZNAME:CEST
DTSTART:20220327T010000
END:DAYLIGHT
BEGIN:STANDARD
TZOFFSETFROM:+0200
TZOFFSETTO:+0100
TZNAME:CET
DTSTART:20221030T010000
END:STANDARD
BEGIN:DAYLIGHT
TZOFFSETFROM:+0100
TZOFFSETTO:+0200
TZNAME:CEST
DTSTART:20230326T010000
END:DAYLIGHT
BEGIN:STANDARD
TZOFFSETFROM:+0200
TZOFFSETTO:+0100
TZNAME:CET
DTSTART:20231029T010000
END:STANDARD
BEGIN:DAYLIGHT
TZOFFSETFROM:+0100
TZOFFSETTO:+0200
TZNAME:CEST
DTSTART:20240331T010000
END:DAYLIGHT
BEGIN:STANDARD
TZOFFSETFROM:+0200
TZOFFSETTO:+0100
TZNAME:CET
DTSTART:20241027T010000
END:STANDARD
END:VTIMEZONE
BEGIN:VEVENT
DTSTART;TZID=Europe/Berlin:20231206T190000
DTEND;TZID=Europe/Berlin:20231206T190000
DTSTAMP:20260423T022749
CREATED:20231201T125211Z
LAST-MODIFIED:20231201T125211Z
UID:4375-1701889200-1701889200@www.herzkind.de
SUMMARY:Stammtisch der Kontaktgruppe Dresden
DESCRIPTION:Die Herzkind Kontaktgruppe Dresden lädt am 06. Dezember 2023 um 19 Uhr zu ihrem monatlichen Stammtisch für Erwachsene ein. Wer möchte\, kann danach spontan noch zusammen auf den Weihnachtsmarkt gehen. \n➡️ Anmeldung bitte über Heike Wessel T. 0351-88891730 oder kinderherzen@t-online.de\n➡️ Oder bei: Katharina Krieg T. 0170-2820812 Krieg-katharina@gmx.de \n  \nOrt: Innenstadt Dresden \nGenauere Informationen erhalten Sie nach der Anmeldung. \n  \nFoto: Priscilla Du Preez
URL:https://www.herzkind.de/termin/stammtisch-der-kontaktgruppe-dresden/
ATTACH;FMTTYPE=image/jpeg:https://www.herzkind.de/medien/2023/12/priscilla-du-preez-w3seyzodn8u-unsplash-scaled.jpg
END:VEVENT
END:VCALENDAR