BEGIN:VCALENDAR
VERSION:2.0
PRODID:-//Herzkind e.V. - ECPv6.15.20//NONSGML v1.0//EN
CALSCALE:GREGORIAN
METHOD:PUBLISH
X-WR-CALNAME:Herzkind e.V.
X-ORIGINAL-URL:https://www.herzkind.de
X-WR-CALDESC:Veranstaltungen für Herzkind e.V.
REFRESH-INTERVAL;VALUE=DURATION:PT1H
X-Robots-Tag:noindex
X-PUBLISHED-TTL:PT1H
BEGIN:VTIMEZONE
TZID:Europe/Berlin
BEGIN:DAYLIGHT
TZOFFSETFROM:+0100
TZOFFSETTO:+0200
TZNAME:CEST
DTSTART:20220327T010000
END:DAYLIGHT
BEGIN:STANDARD
TZOFFSETFROM:+0200
TZOFFSETTO:+0100
TZNAME:CET
DTSTART:20221030T010000
END:STANDARD
BEGIN:DAYLIGHT
TZOFFSETFROM:+0100
TZOFFSETTO:+0200
TZNAME:CEST
DTSTART:20230326T010000
END:DAYLIGHT
BEGIN:STANDARD
TZOFFSETFROM:+0200
TZOFFSETTO:+0100
TZNAME:CET
DTSTART:20231029T010000
END:STANDARD
BEGIN:DAYLIGHT
TZOFFSETFROM:+0100
TZOFFSETTO:+0200
TZNAME:CEST
DTSTART:20240331T010000
END:DAYLIGHT
BEGIN:STANDARD
TZOFFSETFROM:+0200
TZOFFSETTO:+0100
TZNAME:CET
DTSTART:20241027T010000
END:STANDARD
END:VTIMEZONE
BEGIN:VEVENT
DTSTART;TZID=Europe/Berlin:20230916T130000
DTEND;TZID=Europe/Berlin:20230916T160000
DTSTAMP:20260423T221913
CREATED:20230803T102756Z
LAST-MODIFIED:20230803T102756Z
UID:4090-1694869200-1694880000@www.herzkind.de
SUMMARY:Kontaktgruppe Hannover: Erste-Hilfe-Kurs für Herzkinder
DESCRIPTION:… und ihre Angehörigen in der MHH Hannover. \nWann: 16. September 2023\, 13:00-16:00 Uhr \nWo: MHH Hannover \nFür die Anmeldung und weitere Informationen melden Sie sich bei Kontaktgruppenleiterin Anja Eichentopf unter a.eichentopf@web.de
URL:https://www.herzkind.de/termin/kontaktgruppe-hannover-erste-hilfe-kurs-fuer-herzkinder/
ATTACH;FMTTYPE=image/jpeg:https://www.herzkind.de/medien/2023/04/stethoscope-gc7da47af4_1920.jpg
END:VEVENT
END:VCALENDAR