BEGIN:VCALENDAR
VERSION:2.0
PRODID:-//Herzkind e.V. - ECPv6.15.20//NONSGML v1.0//EN
CALSCALE:GREGORIAN
METHOD:PUBLISH
X-ORIGINAL-URL:https://www.herzkind.de
X-WR-CALDESC:Veranstaltungen für Herzkind e.V.
REFRESH-INTERVAL;VALUE=DURATION:PT1H
X-Robots-Tag:noindex
X-PUBLISHED-TTL:PT1H
BEGIN:VTIMEZONE
TZID:Europe/Berlin
BEGIN:DAYLIGHT
TZOFFSETFROM:+0100
TZOFFSETTO:+0200
TZNAME:CEST
DTSTART:20220327T010000
END:DAYLIGHT
BEGIN:STANDARD
TZOFFSETFROM:+0200
TZOFFSETTO:+0100
TZNAME:CET
DTSTART:20221030T010000
END:STANDARD
BEGIN:DAYLIGHT
TZOFFSETFROM:+0100
TZOFFSETTO:+0200
TZNAME:CEST
DTSTART:20230326T010000
END:DAYLIGHT
BEGIN:STANDARD
TZOFFSETFROM:+0200
TZOFFSETTO:+0100
TZNAME:CET
DTSTART:20231029T010000
END:STANDARD
BEGIN:DAYLIGHT
TZOFFSETFROM:+0100
TZOFFSETTO:+0200
TZNAME:CEST
DTSTART:20240331T010000
END:DAYLIGHT
BEGIN:STANDARD
TZOFFSETFROM:+0200
TZOFFSETTO:+0100
TZNAME:CET
DTSTART:20241027T010000
END:STANDARD
END:VTIMEZONE
BEGIN:VEVENT
DTSTART;TZID=Europe/Berlin:20230814T170000
DTEND;TZID=Europe/Berlin:20230814T190000
DTSTAMP:20260424T090259
CREATED:20230317T092229Z
LAST-MODIFIED:20230317T092229Z
UID:3787-1692032400-1692039600@www.herzkind.de
SUMMARY:Berliner Powerherzen: Offener Stammtisch
DESCRIPTION:Wann: 14. August 2023 von 17.00-19.00 Uhr \nWo: Bremer Höhle\, Buchholzerstr. 16/ Ecke Greifenhagener Str. in 10437 Berlin \nJeden zweiten Montag im Monat treffen sich die Berliner Powerherzen von 17.00 bis 19.00 Uhr zum Austausch\, Netzwerken\, Quatschen\, Kaffee oder Tee trinken\, Zuhören. In unregelmäßigen Abständen wird aus dem Stammtisch ein Themenstammtisch.  Dazu werden Experten zu den verschiedensten Themen eingeladen. Eine Anmeldung ist nicht erforderlich und ihr müsst nicht pünktlich sein.
URL:https://www.herzkind.de/termin/berliner-powerherzen-offener-stammtisch-3/
ATTACH;FMTTYPE=image/png:https://www.herzkind.de/medien/2021/09/connections-2099068-1.png
END:VEVENT
END:VCALENDAR