BEGIN:VCALENDAR
VERSION:2.0
PRODID:-//Herzkind e.V. - ECPv6.15.20//NONSGML v1.0//EN
CALSCALE:GREGORIAN
METHOD:PUBLISH
X-ORIGINAL-URL:https://www.herzkind.de
X-WR-CALDESC:Veranstaltungen für Herzkind e.V.
REFRESH-INTERVAL;VALUE=DURATION:PT1H
X-Robots-Tag:noindex
X-PUBLISHED-TTL:PT1H
BEGIN:VTIMEZONE
TZID:Europe/Berlin
BEGIN:DAYLIGHT
TZOFFSETFROM:+0100
TZOFFSETTO:+0200
TZNAME:CEST
DTSTART:20220327T010000
END:DAYLIGHT
BEGIN:STANDARD
TZOFFSETFROM:+0200
TZOFFSETTO:+0100
TZNAME:CET
DTSTART:20221030T010000
END:STANDARD
BEGIN:DAYLIGHT
TZOFFSETFROM:+0100
TZOFFSETTO:+0200
TZNAME:CEST
DTSTART:20230326T010000
END:DAYLIGHT
BEGIN:STANDARD
TZOFFSETFROM:+0200
TZOFFSETTO:+0100
TZNAME:CET
DTSTART:20231029T010000
END:STANDARD
BEGIN:DAYLIGHT
TZOFFSETFROM:+0100
TZOFFSETTO:+0200
TZNAME:CEST
DTSTART:20240331T010000
END:DAYLIGHT
BEGIN:STANDARD
TZOFFSETFROM:+0200
TZOFFSETTO:+0100
TZNAME:CET
DTSTART:20241027T010000
END:STANDARD
END:VTIMEZONE
BEGIN:VEVENT
DTSTART;VALUE=DATE:20230728
DTEND;VALUE=DATE:20230807
DTSTAMP:20260424T051300
CREATED:20221103T113331Z
LAST-MODIFIED:20230117T091619Z
UID:3067-1690502400-1691366399@www.herzkind.de
SUMMARY:Segeltörn der Kinderherzstiftung
DESCRIPTION:Segeltörn für Jugendliche und junge Erwachsene mit angeborenem Herzfehler ab 14 Jahren \nWann: 28. Juli 2023 – 06. August 2023 \nWo: Ijsselmeer (NL) und niederländisches Wattenmeer \nKosten: 275 Euro \nAnmeldeschluss: 01. März 2023 \nDie Reise führt in Begleitung einer erfahrenen Ärztin\, einer Köchin und eines Betreuers über das Ijsselmeer und das niederländische Wattenmeer. Vorkenntnisse sind nicht notwendig. Alle Aktionen an Bord werden von uns unter Anleitung eines Skippers übernommen. Übernachtung und Vollverpflegung sind im Reisepreis enthalten. Für die An- und Abreise muss selbst gesorgt werden. \nWeitere Informationen unter: https://www.herzstiftung.de/leben-mit-angeborenem-herzfehler/angebote-und-service/freizeiten-herzfehler \n  \nFür die Anmeldung melden Sie sich bitte bei: \nKai Rüenbrink\, Leiter der Kinderherzstiftung \nTel.: 069 955128-145 \nMail: kinderherzstiftung@herzstiftung.de
URL:https://www.herzkind.de/termin/segeltoern-der-kinderherzstiftung-2/
ATTACH;FMTTYPE=image/jpeg:https://www.herzkind.de/medien/2022/11/ship-gdd06fdd6d_1920.jpg
END:VEVENT
END:VCALENDAR