BEGIN:VCALENDAR
VERSION:2.0
PRODID:-//Herzkind e.V. - ECPv6.15.20//NONSGML v1.0//EN
CALSCALE:GREGORIAN
METHOD:PUBLISH
X-ORIGINAL-URL:https://www.herzkind.de
X-WR-CALDESC:Veranstaltungen für Herzkind e.V.
REFRESH-INTERVAL;VALUE=DURATION:PT1H
X-Robots-Tag:noindex
X-PUBLISHED-TTL:PT1H
BEGIN:VTIMEZONE
TZID:Europe/Berlin
BEGIN:DAYLIGHT
TZOFFSETFROM:+0100
TZOFFSETTO:+0200
TZNAME:CEST
DTSTART:20220327T010000
END:DAYLIGHT
BEGIN:STANDARD
TZOFFSETFROM:+0200
TZOFFSETTO:+0100
TZNAME:CET
DTSTART:20221030T010000
END:STANDARD
BEGIN:DAYLIGHT
TZOFFSETFROM:+0100
TZOFFSETTO:+0200
TZNAME:CEST
DTSTART:20230326T010000
END:DAYLIGHT
BEGIN:STANDARD
TZOFFSETFROM:+0200
TZOFFSETTO:+0100
TZNAME:CET
DTSTART:20231029T010000
END:STANDARD
BEGIN:DAYLIGHT
TZOFFSETFROM:+0100
TZOFFSETTO:+0200
TZNAME:CEST
DTSTART:20240331T010000
END:DAYLIGHT
BEGIN:STANDARD
TZOFFSETFROM:+0200
TZOFFSETTO:+0100
TZNAME:CET
DTSTART:20241027T010000
END:STANDARD
END:VTIMEZONE
BEGIN:VEVENT
DTSTART;VALUE=DATE:20230624
DTEND;VALUE=DATE:20230625
DTSTAMP:20260424T113759
CREATED:20230317T091839Z
LAST-MODIFIED:20230317T091839Z
UID:3782-1687564800-1687651199@www.herzkind.de
SUMMARY:Berliner Powerherzen: Großstadtsafari
DESCRIPTION:Wann: 24. Juni 2023 ab 14.00 Uhr \nEintritt: Bei einer Gruppengröße von 25 Personen p.P. 5\,00 Euro \nDie Berliner Powerherzen wollen gemeinsam auf Großstadtsafari durch Berlin gehen! Der Fuchs vom Kanzleramt\, Waschbären am Alexanderplatz und Wildschweine\, die mit ihren Frischlingen Vorgärten umwühlen sind prominente Vertreter: 1500 Stadtfüchse\, 40 Biberfamilien und tausende Wildkaninchen zählen zum Reichtum der Hauptstadt der wilden Tiere. Oft leben Waschbär\, Wanderfalke und Fledermaus geheim unter uns mitten in der Stadt. Ihre Spuren verraten uns ihre Vorlieben und Gewohnheiten. Die Tour führt durch Berlins Mitte\, wo sich nicht nur Fuchs und Hase Gute Nacht sagen. Die Führung dauert ca. 2 Stunden und kostet für 25 Personen 120 Euro (5\,00 Euro p.P.) \nWenn Ihr Interesse habt\, dann meldet euch schnell an unter info@berliner-powerherzen.de \n 
URL:https://www.herzkind.de/termin/berliner-powerherzen-grossstadtsafari/
ATTACH;FMTTYPE=image/jpeg:https://www.herzkind.de/medien/2023/03/fox-g4b9a3a7dc_1920.jpg
END:VEVENT
END:VCALENDAR