BEGIN:VCALENDAR
VERSION:2.0
PRODID:-//Herzkind e.V. - ECPv6.15.20//NONSGML v1.0//EN
CALSCALE:GREGORIAN
METHOD:PUBLISH
X-WR-CALNAME:Herzkind e.V.
X-ORIGINAL-URL:https://www.herzkind.de
X-WR-CALDESC:Veranstaltungen für Herzkind e.V.
REFRESH-INTERVAL;VALUE=DURATION:PT1H
X-Robots-Tag:noindex
X-PUBLISHED-TTL:PT1H
BEGIN:VTIMEZONE
TZID:Europe/Berlin
BEGIN:DAYLIGHT
TZOFFSETFROM:+0100
TZOFFSETTO:+0200
TZNAME:CEST
DTSTART:20220327T010000
END:DAYLIGHT
BEGIN:STANDARD
TZOFFSETFROM:+0200
TZOFFSETTO:+0100
TZNAME:CET
DTSTART:20221030T010000
END:STANDARD
BEGIN:DAYLIGHT
TZOFFSETFROM:+0100
TZOFFSETTO:+0200
TZNAME:CEST
DTSTART:20230326T010000
END:DAYLIGHT
BEGIN:STANDARD
TZOFFSETFROM:+0200
TZOFFSETTO:+0100
TZNAME:CET
DTSTART:20231029T010000
END:STANDARD
BEGIN:DAYLIGHT
TZOFFSETFROM:+0100
TZOFFSETTO:+0200
TZNAME:CEST
DTSTART:20240331T010000
END:DAYLIGHT
BEGIN:STANDARD
TZOFFSETFROM:+0200
TZOFFSETTO:+0100
TZNAME:CET
DTSTART:20241027T010000
END:STANDARD
END:VTIMEZONE
BEGIN:VEVENT
DTSTART;VALUE=DATE:20230617
DTEND;VALUE=DATE:20230618
DTSTAMP:20260424T141743
CREATED:20230602T121048Z
LAST-MODIFIED:20230602T121048Z
UID:4005-1686960000-1687046399@www.herzkind.de
SUMMARY:KG Berlin: Elternstammtisch
DESCRIPTION:Die Kontaktgruppe Berlin lädt alle Interessierten herzlich zum Elternstammtisch rund um angeborene Herzfehler ein! \nEine kurze Anmeldung sowie evtl. Themenvorschläge schickt ihr an die Kontaktgruppenleiterin Dörthe Schwenk: Doerthe.schwenk@googlemail.com
URL:https://www.herzkind.de/termin/kg-berlin-elternstammtisch-9/
ATTACH;FMTTYPE=image/jpeg:https://www.herzkind.de/medien/2022/04/gruppe-mit-herz.jpg
END:VEVENT
BEGIN:VEVENT
DTSTART;TZID=Europe/Berlin:20230617T140000
DTEND;TZID=Europe/Berlin:20230617T180000
DTSTAMP:20260424T141743
CREATED:20230508T123432Z
LAST-MODIFIED:20230508T123432Z
UID:3915-1687010400-1687024800@www.herzkind.de
SUMMARY:Sommerfest MHH Kinderklinik
DESCRIPTION:Im Innenhof der MHH Kinderklinik findet auch in diesem Jahr ein Sommerfest statt! \nWann: Samstag\, 17. Juni 2023 von 14.00-18.00 Uhr \nWo: Innenhof der MHH Kinderklinik \nMit buntem Bühnenprogramm\, EDDI von Hannover 96 und Sharky vom Sea-Life\, Mitmachaktionen von Elternvereinen\, Tombola\, Hüpfburg\, Young Indians Hannover mit Schussmaschine\, Käpt´n Utt\, Kinder schminken\, Fan Club Star Wars und Feen und vieles mehr. Für das leibliche Wohl ist auch wieder bestens gesorgt. \nAuch die Kontaktgruppe Hannover des Herzkind e.V. wird mit einem Stand und bunten Mitmachaktionen vertreten sein! Wir freuen uns auf euch.
URL:https://www.herzkind.de/termin/sommerfest-mhh-kinderklinik-2/
ATTACH;FMTTYPE=image/jpeg:https://www.herzkind.de/medien/2023/05/unbenannt.jpg
END:VEVENT
END:VCALENDAR