BEGIN:VCALENDAR
VERSION:2.0
PRODID:-//Herzkind e.V. - ECPv6.15.20//NONSGML v1.0//EN
CALSCALE:GREGORIAN
METHOD:PUBLISH
X-WR-CALNAME:Herzkind e.V.
X-ORIGINAL-URL:https://www.herzkind.de
X-WR-CALDESC:Veranstaltungen für Herzkind e.V.
REFRESH-INTERVAL;VALUE=DURATION:PT1H
X-Robots-Tag:noindex
X-PUBLISHED-TTL:PT1H
BEGIN:VTIMEZONE
TZID:Europe/Berlin
BEGIN:DAYLIGHT
TZOFFSETFROM:+0100
TZOFFSETTO:+0200
TZNAME:CEST
DTSTART:20220327T010000
END:DAYLIGHT
BEGIN:STANDARD
TZOFFSETFROM:+0200
TZOFFSETTO:+0100
TZNAME:CET
DTSTART:20221030T010000
END:STANDARD
BEGIN:DAYLIGHT
TZOFFSETFROM:+0100
TZOFFSETTO:+0200
TZNAME:CEST
DTSTART:20230326T010000
END:DAYLIGHT
BEGIN:STANDARD
TZOFFSETFROM:+0200
TZOFFSETTO:+0100
TZNAME:CET
DTSTART:20231029T010000
END:STANDARD
BEGIN:DAYLIGHT
TZOFFSETFROM:+0100
TZOFFSETTO:+0200
TZNAME:CEST
DTSTART:20240331T010000
END:DAYLIGHT
BEGIN:STANDARD
TZOFFSETFROM:+0200
TZOFFSETTO:+0100
TZNAME:CET
DTSTART:20241027T010000
END:STANDARD
END:VTIMEZONE
BEGIN:VEVENT
DTSTART;TZID=Europe/Berlin:20230612T170000
DTEND;TZID=Europe/Berlin:20230612T190000
DTSTAMP:20260425T005720
CREATED:20230317T091452Z
LAST-MODIFIED:20230317T091452Z
UID:3780-1686589200-1686596400@www.herzkind.de
SUMMARY:Berliner Powerherzen: Themenstammtisch - "Schwangerschaft mit angeborenem Herzfehler"
DESCRIPTION:Wann: 12. Juni 2023 von 17.00-19.00 Uhr \nWo: Bremer Höhle\, Buchholzerstr. 16/ Ecke Greifenhagener Str. on 10437 Berlin \nBeim zweiten Themenstammtisch aus der Reihe „Kinderwunsch und angeborene Herzfehler“ wird es um die Schwangerschaft mit angeborenem Herzfehler – Geht das überhaupt? gehen. Als Expertin haben die Berliner Powerherzen die Oberärztin der Ambulanz für Angeborene Herzfehler des Deutschen Herzzentrums der Charité (DHZC)\, Frau Dr. Danne\, eingeladen. \nWenn ihr Fragen zum Thema habt\, dann sendet diese bis zum 30. Mai 2023 an info@berliner-powerherzen.de \nDer Themenstammtisch wird in Präsenz und als Hybridveranstaltung angeboten. Die Berliner Powerherzen bitten darum\, sich bis zum 9. Juni 2023 unter info@berliner-powerherzen.de anzumelden. Wer Online teilnehmen möchte\, sollte dies in der Mail erwähnen\, damit Link und Passwort rechtzeitig zugeschickt werden können. \nDie Berliner Powerherzen freuen sich auf euch und eure Fragen!
URL:https://www.herzkind.de/termin/berliner-powerherzen-themenstammtisch-schwangerschaft-mit-angeborenem-herzfehler/
ATTACH;FMTTYPE=image/jpeg:https://www.herzkind.de/medien/2023/03/baby-bump-g5782e7842_1920.jpg
END:VEVENT
END:VCALENDAR