BEGIN:VCALENDAR
VERSION:2.0
PRODID:-//Herzkind e.V. - ECPv6.15.20//NONSGML v1.0//EN
CALSCALE:GREGORIAN
METHOD:PUBLISH
X-ORIGINAL-URL:https://www.herzkind.de
X-WR-CALDESC:Veranstaltungen für Herzkind e.V.
REFRESH-INTERVAL;VALUE=DURATION:PT1H
X-Robots-Tag:noindex
X-PUBLISHED-TTL:PT1H
BEGIN:VTIMEZONE
TZID:Europe/Berlin
BEGIN:DAYLIGHT
TZOFFSETFROM:+0100
TZOFFSETTO:+0200
TZNAME:CEST
DTSTART:20220327T010000
END:DAYLIGHT
BEGIN:STANDARD
TZOFFSETFROM:+0200
TZOFFSETTO:+0100
TZNAME:CET
DTSTART:20221030T010000
END:STANDARD
BEGIN:DAYLIGHT
TZOFFSETFROM:+0100
TZOFFSETTO:+0200
TZNAME:CEST
DTSTART:20230326T010000
END:DAYLIGHT
BEGIN:STANDARD
TZOFFSETFROM:+0200
TZOFFSETTO:+0100
TZNAME:CET
DTSTART:20231029T010000
END:STANDARD
BEGIN:DAYLIGHT
TZOFFSETFROM:+0100
TZOFFSETTO:+0200
TZNAME:CEST
DTSTART:20240331T010000
END:DAYLIGHT
BEGIN:STANDARD
TZOFFSETFROM:+0200
TZOFFSETTO:+0100
TZNAME:CET
DTSTART:20241027T010000
END:STANDARD
END:VTIMEZONE
BEGIN:VEVENT
DTSTART;VALUE=DATE:20230503
DTEND;VALUE=DATE:20230504
DTSTAMP:20260425T015609
CREATED:20230110T094503Z
LAST-MODIFIED:20230110T094503Z
UID:3622-1683072000-1683158399@www.herzkind.de
SUMMARY:KG Dresden: Elternstammtisch
DESCRIPTION:Die Kontaktgruppe Dresden lädt alle Interessierten herzlich zum Elternstammtisch ein. \nDie Veranstaltung beginnt um 19:00 Uhr. Treffpunkt und weitere Informationen sowie Anmeldung bitte bei der Kontaktgruppenleiterin Heike Wessel unter kinderherzen@t-online.de oder bei Katharina Krieg unter krieg-katharina@gmx.de.
URL:https://www.herzkind.de/termin/kg-dresden-elternstammtisch-8/
ATTACH;FMTTYPE=image/jpeg:https://www.herzkind.de/medien/2022/06/playmobil-g24c53e0cd_1920.jpg
END:VEVENT
BEGIN:VEVENT
DTSTART;VALUE=DATE:20230503
DTEND;VALUE=DATE:20230504
DTSTAMP:20260425T015609
CREATED:20230403T103444Z
LAST-MODIFIED:20230403T103444Z
UID:3852-1683072000-1683158399@www.herzkind.de
SUMMARY:KG Emsland: Besichtigung Apetito
DESCRIPTION:Die Herzkind-Kontaktgruppe Emsland/Meppen besichtigt die Firma „Apetito“ in Rheine. Apetito ist ein Hersteller von Tiefkühlmenüs\, gekühlten Menüs\, Menükomponenten und Verpflegungskonzepten mit Hauptsitz in Rheine. \nWann: Mittwoch\, 03. Mai 2023 \nFür die Anmeldung und weitere Informationen melden Sie sich bei der Kontaktgruppenleiterin Doris Rojer unter Tel. 05931 846946 oder per Mail: dorisrojer@web.de  \n 
URL:https://www.herzkind.de/termin/kg-emsland-besichtigung-apetito/
ATTACH;FMTTYPE=image/jpeg:https://www.herzkind.de/medien/2023/04/spaghetti-g472476eae_1920.jpg
END:VEVENT
END:VCALENDAR