BEGIN:VCALENDAR
VERSION:2.0
PRODID:-//Herzkind e.V. - ECPv6.15.20//NONSGML v1.0//EN
CALSCALE:GREGORIAN
METHOD:PUBLISH
X-WR-CALNAME:Herzkind e.V.
X-ORIGINAL-URL:https://www.herzkind.de
X-WR-CALDESC:Veranstaltungen für Herzkind e.V.
REFRESH-INTERVAL;VALUE=DURATION:PT1H
X-Robots-Tag:noindex
X-PUBLISHED-TTL:PT1H
BEGIN:VTIMEZONE
TZID:Europe/Berlin
BEGIN:DAYLIGHT
TZOFFSETFROM:+0100
TZOFFSETTO:+0200
TZNAME:CEST
DTSTART:20220327T010000
END:DAYLIGHT
BEGIN:STANDARD
TZOFFSETFROM:+0200
TZOFFSETTO:+0100
TZNAME:CET
DTSTART:20221030T010000
END:STANDARD
BEGIN:DAYLIGHT
TZOFFSETFROM:+0100
TZOFFSETTO:+0200
TZNAME:CEST
DTSTART:20230326T010000
END:DAYLIGHT
BEGIN:STANDARD
TZOFFSETFROM:+0200
TZOFFSETTO:+0100
TZNAME:CET
DTSTART:20231029T010000
END:STANDARD
BEGIN:DAYLIGHT
TZOFFSETFROM:+0100
TZOFFSETTO:+0200
TZNAME:CEST
DTSTART:20240331T010000
END:DAYLIGHT
BEGIN:STANDARD
TZOFFSETFROM:+0200
TZOFFSETTO:+0100
TZNAME:CET
DTSTART:20241027T010000
END:STANDARD
END:VTIMEZONE
BEGIN:VEVENT
DTSTART;VALUE=DATE:20230426
DTEND;VALUE=DATE:20230427
DTSTAMP:20260426T033104
CREATED:20230424T122256Z
LAST-MODIFIED:20230424T122256Z
UID:3894-1682467200-1682553599@www.herzkind.de
SUMMARY:Junge Herzen Bayern: Online-Treffen
DESCRIPTION:Nach längerer Pause richten die Jungen Herzen Bayern wieder ein Online-Treffen aus! \nWann: Mittwoch\, 26. April 2023 um 20.15 Uhr \nWo: Online via Zoom \nBei Interesse melden Sie sich bitte direkt bei den Jungen Herzen Bayern unter info@junge-herzen-bayern.com an\, anschließend werden Ihnen die Zugangsdaten geschickt. \nWeitere Informationen unter https://junge-herzen-bayern.com/ \n  \n 
URL:https://www.herzkind.de/termin/junge-herzen-bayern-online-treffen/
ATTACH;FMTTYPE=image/jpeg:https://www.herzkind.de/medien/2023/04/video-conference-g7ad18ff9d_1920.jpg
END:VEVENT
BEGIN:VEVENT
DTSTART;TZID=Europe/Berlin:20230426T180000
DTEND;TZID=Europe/Berlin:20230426T193000
DTSTAMP:20260426T033104
CREATED:20230403T104122Z
LAST-MODIFIED:20230403T104122Z
UID:3855-1682532000-1682537400@www.herzkind.de
SUMMARY:KG Emsland: Dr. Chen über "Herzfehler und Herzerkrankungen bei Kindern"
DESCRIPTION:Die Kontaktgruppe Emsland/Meppen richtet einen Vortrag mit Dr. Christian Chen aus. Der Chefarzt der Klinik für Kinder- und Jugendmedizin und Neonatologie am Krankenhaus Ludmillenstift in Meppen wird über Herzfehler und Herzerkrankungen bei Kindern sprechen und im Anschluss für Fragen zur Verfügung stehen. \nWann: 26. April 2023\, 18.00-19.30 Uhr \nWo: Hotel von Euch\, Meppen \nFür die Anmeldung und weitere Informationen melden Sie sich bei der Kontaktgruppenleiterin Doris Rojer unter Tel.: 05931 846946 oder per Mail: dorisrojer@web.de \n 
URL:https://www.herzkind.de/termin/kg-emsland-dr-chen-ueber-herzfehler-und-herzerkrankungen-bei-kindern/
ATTACH;FMTTYPE=image/jpeg:https://www.herzkind.de/medien/2023/04/stethoscope-gc7da47af4_1920.jpg
END:VEVENT
END:VCALENDAR