BEGIN:VCALENDAR
VERSION:2.0
PRODID:-//Herzkind e.V. - ECPv6.15.20//NONSGML v1.0//EN
CALSCALE:GREGORIAN
METHOD:PUBLISH
X-WR-CALNAME:Herzkind e.V.
X-ORIGINAL-URL:https://www.herzkind.de
X-WR-CALDESC:Veranstaltungen für Herzkind e.V.
REFRESH-INTERVAL;VALUE=DURATION:PT1H
X-Robots-Tag:noindex
X-PUBLISHED-TTL:PT1H
BEGIN:VTIMEZONE
TZID:Europe/Berlin
BEGIN:DAYLIGHT
TZOFFSETFROM:+0100
TZOFFSETTO:+0200
TZNAME:CEST
DTSTART:20220327T010000
END:DAYLIGHT
BEGIN:STANDARD
TZOFFSETFROM:+0200
TZOFFSETTO:+0100
TZNAME:CET
DTSTART:20221030T010000
END:STANDARD
BEGIN:DAYLIGHT
TZOFFSETFROM:+0100
TZOFFSETTO:+0200
TZNAME:CEST
DTSTART:20230326T010000
END:DAYLIGHT
BEGIN:STANDARD
TZOFFSETFROM:+0200
TZOFFSETTO:+0100
TZNAME:CET
DTSTART:20231029T010000
END:STANDARD
BEGIN:DAYLIGHT
TZOFFSETFROM:+0100
TZOFFSETTO:+0200
TZNAME:CEST
DTSTART:20240331T010000
END:DAYLIGHT
BEGIN:STANDARD
TZOFFSETFROM:+0200
TZOFFSETTO:+0100
TZNAME:CET
DTSTART:20241027T010000
END:STANDARD
END:VTIMEZONE
BEGIN:VEVENT
DTSTART;VALUE=DATE:20230415
DTEND;VALUE=DATE:20230416
DTSTAMP:20260425T042516
CREATED:20230110T093750Z
LAST-MODIFIED:20230110T093750Z
UID:3614-1681516800-1681603199@www.herzkind.de
SUMMARY:KG Berlin: Elternstammtisch
DESCRIPTION:Die Kontaktgruppe Berlin lädt alle Interessierten zum Elternstammtisch ein. \nUm eine kurze Anmeldung  wird gebeten. Auch Themenvorschläge sind gerne gesehen. Weitere Informationen zur Kontaktgruppe und zum Termin erhalten Sie bei der Kontaktgruppenleiterin Dörthe Schwenk unter Mail: Doerthe.schwenk@googlemail.com
URL:https://www.herzkind.de/termin/kg-berlin-elternstammtisch-7/
ATTACH;FMTTYPE=image/jpeg:https://www.herzkind.de/medien/2022/04/gruppe-mit-herz.jpg
END:VEVENT
BEGIN:VEVENT
DTSTART;VALUE=DATE:20230415
DTEND;VALUE=DATE:20230416
DTSTAMP:20260425T042516
CREATED:20230110T131009Z
LAST-MODIFIED:20230328T123940Z
UID:3633-1681516800-1681603199@www.herzkind.de
SUMMARY:KG Braunschweig: Ausflug in den Tierpark Essehof
DESCRIPTION:Die Kontaktgruppe Braunschweig macht einen Ausflug in den Tierpark Essehof und freut sich auf einen schönen Nachmittag mit vielen Familien. Alle interessierten Familien\, die gerne in den Zoo gehen und dabei andere Herzkindeltern\, Herzkinder und Herzkindgeschwister kennenlernen möchten\, sind herzlich eingeladen\, mitzukommen! \nWann: Samstag\, 15. April um 15:00 Uhr \nWo: Tierpark Essehof \nWer: Eltern\, Herzkinder\, Geschwisterkinder\, Großeltern und andere Angehörige \nUm eine vorherige Anmeldung bei Kontaktgruppenleiterin Tanja Gebert unter Tel. 0160-94440369 wird gebeten.
URL:https://www.herzkind.de/termin/kg-braunschweig-ausflug-in-den-tierpark-essehof/
ATTACH;FMTTYPE=image/jpeg:https://www.herzkind.de/medien/2023/01/goat-gf7ae51ff9_1920.jpg
END:VEVENT
BEGIN:VEVENT
DTSTART;VALUE=DATE:20230415
DTEND;VALUE=DATE:20230416
DTSTAMP:20260425T042516
CREATED:20230118T104622Z
LAST-MODIFIED:20230118T104742Z
UID:3657-1681516800-1681603199@www.herzkind.de
SUMMARY:UMG Göttingen: Benefizkonzert mit Justus Rümenapp am Flügel
DESCRIPTION:Wann: 15. April 2023\, 19 Uhr \nWo: Alte Mensa am Wilhelmsplatz\, Adam-von-Trott-Saal\, Göttingen \nAktuelle Informationen zum Termin erhalten Sie im Herzzentrum der UMG Göttingen unter https://herzzentrum.umg.eu/ oder unter Tel. 0551/39-65348.
URL:https://www.herzkind.de/termin/benefizkonzert-mit-justus-ruemenapp-am-fluegel/
ATTACH;FMTTYPE=image/jpeg:https://www.herzkind.de/medien/2022/11/piano-gcd8b6f207_1920.jpg
END:VEVENT
BEGIN:VEVENT
DTSTART;VALUE=DATE:20230415
DTEND;VALUE=DATE:20230416
DTSTAMP:20260425T042516
CREATED:20230317T084908Z
LAST-MODIFIED:20230317T084908Z
UID:3768-1681516800-1681603199@www.herzkind.de
SUMMARY:Berliner Powerherzen: Zauberhaftes Gruppentreffen
DESCRIPTION:Wann: 15. April 2023 um 14.00 Uhr \nWo: Magicum Berlin\, Große Hamburger Straße 17\, 10115 Berlin \nEintritt: 10\,00 Euro (inkl. Zaubershow) \nDas nächste Gruppentreffen der Berliner Powerherzen findet statt! Diesmal wird es mystisch und zauberhaft\, denn gemeinsam soll das Magicum Berlin besucht werden. Das Magicum Berlin ist das weltweit erste interaktive Museum der Magie und Mystik. Es wird einzigartig\, spannend und zauberhaft werden. Zusammen soll das Museum angeschaut und anschließend die  Zaubershow besucht werden. Wenn Interesse besteht\, kann auch noch eine Führung dazugebucht werden\, diese würde bei einer Gruppe mit 15 Personen 55\,00 Euro kosten. (pro Person 3\,70 Euro zusätzlich zum Eintritt) \nIm Anschluss können Interessierte mit ins 120 m enfernte „The Sixties Diner“ kommen und den Nachmittag bei einer Stärkung ausklingen lassen. \nAnmeldungen nehmen die Berliner Powerherzen bis Donnerstag\, den 6. April unter info@berliner-powerherzen.de entgegen. Dabei bitte auch angeben\, ob ihr eine Führung machen möchtet und ob ihr mit ins Diner kommen wollt. \n 
URL:https://www.herzkind.de/termin/berliner-powerherzen-zauberhaftes-gruppentreffen/
ATTACH;FMTTYPE=image/jpeg:https://www.herzkind.de/medien/2023/03/a-book-g564d02be5_1920.jpg
END:VEVENT
END:VCALENDAR