BEGIN:VCALENDAR
VERSION:2.0
PRODID:-//Herzkind e.V. - ECPv6.15.20//NONSGML v1.0//EN
CALSCALE:GREGORIAN
METHOD:PUBLISH
X-WR-CALNAME:Herzkind e.V.
X-ORIGINAL-URL:https://www.herzkind.de
X-WR-CALDESC:Veranstaltungen für Herzkind e.V.
REFRESH-INTERVAL;VALUE=DURATION:PT1H
X-Robots-Tag:noindex
X-PUBLISHED-TTL:PT1H
BEGIN:VTIMEZONE
TZID:Europe/Berlin
BEGIN:DAYLIGHT
TZOFFSETFROM:+0100
TZOFFSETTO:+0200
TZNAME:CEST
DTSTART:20220327T010000
END:DAYLIGHT
BEGIN:STANDARD
TZOFFSETFROM:+0200
TZOFFSETTO:+0100
TZNAME:CET
DTSTART:20221030T010000
END:STANDARD
BEGIN:DAYLIGHT
TZOFFSETFROM:+0100
TZOFFSETTO:+0200
TZNAME:CEST
DTSTART:20230326T010000
END:DAYLIGHT
BEGIN:STANDARD
TZOFFSETFROM:+0200
TZOFFSETTO:+0100
TZNAME:CET
DTSTART:20231029T010000
END:STANDARD
BEGIN:DAYLIGHT
TZOFFSETFROM:+0100
TZOFFSETTO:+0200
TZNAME:CEST
DTSTART:20240331T010000
END:DAYLIGHT
BEGIN:STANDARD
TZOFFSETFROM:+0200
TZOFFSETTO:+0100
TZNAME:CET
DTSTART:20241027T010000
END:STANDARD
END:VTIMEZONE
BEGIN:VEVENT
DTSTART;VALUE=DATE:20230324
DTEND;VALUE=DATE:20230327
DTSTAMP:20260424T021605
CREATED:20221114T134633Z
LAST-MODIFIED:20221114T135521Z
UID:3128-1679616000-1679875199@www.herzkind.de
SUMMARY:Auszeit für Mamas chronisch kranker Kinder
DESCRIPTION:Die „Mamahilfe Mütter für Mütter“ bietet ein Auszeitwochenende für Mütter chronisch kranker Kinder am Chiemsee an \nWann: 24. März – 26- März 2023 \nWo: Irmengardhof der Björn Schulz Stiftung in Mitterndorf am Chiemsee \nAnmeldeschluss: 2. Januar 2023 \n„Die Pflege und Betreuung deines Kindes\, Therapien\, Termine und Krankenhausaufenthalte fordern enorm viel Kraft und bestimmen oft den Alltag der ganzen Familie. Besonders wir Mütter neigen ja dazu\, unsere eigenen Bedürfnisse zurückzustellen und über die Grenzen unserer Kräfte zu gehen. Für Erholung und um neue Kräfte zu sammeln bleibt da nicht mehr viel Raum. Wir verbringen ein Wochenende einer kleinen Gruppe von 10 Frauen im wunderschönen Irmengardhof. Das Haus liegt nur wenige Meter vom Chiemsee. Im Kreise anderer Mütter mit ähnlichen Lebensumständen darfst du an diesem Wochenende einmal Zeit nur für dich nehmen. Durchatmen – Innehalten – Abstand schaffen – Zusammensein – Auftanken –  Ausrichten – Das Seminar richtet sich an Mütter\, die die Diagnose ihres Kindes vor mehr als einem Jahr erhalten haben und bereits im Therapiealltag angekommen sind.“ \nWeitere Informationen\, Programm und verbindliche Anmeldung unter: https://kikudoo.com/mutter-fur-mutter/courses/Ek0aAQ \nOrganisation und Leitung: \nJulia Sander \nTel. 0170/1620700 \ninfo@muetter-fuer-muetter.net \n  \n 
URL:https://www.herzkind.de/termin/auszeit-fuer-mamas-chronisch-kranker-und-behinderter-kinder/
ATTACH;FMTTYPE=image/jpeg:https://www.herzkind.de/medien/2022/11/flyerauszeit_seite_1.jpg
END:VEVENT
END:VCALENDAR