BEGIN:VCALENDAR
VERSION:2.0
PRODID:-//Herzkind e.V. - ECPv6.15.20//NONSGML v1.0//EN
CALSCALE:GREGORIAN
METHOD:PUBLISH
X-ORIGINAL-URL:https://www.herzkind.de
X-WR-CALDESC:Veranstaltungen für Herzkind e.V.
REFRESH-INTERVAL;VALUE=DURATION:PT1H
X-Robots-Tag:noindex
X-PUBLISHED-TTL:PT1H
BEGIN:VTIMEZONE
TZID:Europe/Berlin
BEGIN:DAYLIGHT
TZOFFSETFROM:+0100
TZOFFSETTO:+0200
TZNAME:CEST
DTSTART:20220327T010000
END:DAYLIGHT
BEGIN:STANDARD
TZOFFSETFROM:+0200
TZOFFSETTO:+0100
TZNAME:CET
DTSTART:20221030T010000
END:STANDARD
BEGIN:DAYLIGHT
TZOFFSETFROM:+0100
TZOFFSETTO:+0200
TZNAME:CEST
DTSTART:20230326T010000
END:DAYLIGHT
BEGIN:STANDARD
TZOFFSETFROM:+0200
TZOFFSETTO:+0100
TZNAME:CET
DTSTART:20231029T010000
END:STANDARD
BEGIN:DAYLIGHT
TZOFFSETFROM:+0100
TZOFFSETTO:+0200
TZNAME:CEST
DTSTART:20240331T010000
END:DAYLIGHT
BEGIN:STANDARD
TZOFFSETFROM:+0200
TZOFFSETTO:+0100
TZNAME:CET
DTSTART:20241027T010000
END:STANDARD
END:VTIMEZONE
BEGIN:VEVENT
DTSTART;VALUE=DATE:20230318
DTEND;VALUE=DATE:20230319
DTSTAMP:20260424T161747
CREATED:20230110T093637Z
LAST-MODIFIED:20230110T093637Z
UID:3612-1679097600-1679183999@www.herzkind.de
SUMMARY:KG Berlin: Elternstammtisch
DESCRIPTION:Die Kontaktgruppe Berlin lädt alle Interessierten zum Elternstammtisch ein. \nUm eine kurze Anmeldung  wird gebeten. Auch Themenvorschläge sind gerne gesehen. Weitere Informationen zur Kontaktgruppe und zum Termin erhalten Sie bei der Kontaktgruppenleiterin Dörthe Schwenk unter Mail: Doerthe.schwenk@googlemail.com
URL:https://www.herzkind.de/termin/kg-berlin-elternstammtisch-6/
ATTACH;FMTTYPE=image/jpeg:https://www.herzkind.de/medien/2022/04/gruppe-mit-herz.jpg
END:VEVENT
END:VCALENDAR