BEGIN:VCALENDAR
VERSION:2.0
PRODID:-//Herzkind e.V. - ECPv6.15.20//NONSGML v1.0//EN
CALSCALE:GREGORIAN
METHOD:PUBLISH
X-WR-CALNAME:Herzkind e.V.
X-ORIGINAL-URL:https://www.herzkind.de
X-WR-CALDESC:Veranstaltungen für Herzkind e.V.
REFRESH-INTERVAL;VALUE=DURATION:PT1H
X-Robots-Tag:noindex
X-PUBLISHED-TTL:PT1H
BEGIN:VTIMEZONE
TZID:Europe/Berlin
BEGIN:DAYLIGHT
TZOFFSETFROM:+0100
TZOFFSETTO:+0200
TZNAME:CEST
DTSTART:20220327T010000
END:DAYLIGHT
BEGIN:STANDARD
TZOFFSETFROM:+0200
TZOFFSETTO:+0100
TZNAME:CET
DTSTART:20221030T010000
END:STANDARD
BEGIN:DAYLIGHT
TZOFFSETFROM:+0100
TZOFFSETTO:+0200
TZNAME:CEST
DTSTART:20230326T010000
END:DAYLIGHT
BEGIN:STANDARD
TZOFFSETFROM:+0200
TZOFFSETTO:+0100
TZNAME:CET
DTSTART:20231029T010000
END:STANDARD
BEGIN:DAYLIGHT
TZOFFSETFROM:+0100
TZOFFSETTO:+0200
TZNAME:CEST
DTSTART:20240331T010000
END:DAYLIGHT
BEGIN:STANDARD
TZOFFSETFROM:+0200
TZOFFSETTO:+0100
TZNAME:CET
DTSTART:20241027T010000
END:STANDARD
END:VTIMEZONE
BEGIN:VEVENT
DTSTART;VALUE=DATE:20230307
DTEND;VALUE=DATE:20230308
DTSTAMP:20260424T021434
CREATED:20230221T124916Z
LAST-MODIFIED:20230221T124916Z
UID:3742-1678147200-1678233599@www.herzkind.de
SUMMARY:UMG Göttingen: Herztöne 2023
DESCRIPTION:„Leben mit einem angeborenen Herzfehler“ – Prof. Dr. Claudia Dellas \nWann: Dienstag\, 7. März 2023\, 18.00 Uhr \nWo: StartRaum\, Friedrichstr. 3-4\, 37073 Göttingen \nEin Vortrag für Patient*innen\, Angehörige und Interessierte im Rahmen der Reihe „Herztöne 2023“. Die Vorträge der Reihe finden jeden ersten Dienstag im Monat ab 18.00 Uhr im StartRaum statt. Weitere Informationen zu den „Herztönen 2023“ finden Sie unter: herzzentrum.umg.eu/herztoene \nDer Eintritt ist frei\, eine Anmeldung ist jedoch erforderlich: \nTel. 0551 39-65044 \nE-Mail: herzzentrum@med.uni-goettingen.de
URL:https://www.herzkind.de/termin/umg-goettingen-herztoene-2023/
ATTACH;FMTTYPE=image/jpeg:https://www.herzkind.de/medien/2023/02/unbenannt.jpg
END:VEVENT
END:VCALENDAR