BEGIN:VCALENDAR
VERSION:2.0
PRODID:-//Herzkind e.V. - ECPv6.15.20//NONSGML v1.0//EN
CALSCALE:GREGORIAN
METHOD:PUBLISH
X-WR-CALNAME:Herzkind e.V.
X-ORIGINAL-URL:https://www.herzkind.de
X-WR-CALDESC:Veranstaltungen für Herzkind e.V.
REFRESH-INTERVAL;VALUE=DURATION:PT1H
X-Robots-Tag:noindex
X-PUBLISHED-TTL:PT1H
BEGIN:VTIMEZONE
TZID:Europe/Berlin
BEGIN:DAYLIGHT
TZOFFSETFROM:+0100
TZOFFSETTO:+0200
TZNAME:CEST
DTSTART:20220327T010000
END:DAYLIGHT
BEGIN:STANDARD
TZOFFSETFROM:+0200
TZOFFSETTO:+0100
TZNAME:CET
DTSTART:20221030T010000
END:STANDARD
BEGIN:DAYLIGHT
TZOFFSETFROM:+0100
TZOFFSETTO:+0200
TZNAME:CEST
DTSTART:20230326T010000
END:DAYLIGHT
BEGIN:STANDARD
TZOFFSETFROM:+0200
TZOFFSETTO:+0100
TZNAME:CET
DTSTART:20231029T010000
END:STANDARD
BEGIN:DAYLIGHT
TZOFFSETFROM:+0100
TZOFFSETTO:+0200
TZNAME:CEST
DTSTART:20240331T010000
END:DAYLIGHT
BEGIN:STANDARD
TZOFFSETFROM:+0200
TZOFFSETTO:+0100
TZNAME:CET
DTSTART:20241027T010000
END:STANDARD
END:VTIMEZONE
BEGIN:VEVENT
DTSTART;VALUE=DATE:20230226
DTEND;VALUE=DATE:20230306
DTSTAMP:20260424T001223
CREATED:20221103T112044Z
LAST-MODIFIED:20230117T091319Z
UID:3060-1677369600-1678060799@www.herzkind.de
SUMMARY:Skiwoche der Kinderherzstiftung
DESCRIPTION:Skifreizeit für Kinder und Jugendliche mit angeborenem Herzfehler ab 9 Jahren \nWann: 26. Februar – 5. März 2023 \nWo: Achenkirch/ Österreich \nKosten: 275 Euro pro Person \nAnmeldeschluss: 31. Oktober 2022 \nUnter ärztlicher Aufsicht bekommen Anfänger durch ausgebildete Skilehrer das Skifahren vermittelt. Fortgeschrittene verbessern ihre Fahrtechnik. Jeder Teilnehmer wird entsprechend seiner Vorkenntnisse und seiner individuellen Belastungsgrenze gefördert und gefordert. Die Anreise per Bus ab Frankfurt\, Unterkunft\, Vollpension und Skipass sind im Reisepreis enthalten. \nWeitere Informationen unter: https://www.herzstiftung.de/leben-mit-angeborenem-herzfehler/angebote-und-service/freizeiten-herzfehler \n  \nFür die Anmeldung melden Sie sich bitte bei: \nKai Rüenbrink\, Leiter der Kinderherzstiftung \nTel.: 069 955128-145 \nMail: kinderherzstiftung@herzstiftung.de
URL:https://www.herzkind.de/termin/skiwoche-der-kinderherzstiftung/
ATTACH;FMTTYPE=image/jpeg:https://www.herzkind.de/medien/2022/11/boy-g7e94bffe3_1920.jpg
END:VEVENT
BEGIN:VEVENT
DTSTART;VALUE=DATE:20230301
DTEND;VALUE=DATE:20230302
DTSTAMP:20260424T001223
CREATED:20230110T094302Z
LAST-MODIFIED:20230110T094302Z
UID:3618-1677628800-1677715199@www.herzkind.de
SUMMARY:KG Dresden: Elternstammtisch
DESCRIPTION:Die Kontaktgruppe Dresden lädt alle Interessierten herzlich zum Elternstammtisch ein. \nDie Veranstaltung beginnt um 19:00 Uhr. Treffpunkt und weitere Informationen sowie Anmeldung bitte bei der Kontaktgruppenleiterin Heike Wessel unter kinderherzen@t-online.de oder bei Katharina Krieg unter krieg-katharina@gmx.de.
URL:https://www.herzkind.de/termin/kg-dresden-elternstammtisch-6/
ATTACH;FMTTYPE=image/jpeg:https://www.herzkind.de/medien/2022/06/playmobil-g24c53e0cd_1920.jpg
END:VEVENT
BEGIN:VEVENT
DTSTART;TZID=Europe/Berlin:20230301T170000
DTEND;TZID=Europe/Berlin:20230301T190000
DTSTAMP:20260424T001223
CREATED:20230214T124751Z
LAST-MODIFIED:20230214T124751Z
UID:3733-1677690000-1677697200@www.herzkind.de
SUMMARY:Berliner Powerherzen: Themenstammtisch "Reisen mit angeborenem Herzfehler"
DESCRIPTION:Wann: Mittwoch\, den 01. März 2023 von 17:00-19:00 Uhr \nWo: Bremer Höhle/ Hybridveranstaltung \nDie Berliner Powerherzen freuen sich\, als Referenten für den Stammtisch Dr. med. Guido Hafenkämper und Dr. med. Thomas Boeckel aus der Kinderkardiologischen Praxis Wilmersdorf begrüßen zu dürfen. \nDer Stammtisch richtet sich nicht nur an EMAHs\, sondern auch an Eltern mit Herzkindern/ Jugendliche mit AHF. \n+++ \nFür den Stammtisch soll ein Fragenkatalog erstellt werden\, Fragen können bis Freitag\, den 17. Februar 2023 an info@berliner-powerherzen.de gesendet werden. \n+++ \nDie Berliner Powerherzen freuen sich über eine rege Teilnahme. Anmeldung bis 28. Februar 2023 unter info@berliner-powerherzen.de \n+++ \nWeiterhin soll der Stammtisch als Hybrid-Veranstaltung stattfinden. Zur digitalen Teilnahme sendet ihr eine Mail mit dem Zusatz ONLINE an info@berliner-powerherzen.de. Link und Kennwort erhaltet ihr anschließend per Mail. \n  \n 
URL:https://www.herzkind.de/termin/berliner-powerherzen-themenstammtisch-reisen-mit-angeborenem-herzfehler/
ATTACH;FMTTYPE=image/png:https://www.herzkind.de/medien/2023/02/communicate-ga399eb568_1280.png
END:VEVENT
END:VCALENDAR