BEGIN:VCALENDAR
VERSION:2.0
PRODID:-//Herzkind e.V. - ECPv6.15.20//NONSGML v1.0//EN
CALSCALE:GREGORIAN
METHOD:PUBLISH
X-WR-CALNAME:Herzkind e.V.
X-ORIGINAL-URL:https://www.herzkind.de
X-WR-CALDESC:Veranstaltungen für Herzkind e.V.
REFRESH-INTERVAL;VALUE=DURATION:PT1H
X-Robots-Tag:noindex
X-PUBLISHED-TTL:PT1H
BEGIN:VTIMEZONE
TZID:Europe/Berlin
BEGIN:DAYLIGHT
TZOFFSETFROM:+0100
TZOFFSETTO:+0200
TZNAME:CEST
DTSTART:20210328T010000
END:DAYLIGHT
BEGIN:STANDARD
TZOFFSETFROM:+0200
TZOFFSETTO:+0100
TZNAME:CET
DTSTART:20211031T010000
END:STANDARD
BEGIN:DAYLIGHT
TZOFFSETFROM:+0100
TZOFFSETTO:+0200
TZNAME:CEST
DTSTART:20220327T010000
END:DAYLIGHT
BEGIN:STANDARD
TZOFFSETFROM:+0200
TZOFFSETTO:+0100
TZNAME:CET
DTSTART:20221030T010000
END:STANDARD
BEGIN:DAYLIGHT
TZOFFSETFROM:+0100
TZOFFSETTO:+0200
TZNAME:CEST
DTSTART:20230326T010000
END:DAYLIGHT
BEGIN:STANDARD
TZOFFSETFROM:+0200
TZOFFSETTO:+0100
TZNAME:CET
DTSTART:20231029T010000
END:STANDARD
END:VTIMEZONE
BEGIN:VEVENT
DTSTART;VALUE=DATE:20221117
DTEND;VALUE=DATE:20221118
DTSTAMP:20260423T160335
CREATED:20221104T121922Z
LAST-MODIFIED:20221104T121922Z
UID:3072-1668643200-1668729599@www.herzkind.de
SUMMARY:Laterne laufen zum Weltfrühgeborenentag
DESCRIPTION:Universitätsmedizin Göttingen/ Kleine Löwen e.V. \nWir möchten mit euch Laterne laufen\, um in Göttingen ein Lichtzeichen für Frühgeborene zu setzen! \nWir freuen uns über jeden\, der mitkommt. \nMaskottchen Pauli ist auch dabei! \n  \nWann: Donnerstag\, 17. November 2022\, ab 17:00 Uhr \nWo: Vor dem UMG-Osteingang \nAnmeldung: Carina Krause\, Tel. 0551/291 790 02\, Mail: info@kleineloewen.de\, Web: www.kleineloewen.de
URL:https://www.herzkind.de/termin/laterne-laufen-zum-weltfruehgeborenentag/
ATTACH;FMTTYPE=image/jpeg:https://www.herzkind.de/medien/2022/11/weltfuehchentag-e1667563879389.jpg
END:VEVENT
END:VCALENDAR