BEGIN:VCALENDAR
VERSION:2.0
PRODID:-//Herzkind e.V. - ECPv6.15.20//NONSGML v1.0//EN
CALSCALE:GREGORIAN
METHOD:PUBLISH
X-ORIGINAL-URL:https://www.herzkind.de
X-WR-CALDESC:Veranstaltungen für Herzkind e.V.
REFRESH-INTERVAL;VALUE=DURATION:PT1H
X-Robots-Tag:noindex
X-PUBLISHED-TTL:PT1H
BEGIN:VTIMEZONE
TZID:Europe/Berlin
BEGIN:DAYLIGHT
TZOFFSETFROM:+0100
TZOFFSETTO:+0200
TZNAME:CEST
DTSTART:20210328T010000
END:DAYLIGHT
BEGIN:STANDARD
TZOFFSETFROM:+0200
TZOFFSETTO:+0100
TZNAME:CET
DTSTART:20211031T010000
END:STANDARD
BEGIN:DAYLIGHT
TZOFFSETFROM:+0100
TZOFFSETTO:+0200
TZNAME:CEST
DTSTART:20220327T010000
END:DAYLIGHT
BEGIN:STANDARD
TZOFFSETFROM:+0200
TZOFFSETTO:+0100
TZNAME:CET
DTSTART:20221030T010000
END:STANDARD
BEGIN:DAYLIGHT
TZOFFSETFROM:+0100
TZOFFSETTO:+0200
TZNAME:CEST
DTSTART:20230326T010000
END:DAYLIGHT
BEGIN:STANDARD
TZOFFSETFROM:+0200
TZOFFSETTO:+0100
TZNAME:CET
DTSTART:20231029T010000
END:STANDARD
END:VTIMEZONE
BEGIN:VEVENT
DTSTART;VALUE=DATE:20221106
DTEND;VALUE=DATE:20221107
DTSTAMP:20260421T211202
CREATED:20220908T084954Z
LAST-MODIFIED:20220908T093235Z
UID:2846-1667692800-1667779199@www.herzkind.de
SUMMARY:KG Braunschweig: Winterspaziergang in Riddagshausen
DESCRIPTION:Am 6. November lädt die Kontaktgruppe Braunschweig alle Interessierten zu einem Spaziergang durch die Buchhorst in Riddagshausen ein. Der Spaziergang startet um 11:00 Uhr. Wer möchte\, kann im Anschluss gern einen gemeinsamen Mittagstisch im Hotel Aquarius\, Ebertallee 44g\, 38104 Braunschweig\, einnehmen. \nBei Interesse und auch für weitere Informationen und die Anmeldung bitte melden bei Tanja Gebert\, Mail: familie.gebert@gmx.de.
URL:https://www.herzkind.de/termin/kg-braunschweig-winterspaziergang-in-riddagshausen/
LOCATION:Hotel Aquarius Baunschweig\, Ebertallee 44g\, Braunschweig\, Niedersachsen\, 38104
ATTACH;FMTTYPE=image/jpeg:https://www.herzkind.de/medien/2022/09/avenue-ge69eb772f_1920.jpg
END:VEVENT
END:VCALENDAR