BEGIN:VCALENDAR
VERSION:2.0
PRODID:-//Herzkind e.V. - ECPv6.15.20//NONSGML v1.0//EN
CALSCALE:GREGORIAN
METHOD:PUBLISH
X-ORIGINAL-URL:https://www.herzkind.de
X-WR-CALDESC:Veranstaltungen für Herzkind e.V.
REFRESH-INTERVAL;VALUE=DURATION:PT1H
X-Robots-Tag:noindex
X-PUBLISHED-TTL:PT1H
BEGIN:VTIMEZONE
TZID:Europe/Berlin
BEGIN:DAYLIGHT
TZOFFSETFROM:+0100
TZOFFSETTO:+0200
TZNAME:CEST
DTSTART:20210328T010000
END:DAYLIGHT
BEGIN:STANDARD
TZOFFSETFROM:+0200
TZOFFSETTO:+0100
TZNAME:CET
DTSTART:20211031T010000
END:STANDARD
BEGIN:DAYLIGHT
TZOFFSETFROM:+0100
TZOFFSETTO:+0200
TZNAME:CEST
DTSTART:20220327T010000
END:DAYLIGHT
BEGIN:STANDARD
TZOFFSETFROM:+0200
TZOFFSETTO:+0100
TZNAME:CET
DTSTART:20221030T010000
END:STANDARD
BEGIN:DAYLIGHT
TZOFFSETFROM:+0100
TZOFFSETTO:+0200
TZNAME:CEST
DTSTART:20230326T010000
END:DAYLIGHT
BEGIN:STANDARD
TZOFFSETFROM:+0200
TZOFFSETTO:+0100
TZNAME:CET
DTSTART:20231029T010000
END:STANDARD
END:VTIMEZONE
BEGIN:VEVENT
DTSTART;VALUE=DATE:20221029
DTEND;VALUE=DATE:20221030
DTSTAMP:20260423T131227
CREATED:20220907T085721Z
LAST-MODIFIED:20220908T091944Z
UID:2826-1667001600-1667087999@www.herzkind.de
SUMMARY:Berliner Powerherzen: Gruppentreffen im Technikmuseum
DESCRIPTION:Seit Langem und von Vielen gewünscht\, nun ist es soweit: Wir gehen in das Technikmuseum. Am 29.10.22 um 13 Uhr laden wir alle Großen und Kleinen ganz herzlich dazu ein. \nDas Technikmuseum bietet verschiedene Dauerausstellungen\, wie die Luft- und Raumfahrt\, die Nachrichtetechnik\, „Alles Zucker“ und Weitere oder besucht den Museumspark. Ihr könnt auch die zurzeit stattfindenden Sonderausstellungen besuchen wie „Alltag an Schienen“\, „Zug der Zukunft“ oder „Projekt Lightspeed“. \nDer Eintritt als Gruppe (10 Personen) kostet 5 Euro\, ermäßigt 4 Euro. \nWenn ihr Interesse habt\, dabei zu sein\, dann schreibt bitte bis zum 19.10.22 eine kurze E-Mail an info@berliner-powerherzen.de. \nWir freuen uns auf Eure Anmeldung! \nEure Berliner Powerherzen
URL:https://www.herzkind.de/termin/gruppentreffen-im-technikmuseum/
LOCATION:Technikmuseum Berlin\, Trebbiner Str. 9\, Berlin\, Berlin\, 10963
ATTACH;FMTTYPE=image/jpeg:https://www.herzkind.de/medien/2022/09/machine-g498b9edd0_1280.jpg
END:VEVENT
END:VCALENDAR