BEGIN:VCALENDAR
VERSION:2.0
PRODID:-//Herzkind e.V. - ECPv6.15.20//NONSGML v1.0//EN
CALSCALE:GREGORIAN
METHOD:PUBLISH
X-ORIGINAL-URL:https://www.herzkind.de
X-WR-CALDESC:Veranstaltungen für Herzkind e.V.
REFRESH-INTERVAL;VALUE=DURATION:PT1H
X-Robots-Tag:noindex
X-PUBLISHED-TTL:PT1H
BEGIN:VTIMEZONE
TZID:Europe/Berlin
BEGIN:DAYLIGHT
TZOFFSETFROM:+0100
TZOFFSETTO:+0200
TZNAME:CEST
DTSTART:20210328T010000
END:DAYLIGHT
BEGIN:STANDARD
TZOFFSETFROM:+0200
TZOFFSETTO:+0100
TZNAME:CET
DTSTART:20211031T010000
END:STANDARD
BEGIN:DAYLIGHT
TZOFFSETFROM:+0100
TZOFFSETTO:+0200
TZNAME:CEST
DTSTART:20220327T010000
END:DAYLIGHT
BEGIN:STANDARD
TZOFFSETFROM:+0200
TZOFFSETTO:+0100
TZNAME:CET
DTSTART:20221030T010000
END:STANDARD
BEGIN:DAYLIGHT
TZOFFSETFROM:+0100
TZOFFSETTO:+0200
TZNAME:CEST
DTSTART:20230326T010000
END:DAYLIGHT
BEGIN:STANDARD
TZOFFSETFROM:+0200
TZOFFSETTO:+0100
TZNAME:CET
DTSTART:20231029T010000
END:STANDARD
END:VTIMEZONE
BEGIN:VEVENT
DTSTART;VALUE=DATE:20221015
DTEND;VALUE=DATE:20221016
DTSTAMP:20260421T182749
CREATED:20220908T085553Z
LAST-MODIFIED:20220908T085553Z
UID:2852-1665792000-1665878399@www.herzkind.de
SUMMARY:KG Berlin: Elternstammtisch
DESCRIPTION:Die Kontaktgruppe Berlin lädt alle Interessierten herzlich zum Elternstammtisch ein. \nCoronabedingt wird um eine kurze Anmeldung bei Dörthe Schwenk unter doerthe.schwenk@googlemail.com gebeten. Themenvorschläge sind immer willkommen! Der Treffpunkt und die Uhrzeit werden bei Anmeldung bekanntgegeben.
URL:https://www.herzkind.de/termin/kg-berlin-elternstammtisch/
ATTACH;FMTTYPE=image/jpeg:https://www.herzkind.de/medien/2022/06/playmobil-g24c53e0cd_1920.jpg
END:VEVENT
END:VCALENDAR