BEGIN:VCALENDAR
VERSION:2.0
PRODID:-//Herzkind e.V. - ECPv6.15.20//NONSGML v1.0//EN
CALSCALE:GREGORIAN
METHOD:PUBLISH
X-ORIGINAL-URL:https://www.herzkind.de
X-WR-CALDESC:Veranstaltungen für Herzkind e.V.
REFRESH-INTERVAL;VALUE=DURATION:PT1H
X-Robots-Tag:noindex
X-PUBLISHED-TTL:PT1H
BEGIN:VTIMEZONE
TZID:Europe/Berlin
BEGIN:DAYLIGHT
TZOFFSETFROM:+0100
TZOFFSETTO:+0200
TZNAME:CEST
DTSTART:20210328T010000
END:DAYLIGHT
BEGIN:STANDARD
TZOFFSETFROM:+0200
TZOFFSETTO:+0100
TZNAME:CET
DTSTART:20211031T010000
END:STANDARD
BEGIN:DAYLIGHT
TZOFFSETFROM:+0100
TZOFFSETTO:+0200
TZNAME:CEST
DTSTART:20220327T010000
END:DAYLIGHT
BEGIN:STANDARD
TZOFFSETFROM:+0200
TZOFFSETTO:+0100
TZNAME:CET
DTSTART:20221030T010000
END:STANDARD
BEGIN:DAYLIGHT
TZOFFSETFROM:+0100
TZOFFSETTO:+0200
TZNAME:CEST
DTSTART:20230326T010000
END:DAYLIGHT
BEGIN:STANDARD
TZOFFSETFROM:+0200
TZOFFSETTO:+0100
TZNAME:CET
DTSTART:20231029T010000
END:STANDARD
END:VTIMEZONE
BEGIN:VEVENT
DTSTART;TZID=Europe/Berlin:20221010T170000
DTEND;TZID=Europe/Berlin:20221010T190000
DTSTAMP:20260421T171109
CREATED:20220907T085208Z
LAST-MODIFIED:20220907T085846Z
UID:2823-1665421200-1665428400@www.herzkind.de
SUMMARY:Themen-Stammtisch der Berliner Powerherzen: Schwerbehindertenausweis
DESCRIPTION:Schwerbehindertenausweis – vom Antrag bis zum Widerspruch. Welche Vorteile oder welche Nachteile habe ich? \nHerr Eckhard Schrader vom Landesamt für Gesundheit und Soziales Berlin – Versorgungsamt wird unsere Fragen beantworten. \nHabt Ihr Fragen? Dann sendet uns die Fragen bis zum 26.09.2022 an: info@berlinerpowerherzen.de . \nEs handelt sich um eine Präsenzveranstaltung. Aus organisatorischen Gründen bitten wir um eine Anmeldung unter: info@berliner-powerherzen.de. \nVielen Dank für Euer Verständnis. \nWir freuen uns\, Euch bei unserem Stammtisch begrüßen zu können. \nEure Berliner Powerherzen
URL:https://www.herzkind.de/termin/themen-stammtisch-schwerbehindertenausweis/
LOCATION:Bremer Höhle\, Buchholzer Straße 16\, Berlin\, 10437\, Germany
ATTACH;FMTTYPE=image/jpeg:https://www.herzkind.de/medien/2022/09/paragraph-ge731e8ac5_1920.jpg
END:VEVENT
END:VCALENDAR