BEGIN:VCALENDAR
VERSION:2.0
PRODID:-//Herzkind e.V. - ECPv6.15.20//NONSGML v1.0//EN
CALSCALE:GREGORIAN
METHOD:PUBLISH
X-ORIGINAL-URL:https://www.herzkind.de
X-WR-CALDESC:Veranstaltungen für Herzkind e.V.
REFRESH-INTERVAL;VALUE=DURATION:PT1H
X-Robots-Tag:noindex
X-PUBLISHED-TTL:PT1H
BEGIN:VTIMEZONE
TZID:Europe/Berlin
BEGIN:DAYLIGHT
TZOFFSETFROM:+0100
TZOFFSETTO:+0200
TZNAME:CEST
DTSTART:20210328T010000
END:DAYLIGHT
BEGIN:STANDARD
TZOFFSETFROM:+0200
TZOFFSETTO:+0100
TZNAME:CET
DTSTART:20211031T010000
END:STANDARD
BEGIN:DAYLIGHT
TZOFFSETFROM:+0100
TZOFFSETTO:+0200
TZNAME:CEST
DTSTART:20220327T010000
END:DAYLIGHT
BEGIN:STANDARD
TZOFFSETFROM:+0200
TZOFFSETTO:+0100
TZNAME:CET
DTSTART:20221030T010000
END:STANDARD
BEGIN:DAYLIGHT
TZOFFSETFROM:+0100
TZOFFSETTO:+0200
TZNAME:CEST
DTSTART:20230326T010000
END:DAYLIGHT
BEGIN:STANDARD
TZOFFSETFROM:+0200
TZOFFSETTO:+0100
TZNAME:CET
DTSTART:20231029T010000
END:STANDARD
END:VTIMEZONE
BEGIN:VEVENT
DTSTART;VALUE=DATE:20220930
DTEND;VALUE=DATE:20221003
DTSTAMP:20260421T155223
CREATED:20220908T091856Z
LAST-MODIFIED:20220908T091856Z
UID:2865-1664496000-1664755199@www.herzkind.de
SUMMARY:Kinderherzstiftung: Wochenend-Seminar für Mütter
DESCRIPTION:Wochenend-Seminar für Mütter unter dem Motto „Mittendrin im Leben: Die Schätze des Alltags“ \nSeminarort: Haus Klara\, Kloster Oberzell 2\, 97299 Zell am See \nBei Interesse und für weitere Informationen und Anmeldung: https://www.herzstiftung.de/leben-mit-angeborenem-herzfehler.
URL:https://www.herzkind.de/termin/kinderherzstiftung-wochenend-seminar-fuer-muetter/
ATTACH;FMTTYPE=image/jpeg:https://www.herzkind.de/medien/2022/09/kite-g571df575d_1920.jpg
END:VEVENT
END:VCALENDAR