BEGIN:VCALENDAR
VERSION:2.0
PRODID:-//Herzkind e.V. - ECPv6.15.20//NONSGML v1.0//EN
CALSCALE:GREGORIAN
METHOD:PUBLISH
X-WR-CALNAME:Herzkind e.V.
X-ORIGINAL-URL:https://www.herzkind.de
X-WR-CALDESC:Veranstaltungen für Herzkind e.V.
REFRESH-INTERVAL;VALUE=DURATION:PT1H
X-Robots-Tag:noindex
X-PUBLISHED-TTL:PT1H
BEGIN:VTIMEZONE
TZID:Europe/Berlin
BEGIN:DAYLIGHT
TZOFFSETFROM:+0100
TZOFFSETTO:+0200
TZNAME:CEST
DTSTART:20210328T010000
END:DAYLIGHT
BEGIN:STANDARD
TZOFFSETFROM:+0200
TZOFFSETTO:+0100
TZNAME:CET
DTSTART:20211031T010000
END:STANDARD
BEGIN:DAYLIGHT
TZOFFSETFROM:+0100
TZOFFSETTO:+0200
TZNAME:CEST
DTSTART:20220327T010000
END:DAYLIGHT
BEGIN:STANDARD
TZOFFSETFROM:+0200
TZOFFSETTO:+0100
TZNAME:CET
DTSTART:20221030T010000
END:STANDARD
BEGIN:DAYLIGHT
TZOFFSETFROM:+0100
TZOFFSETTO:+0200
TZNAME:CEST
DTSTART:20230326T010000
END:DAYLIGHT
BEGIN:STANDARD
TZOFFSETFROM:+0200
TZOFFSETTO:+0100
TZNAME:CET
DTSTART:20231029T010000
END:STANDARD
END:VTIMEZONE
BEGIN:VEVENT
DTSTART;VALUE=DATE:20220902
DTEND;VALUE=DATE:20220904
DTSTAMP:20260421T171400
CREATED:20220816T112154Z
LAST-MODIFIED:20220816T112154Z
UID:2723-1662076800-1662249599@www.herzkind.de
SUMMARY:Organtransplantation im Kindes- & Jugendalter - Symposium der MHH
DESCRIPTION:Hybridveranstaltung des Transplantationszentrums der MH Hannover \nFreitag\, 2. September von 09.00-19.00 Uhr \nSamstag\, 3. September von 09.00-16.30 Uhr \nMedizinische Hochschule Hannover (MHH) \nCarl-Neuberg-Str. 1\, 30625 Hannover \nGebäude J1 – Hörsaal F und Hörsaal M \nsowie online. \nUm Anmeldung wird gebeten.\n \n„Internationale Expert*innen aus den verschiedenen Fachdisziplinen informieren in interdisziplinär besetzten Sitzungen über die aktuellsten Entwicklungen und Besonderheiten aus der Transplantationmedizin für Kinder und Jugendliche. Die Vorträge befassen sich auch mit psychosozialen Aspekten der Organtransplantation im Kindes- und Jugendalter. Niedergelassene Kolleg*innen\, Angehörige anderer Gesundheitsberufe\, interessierte Patient*innen und ihre Familien sind herzlich eingeladen teilzunehmen.“ (Auszug aus dem Programm zum Wissenschaftlichen Symposium Organtransplantation im Kindes- & Jugendalter) \nWeitere Informationen\, Anmeldung und Programm unter: https://www.mhh.de/symposium-kindertx
URL:https://www.herzkind.de/termin/organtransplantation-im-kindes-jugendalter-symposium-der-mhh/
LOCATION:Medizinische Hochschule Hannover\, Carl-Neuberg-Str. 1\, Hannover\, Niedersachsen\, 30625
ATTACH;FMTTYPE=image/jpeg:https://www.herzkind.de/medien/2022/08/programm-symposium_tx_kinder_seite_1.jpg
END:VEVENT
END:VCALENDAR