BEGIN:VCALENDAR
VERSION:2.0
PRODID:-//Herzkind e.V. - ECPv6.15.20//NONSGML v1.0//EN
CALSCALE:GREGORIAN
METHOD:PUBLISH
X-WR-CALNAME:Herzkind e.V.
X-ORIGINAL-URL:https://www.herzkind.de
X-WR-CALDESC:Veranstaltungen für Herzkind e.V.
REFRESH-INTERVAL;VALUE=DURATION:PT1H
X-Robots-Tag:noindex
X-PUBLISHED-TTL:PT1H
BEGIN:VTIMEZONE
TZID:Europe/Berlin
BEGIN:DAYLIGHT
TZOFFSETFROM:+0100
TZOFFSETTO:+0200
TZNAME:CEST
DTSTART:20210328T010000
END:DAYLIGHT
BEGIN:STANDARD
TZOFFSETFROM:+0200
TZOFFSETTO:+0100
TZNAME:CET
DTSTART:20211031T010000
END:STANDARD
BEGIN:DAYLIGHT
TZOFFSETFROM:+0100
TZOFFSETTO:+0200
TZNAME:CEST
DTSTART:20220327T010000
END:DAYLIGHT
BEGIN:STANDARD
TZOFFSETFROM:+0200
TZOFFSETTO:+0100
TZNAME:CET
DTSTART:20221030T010000
END:STANDARD
BEGIN:DAYLIGHT
TZOFFSETFROM:+0100
TZOFFSETTO:+0200
TZNAME:CEST
DTSTART:20230326T010000
END:DAYLIGHT
BEGIN:STANDARD
TZOFFSETFROM:+0200
TZOFFSETTO:+0100
TZNAME:CET
DTSTART:20231029T010000
END:STANDARD
END:VTIMEZONE
BEGIN:VEVENT
DTSTART;TZID=Europe/Berlin:20220823T190000
DTEND;TZID=Europe/Berlin:20220823T190000
DTSTAMP:20260423T211331
CREATED:20220622T120232Z
LAST-MODIFIED:20220817T094924Z
UID:2615-1661281200-1661281200@www.herzkind.de
SUMMARY:Kontaktgruppe Braunschweig/Wolfsburg - Stammtisch
DESCRIPTION:Die Kontaktgruppe Braunschweig/Wolfsburg – lädt in zwangloser Atmosphäre herzlichst zum Stammtisch ein \n  \nWann: Dienstag\, den 23.08.2022 um 19:00 Uhr \nWo: Restaurant Helena\, Leipziger Str. 92\, 38124 Braunschweig \n  \nMit dabei und offen für Fragen\, ist Herr Dr. Jens Bahlmann\, \nKinder- und EMAH zertifizierter Kardiologe aus der kinderkardiologischen Gemeinschaftspraxis in Braunschweig. \n  \nWir freuen uns über einen gemütlichen Abend und einen ungezwungenen Austausch. \nIhre Tanja Gebert \nNähere Informationen und Anmeldungen bitte bei Frau Tanja Gebert \nunter Mail: familie.gebert@gmx.de oder telefonisch 0160/94440369 \n  \n 
URL:https://www.herzkind.de/termin/kontaktgruppe-braunschweig-wolfsburg-stammtisch/
LOCATION:Restaurant Helena\, Leipziger Str. 92\, 38124 Braunschweig\, Niedersachsen
CATEGORIES:Kontaktgruppe Braunschweig/Wolfsburg
ATTACH;FMTTYPE=image/jpeg:https://www.herzkind.de/medien/2022/06/playmobil-g24c53e0cd_1920.jpg
END:VEVENT
END:VCALENDAR