BEGIN:VCALENDAR
VERSION:2.0
PRODID:-//Herzkind e.V. - ECPv6.15.20//NONSGML v1.0//EN
CALSCALE:GREGORIAN
METHOD:PUBLISH
X-WR-CALNAME:Herzkind e.V.
X-ORIGINAL-URL:https://www.herzkind.de
X-WR-CALDESC:Veranstaltungen für Herzkind e.V.
REFRESH-INTERVAL;VALUE=DURATION:PT1H
X-Robots-Tag:noindex
X-PUBLISHED-TTL:PT1H
BEGIN:VTIMEZONE
TZID:Europe/Berlin
BEGIN:DAYLIGHT
TZOFFSETFROM:+0100
TZOFFSETTO:+0200
TZNAME:CEST
DTSTART:20210328T010000
END:DAYLIGHT
BEGIN:STANDARD
TZOFFSETFROM:+0200
TZOFFSETTO:+0100
TZNAME:CET
DTSTART:20211031T010000
END:STANDARD
BEGIN:DAYLIGHT
TZOFFSETFROM:+0100
TZOFFSETTO:+0200
TZNAME:CEST
DTSTART:20220327T010000
END:DAYLIGHT
BEGIN:STANDARD
TZOFFSETFROM:+0200
TZOFFSETTO:+0100
TZNAME:CET
DTSTART:20221030T010000
END:STANDARD
BEGIN:DAYLIGHT
TZOFFSETFROM:+0100
TZOFFSETTO:+0200
TZNAME:CEST
DTSTART:20230326T010000
END:DAYLIGHT
BEGIN:STANDARD
TZOFFSETFROM:+0200
TZOFFSETTO:+0100
TZNAME:CET
DTSTART:20231029T010000
END:STANDARD
END:VTIMEZONE
BEGIN:VEVENT
DTSTART;VALUE=DATE:20220722
DTEND;VALUE=DATE:20220801
DTSTAMP:20260421T054859
CREATED:20220420T123153Z
LAST-MODIFIED:20220420T123153Z
UID:2457-1658448000-1659311999@www.herzkind.de
SUMMARY:Segeltörn für Jugendliche mit Herzfehler
DESCRIPTION:An unserer ärztlich betreuten Segelfreizeit können Jugendliche mit einem Herzfehler ab einem Alter von 14 Jahren teilnehmen. Unsere Segelgebiete werden wieder das Ijsselmeer\, das niederländische Wattenmeer und die Nordsee sein. Auch eine Fahrt über die weit verzweigten Kanalsysteme Frieslands ist denkbar. Start- und Zielhafen wird Enkhuizen sein. Übernachtet wird auf der „Moeke Zorn“\, unserem Traditionssegelschiff\, was allen großen Spaß macht. Begleitet werden wir von einer erfahrenen Ärztin\, durch deren medizinische Betreuung alle einen unbeschwerten Aufenthalt genießen können. Für die Anmeldung sind ein aktueller Arztbericht und ein Belastungs-EKG (nicht älter als 6 Monate) notwendig. \n\nReisezeitraum: 22. – 31. Juli 2022\nReiseroute: von Enkhuizen über das Ijsselmeer und das niederländische Wattenmeer\nKosten: 275\,- €\nMindestalter: 14 Jahre\nAnmeldeschluss: 31. Mai 2022\n\nIm Preis sind alle Leistungen wie Charter\, Übernachtung\, Verpflegung etc. enthalten. Lediglich An- und Abreise sind nicht dabei und müssen selbst organisiert werden. Der Bahnhof liegt in Enkhuizen aber direkt am Hafen\, sodass das Schiff leicht zu erreichen ist. \nDie Kinderherzstiftung bietet die Möglichkeit einen Sozialplatz zu beantragen\, um den Reisepreis zu reduzieren. Bei Bedarf einfach mal nachfragen! \nAnmeldung: Kai Rüenbrink (Leitung Kinderherzstiftung) \nKontakt \n\nKinderherzstiftung der Deutschen Herzstiftung\n\nBockenheimer Landstr. 94-96 \n60323 Frankfurt am Main \n\nTelefon: 069 955128-145\nFax: 069 955128-345\nkinderherzstiftung@herzstiftung.de
URL:https://www.herzkind.de/termin/segeltoern-fuer-jugendliche-mit-herzfehler/
ATTACH;FMTTYPE=image/jpeg:https://www.herzkind.de/medien/2022/04/sailing-ship-gac68976d8_1920.jpg
END:VEVENT
BEGIN:VEVENT
DTSTART;TZID=Europe/Berlin:20220731T103000
DTEND;TZID=Europe/Berlin:20220731T123000
DTSTAMP:20260421T054859
CREATED:20220712T092203Z
LAST-MODIFIED:20220712T092203Z
UID:2681-1659263400-1659270600@www.herzkind.de
SUMMARY:Kaffeefahrt auf dem Maschsee
DESCRIPTION:Liebe Mitglieder*innen\, \nam 31.07.2022 veranstaltet unsere Kontaktgruppe Hannover in der Zeit von 10:30 – 12:30 Uhr eine gemütliche Kaffeefahrt auf dem Maschsee. \nFür genauere Angaben und Buchung (bis zum 27.07.2022 möglich) wenden Sie sich bitte an unsere KG-Leitung Frau Anja Eichentopf\, Tel.: 0179/7581514 oder per Mail: a.eichentopf@web.de \n 
URL:https://www.herzkind.de/termin/kaffeefahrt-auf-dem-maschsee/
ATTACH;FMTTYPE=image/jpeg:https://www.herzkind.de/medien/2022/07/boat-2428692_1920.jpg
END:VEVENT
END:VCALENDAR