BEGIN:VCALENDAR
VERSION:2.0
PRODID:-//Herzkind e.V. - ECPv6.15.20//NONSGML v1.0//EN
CALSCALE:GREGORIAN
METHOD:PUBLISH
X-ORIGINAL-URL:https://www.herzkind.de
X-WR-CALDESC:Veranstaltungen für Herzkind e.V.
REFRESH-INTERVAL;VALUE=DURATION:PT1H
X-Robots-Tag:noindex
X-PUBLISHED-TTL:PT1H
BEGIN:VTIMEZONE
TZID:Europe/Berlin
BEGIN:DAYLIGHT
TZOFFSETFROM:+0100
TZOFFSETTO:+0200
TZNAME:CEST
DTSTART:20210328T010000
END:DAYLIGHT
BEGIN:STANDARD
TZOFFSETFROM:+0200
TZOFFSETTO:+0100
TZNAME:CET
DTSTART:20211031T010000
END:STANDARD
BEGIN:DAYLIGHT
TZOFFSETFROM:+0100
TZOFFSETTO:+0200
TZNAME:CEST
DTSTART:20220327T010000
END:DAYLIGHT
BEGIN:STANDARD
TZOFFSETFROM:+0200
TZOFFSETTO:+0100
TZNAME:CET
DTSTART:20221030T010000
END:STANDARD
BEGIN:DAYLIGHT
TZOFFSETFROM:+0100
TZOFFSETTO:+0200
TZNAME:CEST
DTSTART:20230326T010000
END:DAYLIGHT
BEGIN:STANDARD
TZOFFSETFROM:+0200
TZOFFSETTO:+0100
TZNAME:CET
DTSTART:20231029T010000
END:STANDARD
END:VTIMEZONE
BEGIN:VEVENT
DTSTART;TZID=Europe/Berlin:20220711T170000
DTEND;TZID=Europe/Berlin:20220711T190000
DTSTAMP:20260421T080007
CREATED:20220518T085444Z
LAST-MODIFIED:20220518T110449Z
UID:2487-1657558800-1657566000@www.herzkind.de
SUMMARY:Berliner Powerherzen – Stammtisch
DESCRIPTION:Wann:   \nMontag den 11.07.2022\, von 17.00 bis 19.00 Uhr \nWo: \nBremer Höhle\, Buchholzer Straße 16 Ecke Greifenhagener Straße\, 10437 Berlin-Prenzlauer Berg \n  \nDie Berliner Powerherzen bieten für alle Menschen und Angehörigen mit angeborenem Herzfehler Austausch und Beratung rund um den Herzfehler an. \nHier habt Ihr die Möglichkeit uns und wir Euch  in einer lockeren Runde kennenzulernen. Wir freuen uns Euch bei einem unserer monatlichen Stammtische begrüßen zu können \nEure Berliner Powerherzen \n  \nAnsprechpartner: \nTorsten Seifert\nBerliner – Powerherzen\nSelbsthilfegruppe Erwachsene mit angeborenem Herzfehler\nder Deutschen Herzstiftung e.V.\ntorsten.seifert@berliner-powerherzen.de\nMobil:0160 – 957 532 48\nwww.berliner-powerherzen.de
URL:https://www.herzkind.de/termin/berliner-powerherzen-stammtisch/
ATTACH;FMTTYPE=image/jpeg:https://www.herzkind.de/medien/2022/04/gruppe-mit-herz.jpg
END:VEVENT
END:VCALENDAR