BEGIN:VCALENDAR
VERSION:2.0
PRODID:-//Herzkind e.V. - ECPv6.15.20//NONSGML v1.0//EN
CALSCALE:GREGORIAN
METHOD:PUBLISH
X-ORIGINAL-URL:https://www.herzkind.de
X-WR-CALDESC:Veranstaltungen für Herzkind e.V.
REFRESH-INTERVAL;VALUE=DURATION:PT1H
X-Robots-Tag:noindex
X-PUBLISHED-TTL:PT1H
BEGIN:VTIMEZONE
TZID:Europe/Berlin
BEGIN:DAYLIGHT
TZOFFSETFROM:+0100
TZOFFSETTO:+0200
TZNAME:CEST
DTSTART:20210328T010000
END:DAYLIGHT
BEGIN:STANDARD
TZOFFSETFROM:+0200
TZOFFSETTO:+0100
TZNAME:CET
DTSTART:20211031T010000
END:STANDARD
BEGIN:DAYLIGHT
TZOFFSETFROM:+0100
TZOFFSETTO:+0200
TZNAME:CEST
DTSTART:20220327T010000
END:DAYLIGHT
BEGIN:STANDARD
TZOFFSETFROM:+0200
TZOFFSETTO:+0100
TZNAME:CET
DTSTART:20221030T010000
END:STANDARD
BEGIN:DAYLIGHT
TZOFFSETFROM:+0100
TZOFFSETTO:+0200
TZNAME:CEST
DTSTART:20230326T010000
END:DAYLIGHT
BEGIN:STANDARD
TZOFFSETFROM:+0200
TZOFFSETTO:+0100
TZNAME:CET
DTSTART:20231029T010000
END:STANDARD
END:VTIMEZONE
BEGIN:VEVENT
DTSTART;TZID=Europe/Berlin:20220702T120000
DTEND;TZID=Europe/Berlin:20220702T160000
DTSTAMP:20260420T193524
CREATED:20220607T105245Z
LAST-MODIFIED:20220607T105657Z
UID:2526-1656763200-1656777600@www.herzkind.de
SUMMARY:Sommerfest des Ronald McDonald Hauses und der Oase Erlangen
DESCRIPTION:Liebe Familien\, Freunde und Nachbarn\, \nam Samstag\, den 02. Juli 2022 wird es heldenhaft im Innenhof des Ronald McDonald Hauses. Es haben sich echte Superhelden bei uns angekündigt und auch die Helden des Alltags von Polizei und Feuerwehr werden dabei sein. Aber die wahren Superhelden sind die Kinder und Familien bei uns im Haus und in der Oase. Daher freuen wir uns\, wenn viele als Superhelden verkleidet kommen – und eine echte Künstlerin wird die Helden verkleiden\, die keine Maske haben. Selbstverständlich wird es wieder eine Tombola mit tollen Preisen geben und für das leibliche Wohl ist auch gesorgt. \nWir freuen uns auf Ihr/Euer Kommen! \n  \nDas Team des Ronald McDonald Hauses und der Ronald McDonald Oase Erlangen \n  \nHINWEIS: \nFür Erwachsene gilt die 2G-Regel\, für Kinder 3G. Bitte testen Sie sich zudem vorab zuhause. Das Fest findet draußen statt\, innen (z.B. Toilette) ist eine FFP2-Maske verpflichtend.
URL:https://www.herzkind.de/termin/sommerfest-des-ronald-mcdonald-hauses-und-der-oase-erlangen/
LOCATION:Ronald McDonald Haus Erlangen\, Turnstraße 9\, Erlangen\, Bayern\, 91054\, Germany
ATTACH;FMTTYPE=image/jpeg:https://www.herzkind.de/medien/2022/06/superheroes-1560256_1920.jpg
END:VEVENT
END:VCALENDAR