BEGIN:VCALENDAR
VERSION:2.0
PRODID:-//Herzkind e.V. - ECPv6.15.20//NONSGML v1.0//EN
CALSCALE:GREGORIAN
METHOD:PUBLISH
X-WR-CALNAME:Herzkind e.V.
X-ORIGINAL-URL:https://www.herzkind.de
X-WR-CALDESC:Veranstaltungen für Herzkind e.V.
REFRESH-INTERVAL;VALUE=DURATION:PT1H
X-Robots-Tag:noindex
X-PUBLISHED-TTL:PT1H
BEGIN:VTIMEZONE
TZID:Europe/Berlin
BEGIN:DAYLIGHT
TZOFFSETFROM:+0100
TZOFFSETTO:+0200
TZNAME:CEST
DTSTART:20210328T010000
END:DAYLIGHT
BEGIN:STANDARD
TZOFFSETFROM:+0200
TZOFFSETTO:+0100
TZNAME:CET
DTSTART:20211031T010000
END:STANDARD
BEGIN:DAYLIGHT
TZOFFSETFROM:+0100
TZOFFSETTO:+0200
TZNAME:CEST
DTSTART:20220327T010000
END:DAYLIGHT
BEGIN:STANDARD
TZOFFSETFROM:+0200
TZOFFSETTO:+0100
TZNAME:CET
DTSTART:20221030T010000
END:STANDARD
BEGIN:DAYLIGHT
TZOFFSETFROM:+0100
TZOFFSETTO:+0200
TZNAME:CEST
DTSTART:20230326T010000
END:DAYLIGHT
BEGIN:STANDARD
TZOFFSETFROM:+0200
TZOFFSETTO:+0100
TZNAME:CET
DTSTART:20231029T010000
END:STANDARD
END:VTIMEZONE
BEGIN:VEVENT
DTSTART;TZID=Europe/Berlin:20220319T100000
DTEND;TZID=Europe/Berlin:20220319T120000
DTSTAMP:20260420T180638
CREATED:20220315T072130Z
LAST-MODIFIED:20220315T073052Z
UID:2405-1647684000-1647691200@www.herzkind.de
SUMMARY:Einladung zur ordentlichen Mitgliederversammlung 2022
DESCRIPTION:Liebe Mitglieder\,\nhiermit lade ich Sie herzlich zur ordentlichen Mitgliederversammlung am 19.03.2022 um 10.00 Uhr in das Mütterzentrum Braunschweig e.V.\, Hugo-Luther-Str. 60\, 38118 Braunschweig ein.\nDie Tagesordnung sieht folgende Punkte vor: \n  \n\nBegrüßung\, Feststellung der Beschlussfähigkeit\nGenehmigung des Protokolls der MV vom 17.07.2021\nGenehmigung der Tagesordnung\nJahresbericht 2021\nKassenbericht 2021\nBericht der Kassenprüfer\nEntlastung des Vorstandes\nWahl eines Wahlleiters zur Vorstandswahl\nVorstandswahl\nSatzungsänderung\n\nDie Satzung wird dahingehend geändert\, dass § 7 Vorstand um folgenden Absatz 8 ergänzt wird: \n(8) Neben den gewählten Mitgliedern gehören der/die Geschäftsführer/innen auf Grund ihres Amtes dem Vorstand an. Die Geschäftsführer/innen haben volles Stimmrecht im Vorstand\, soweit nicht die Bestellung/ Abberufung eines/r Geschäftsführer/in und nicht die Überwachung der Geschäftsführung – einschließlich Entscheidungen zum Gehalt und eigene Vertragsinhalte – betroffen sind. Die gewählten Mitglieder sind berechtigt\, durch einfachen Mehrheitsbeschluss Geschäftsführer/innen aus dem Vorstand auszuschließen – auch wenn die Anstellung als Geschäftsführer/in noch fortbesteht. \n\nWahl eines Kassenprüfers\nJahresplanung 2022\nHaushaltsplanung 2022\nSonstiges\n\n  \nIch hoffe auf eine rege Teilnahme. Mit den besten Wünschen \n  \nIhre Margrit Hogendoorn \n\nVorsitzende
URL:https://www.herzkind.de/termin/einladung-zur-ordentlichen-mitgliederversammlung-2022/
LOCATION:Mütterzentrum Braunschweig e.V\, Hugo-Luther-Str. 60A\, Braunschweig\, 38118\, Germany
END:VEVENT
END:VCALENDAR