BEGIN:VCALENDAR
VERSION:2.0
PRODID:-//Herzkind e.V. - ECPv6.15.20//NONSGML v1.0//EN
CALSCALE:GREGORIAN
METHOD:PUBLISH
X-WR-CALNAME:Herzkind e.V.
X-ORIGINAL-URL:https://www.herzkind.de
X-WR-CALDESC:Veranstaltungen für Herzkind e.V.
REFRESH-INTERVAL;VALUE=DURATION:PT1H
X-Robots-Tag:noindex
X-PUBLISHED-TTL:PT1H
BEGIN:VTIMEZONE
TZID:Europe/Berlin
BEGIN:DAYLIGHT
TZOFFSETFROM:+0100
TZOFFSETTO:+0200
TZNAME:CEST
DTSTART:20200329T010000
END:DAYLIGHT
BEGIN:STANDARD
TZOFFSETFROM:+0200
TZOFFSETTO:+0100
TZNAME:CET
DTSTART:20201025T010000
END:STANDARD
BEGIN:DAYLIGHT
TZOFFSETFROM:+0100
TZOFFSETTO:+0200
TZNAME:CEST
DTSTART:20210328T010000
END:DAYLIGHT
BEGIN:STANDARD
TZOFFSETFROM:+0200
TZOFFSETTO:+0100
TZNAME:CET
DTSTART:20211031T010000
END:STANDARD
BEGIN:DAYLIGHT
TZOFFSETFROM:+0100
TZOFFSETTO:+0200
TZNAME:CEST
DTSTART:20220327T010000
END:DAYLIGHT
BEGIN:STANDARD
TZOFFSETFROM:+0200
TZOFFSETTO:+0100
TZNAME:CET
DTSTART:20221030T010000
END:STANDARD
END:VTIMEZONE
BEGIN:VEVENT
DTSTART;TZID=Europe/Berlin:20211222T080000
DTEND;TZID=Europe/Berlin:20211222T170000
DTSTAMP:20260421T163958
CREATED:20211222T105358Z
LAST-MODIFIED:20220209T082122Z
UID:2357-1640160000-1640192400@www.herzkind.de
SUMMARY:Liebe Leserinnen\, liebe Leser\,
DESCRIPTION:ein aufregendes Jahr liegt hinter uns. Auch in 2021 hatte uns ein Thema besonders fest im Griff: die Pandemie. \nDas war auch in diesem Jahr nicht immer leicht\, aber rückblickend haben wir diese Herausforderungen gut gemeistert und dieses besondere Jahr hat uns auch viele schöne Momente geschenkt. \nAuf diesem Wege wünschen wir Ihnen und Ihren Familien eine dennoch besinnliche Weihnachtszeit und vor allem Zeit zum Durchatmen und Reflektieren. \nLassen Sie uns die Zeit nutzen\, auch unter widrigen Umständen\, die schönste Zeit im Jahr zu genießen. \nJetzt zum Jahresende gibt es vieles\, was uns hoffnungsvoll auf 2022 blicken lässt. Familie\, Freunde und Zusammenhalten sind das\, was das Leben und vor allem die Weihnachtszeit reich machen. \nWir wünschen eine schöne Weihnachtszeit\, alles Gute und vor allem ganz viel Gesundheit für das neue Jahr. \nWir werden vom 22.12.2021 bis zum 04.01.2022 in den Weihnachtsferien sein. \nIhr HERZKIND – Team
URL:https://www.herzkind.de/termin/liebe-leserinnen-liebe-leser/
END:VEVENT
END:VCALENDAR