BEGIN:VCALENDAR
VERSION:2.0
PRODID:-//Herzkind e.V. - ECPv6.15.20//NONSGML v1.0//EN
CALSCALE:GREGORIAN
METHOD:PUBLISH
X-ORIGINAL-URL:https://www.herzkind.de
X-WR-CALDESC:Veranstaltungen für Herzkind e.V.
REFRESH-INTERVAL;VALUE=DURATION:PT1H
X-Robots-Tag:noindex
X-PUBLISHED-TTL:PT1H
BEGIN:VTIMEZONE
TZID:Europe/Berlin
BEGIN:DAYLIGHT
TZOFFSETFROM:+0100
TZOFFSETTO:+0200
TZNAME:CEST
DTSTART:20200329T010000
END:DAYLIGHT
BEGIN:STANDARD
TZOFFSETFROM:+0200
TZOFFSETTO:+0100
TZNAME:CET
DTSTART:20201025T010000
END:STANDARD
BEGIN:DAYLIGHT
TZOFFSETFROM:+0100
TZOFFSETTO:+0200
TZNAME:CEST
DTSTART:20210328T010000
END:DAYLIGHT
BEGIN:STANDARD
TZOFFSETFROM:+0200
TZOFFSETTO:+0100
TZNAME:CET
DTSTART:20211031T010000
END:STANDARD
BEGIN:DAYLIGHT
TZOFFSETFROM:+0100
TZOFFSETTO:+0200
TZNAME:CEST
DTSTART:20220327T010000
END:DAYLIGHT
BEGIN:STANDARD
TZOFFSETFROM:+0200
TZOFFSETTO:+0100
TZNAME:CET
DTSTART:20221030T010000
END:STANDARD
END:VTIMEZONE
BEGIN:VEVENT
DTSTART;TZID=Europe/Berlin:20211206T183000
DTEND;TZID=Europe/Berlin:20211206T200000
DTSTAMP:20260421T135618
CREATED:20210915T111411Z
LAST-MODIFIED:20211129T071412Z
UID:2204-1638815400-1638820800@www.herzkind.de
SUMMARY:BLEIBT DIR  DIE PUSTE WEG? Atemtraining für  Jugendliche und Erwachsene mit angeborenem Herzfehler ab 16 Jahre
DESCRIPTION:Liebe Interessierte\,\ngerne möchten wir euch die Möglichkeit zu einem Schnupperkurs zum Thema Atemtraining anbieten.\nHier findet ihr den Flyer Atemtraining 2021 – Berlin Brandenburg  mit allen wichtigen Informationen und entsprechenden Folgeterminen!\nEure Teilnahme könnt ihr jederzeit über folgende E-Mail: berlin-brandenburg@jemah.de bestätigen.
URL:https://www.herzkind.de/termin/bleibt-dir-die-puste-weg-atemtraining-fuer-jugendliche-und-erwachsene-mit-angeborenem-herzfehler/
LOCATION:Bremer Höhle\, Buchholzer Straße 16\, Berlin\, 10437\, Germany
ATTACH;FMTTYPE=image/png:https://www.herzkind.de/medien/2021/09/atmung-1106336_1920.png
ORGANIZER;CN="JEMAH e.V. Bundesverein Jugendliche und Erwachsene mit angeborenem Herzfehler e.V. Gesch%C3%A4ftsstelle":MAILTO:info@jemah.de
END:VEVENT
END:VCALENDAR